Workbook

Sheet Übersicht
A1: Arbeitszeiterfassung 2026: Jahresübersicht
A2: Name, Abteilung und Soll pro Tag hier einmal eintragen, die zwölf Monatsblätter übernehmen sie. Die Tabelle sammelt Ist, Soll und Saldo jedes Monats.
A3: Name
A4: Abteilung
A5: Soll pro Tag (Std.) | B5: 8
A7: Monat | B7: Ist (Std.) | C7: Soll (Std.) | D7: Saldo | E7: Saldo kumuliert | F7: Arbeitstage
A8: Januar | B8: ='Jan'!$F$39 -> 0 | C8: ='Jan'!$F$40 -> 176 | D8: =B8-C8 -> -176 | E8: =D8 -> -176 | F8: ='Jan'!$F$42 -> 0
A9: Februar | B9: ='Feb'!$F$39 -> 0 | C9: ='Feb'!$F$40 -> 160 | D9: =B9-C9 -> -160 | E9: =E8+D9 -> -336 | F9: ='Feb'!$F$42 -> 0
A10: März | B10: ='Mär'!$F$39 -> 0 | C10: ='Mär'!$F$40 -> 176 | D10: =B10-C10 -> -176 | E10: =E9+D10 -> -512 | F10: ='Mär'!$F$42 -> 0
A11: April | B11: ='Apr'!$F$39 -> 0 | C11: ='Apr'!$F$40 -> 176 | D11: =B11-C11 -> -176 | E11: =E10+D11 -> -688 | F11: ='Apr'!$F$42 -> 0
A12: Mai | B12: ='Mai'!$F$39 -> 0 | C12: ='Mai'!$F$40 -> 168 | D12: =B12-C12 -> -168 | E12: =E11+D12 -> -856 | F12: ='Mai'!$F$42 -> 0
A13: Juni | B13: ='Jun'!$F$39 -> 0 | C13: ='Jun'!$F$40 -> 176 | D13: =B13-C13 -> -176 | E13: =E12+D13 -> -1032 | F13: ='Jun'!$F$42 -> 0
A14: Juli | B14: ='Jul'!$F$39 -> 0 | C14: ='Jul'!$F$40 -> 184 | D14: =B14-C14 -> -184 | E14: =E13+D14 -> -1216 | F14: ='Jul'!$F$42 -> 0
A15: August | B15: ='Aug'!$F$39 -> 0 | C15: ='Aug'!$F$40 -> 168 | D15: =B15-C15 -> -168 | E15: =E14+D15 -> -1384 | F15: ='Aug'!$F$42 -> 0
A16: September | B16: ='Sep'!$F$39 -> 0 | C16: ='Sep'!$F$40 -> 176 | D16: =B16-C16 -> -176 | E16: =E15+D16 -> -1560 | F16: ='Sep'!$F$42 -> 0
A17: Oktober | B17: ='Okt'!$F$39 -> 0 | C17: ='Okt'!$F$40 -> 176 | D17: =B17-C17 -> -176 | E17: =E16+D17 -> -1736 | F17: ='Okt'!$F$42 -> 0
A18: November | B18: ='Nov'!$F$39 -> 0 | C18: ='Nov'!$F$40 -> 168 | D18: =B18-C18 -> -168 | E18: =E17+D18 -> -1904 | F18: ='Nov'!$F$42 -> 0
A19: Dezember | B19: ='Dez'!$F$39 -> 0 | C19: ='Dez'!$F$40 -> 184 | D19: =B19-C19 -> -184 | E19: =E18+D19 -> -2088 | F19: ='Dez'!$F$42 -> 0
A20: Jahr | B20: =SUM(B8:B19) -> 0 | C20: =SUM(C8:C19) -> 2088 | D20: =SUM(D8:D19) -> -2088 | F20: =SUM(F8:F19) -> 0
A22: Saldo ist Ist minus Soll: Ein Plus sind Überstunden, ein Minus fehlende Stunden. Das Soll zählt Montag bis Freitag; Feiertage tragen Sie im jeweiligen Monat mit Soll 0 ein, weil sie je Land und Bundesland verschieden sind.
A24: Arbeitszeit ohne Tabelle erfassen? Mit InShift stempelt das Team per App oder am Tablet, die Stunden kommen aus dem Dienstplan: inshift.app/de/

Sheet Jan
A1: Arbeitszeiterfassung Januar 2026
A2: Name, Abteilung und Soll pro Tag stehen auf dem Blatt Übersicht. Beginn und Ende im Format 8:00, die Pause in Minuten. Bei Feiertag, Urlaub oder Krankheit das Soll der Zeile auf 0 setzen.
A3: Name | B3: ='Übersicht'!$B$3 | E3: Monat | F3: 46023
A4: Abteilung | B4: ='Übersicht'!$B$4 | E4: Soll pro Tag | F4: ='Übersicht'!$B$5 -> 8 | G4: Std., Mo bis Fr
A6: Tag | B6: Datum | C6: Beginn | D6: Ende | E6: Pause (Min.) | F6: Arbeitszeit (Std.) | G6: Soll (Std.) | H6: Bemerkung
A7: =IF(ISNUMBER(B7),CHOOSE(WEEKDAY(B7),"So","Mo","Di","Mi","Do","Fr","Sa"),"") -> Do | B7: =IF(MONTH($F$3+0)=MONTH($F$3),$F$3+0,"") -> 46023 | F7: =IF(AND(ISNUMBER(C7),ISNUMBER(D7)),MAX(0,(D7-C7+IF(D7<C7,1,0))*24-IF(ISNUMBER(E7),E7,0)/60),0) -> 0 | G7: =IF(ISNUMBER(B7),IF(WEEKDAY(B7,2)<=5,$F$4,0),0) -> 8
A8: =IF(ISNUMBER(B8),CHOOSE(WEEKDAY(B8),"So","Mo","Di","Mi","Do","Fr","Sa"),"") -> Fr | B8: =IF(MONTH($F$3+1)=MONTH($F$3),$F$3+1,"") -> 46024 | F8: =IF(AND(ISNUMBER(C8),ISNUMBER(D8)),MAX(0,(D8-C8+IF(D8<C8,1,0))*24-IF(ISNUMBER(E8),E8,0)/60),0) -> 0 | G8: =IF(ISNUMBER(B8),IF(WEEKDAY(B8,2)<=5,$F$4,0),0) -> 8
A9: =IF(ISNUMBER(B9),CHOOSE(WEEKDAY(B9),"So","Mo","Di","Mi","Do","Fr","Sa"),"") -> Sa | B9: =IF(MONTH($F$3+2)=MONTH($F$3),$F$3+2,"") -> 46025 | F9: =IF(AND(ISNUMBER(C9),ISNUMBER(D9)),MAX(0,(D9-C9+IF(D9<C9,1,0))*24-IF(ISNUMBER(E9),E9,0)/60),0) -> 0 | G9: =IF(ISNUMBER(B9),IF(WEEKDAY(B9,2)<=5,$F$4,0),0) -> 0
A10: =IF(ISNUMBER(B10),CHOOSE(WEEKDAY(B10),"So","Mo","Di","Mi","Do","Fr","Sa"),"") -> So | B10: =IF(MONTH($F$3+3)=MONTH($F$3),$F$3+3,"") -> 46026 | F10: =IF(AND(ISNUMBER(C10),ISNUMBER(D10)),MAX(0,(D10-C10+IF(D10<C10,1,0))*24-IF(ISNUMBER(E10),E10,0)/60),0) -> 0 | G10: =IF(ISNUMBER(B10),IF(WEEKDAY(B10,2)<=5,$F$4,0),0) -> 0
A11: =IF(ISNUMBER(B11),CHOOSE(WEEKDAY(B11),"So","Mo","Di","Mi","Do","Fr","Sa"),"") -> Mo | B11: =IF(MONTH($F$3+4)=MONTH($F$3),$F$3+4,"") -> 46027 | F11: =IF(AND(ISNUMBER(C11),ISNUMBER(D11)),MAX(0,(D11-C11+IF(D11<C11,1,0))*24-IF(ISNUMBER(E11),E11,0)/60),0) -> 0 | G11: =IF(ISNUMBER(B11),IF(WEEKDAY(B11,2)<=5,$F$4,0),0) -> 8
A12: =IF(ISNUMBER(B12),CHOOSE(WEEKDAY(B12),"So","Mo","Di","Mi","Do","Fr","Sa"),"") -> Di | B12: =IF(MONTH($F$3+5)=MONTH($F$3),$F$3+5,"") -> 46028 | F12: =IF(AND(ISNUMBER(C12),ISNUMBER(D12)),MAX(0,(D12-C12+IF(D12<C12,1,0))*24-IF(ISNUMBER(E12),E12,0)/60),0) -> 0 | G12: =IF(ISNUMBER(B12),IF(WEEKDAY(B12,2)<=5,$F$4,0),0) -> 8
A13: =IF(ISNUMBER(B13),CHOOSE(WEEKDAY(B13),"So","Mo","Di","Mi","Do","Fr","Sa"),"") -> Mi | B13: =IF(MONTH($F$3+6)=MONTH($F$3),$F$3+6,"") -> 46029 | F13: =IF(AND(ISNUMBER(C13),ISNUMBER(D13)),MAX(0,(D13-C13+IF(D13<C13,1,0))*24-IF(ISNUMBER(E13),E13,0)/60),0) -> 0 | G13: =IF(ISNUMBER(B13),IF(WEEKDAY(B13,2)<=5,$F$4,0),0) -> 8
A14: =IF(ISNUMBER(B14),CHOOSE(WEEKDAY(B14),"So","Mo","Di","Mi","Do","Fr","Sa"),"") -> Do | B14: =IF(MONTH($F$3+7)=MONTH($F$3),$F$3+7,"") -> 46030 | F14: =IF(AND(ISNUMBER(C14),ISNUMBER(D14)),MAX(0,(D14-C14+IF(D14<C14,1,0))*24-IF(ISNUMBER(E14),E14,0)/60),0) -> 0 | G14: =IF(ISNUMBER(B14),IF(WEEKDAY(B14,2)<=5,$F$4,0),0) -> 8
A15: =IF(ISNUMBER(B15),CHOOSE(WEEKDAY(B15),"So","Mo","Di","Mi","Do","Fr","Sa"),"") -> Fr | B15: =IF(MONTH($F$3+8)=MONTH($F$3),$F$3+8,"") -> 46031 | F15: =IF(AND(ISNUMBER(C15),ISNUMBER(D15)),MAX(0,(D15-C15+IF(D15<C15,1,0))*24-IF(ISNUMBER(E15),E15,0)/60),0) -> 0 | G15: =IF(ISNUMBER(B15),IF(WEEKDAY(B15,2)<=5,$F$4,0),0) -> 8
A16: =IF(ISNUMBER(B16),CHOOSE(WEEKDAY(B16),"So","Mo","Di","Mi","Do","Fr","Sa"),"") -> Sa | B16: =IF(MONTH($F$3+9)=MONTH($F$3),$F$3+9,"") -> 46032 | F16: =IF(AND(ISNUMBER(C16),ISNUMBER(D16)),MAX(0,(D16-C16+IF(D16<C16,1,0))*24-IF(ISNUMBER(E16),E16,0)/60),0) -> 0 | G16: =IF(ISNUMBER(B16),IF(WEEKDAY(B16,2)<=5,$F$4,0),0) -> 0
A17: =IF(ISNUMBER(B17),CHOOSE(WEEKDAY(B17),"So","Mo","Di","Mi","Do","Fr","Sa"),"") -> So | B17: =IF(MONTH($F$3+10)=MONTH($F$3),$F$3+10,"") -> 46033 | F17: =IF(AND(ISNUMBER(C17),ISNUMBER(D17)),MAX(0,(D17-C17+IF(D17<C17,1,0))*24-IF(ISNUMBER(E17),E17,0)/60),0) -> 0 | G17: =IF(ISNUMBER(B17),IF(WEEKDAY(B17,2)<=5,$F$4,0),0) -> 0
A18: =IF(ISNUMBER(B18),CHOOSE(WEEKDAY(B18),"So","Mo","Di","Mi","Do","Fr","Sa"),"") -> Mo | B18: =IF(MONTH($F$3+11)=MONTH($F$3),$F$3+11,"") -> 46034 | F18: =IF(AND(ISNUMBER(C18),ISNUMBER(D18)),MAX(0,(D18-C18+IF(D18<C18,1,0))*24-IF(ISNUMBER(E18),E18,0)/60),0) -> 0 | G18: =IF(ISNUMBER(B18),IF(WEEKDAY(B18,2)<=5,$F$4,0),0) -> 8
A19: =IF(ISNUMBER(B19),CHOOSE(WEEKDAY(B19),"So","Mo","Di","Mi","Do","Fr","Sa"),"") -> Di | B19: =IF(MONTH($F$3+12)=MONTH($F$3),$F$3+12,"") -> 46035 | F19: =IF(AND(ISNUMBER(C19),ISNUMBER(D19)),MAX(0,(D19-C19+IF(D19<C19,1,0))*24-IF(ISNUMBER(E19),E19,0)/60),0) -> 0 | G19: =IF(ISNUMBER(B19),IF(WEEKDAY(B19,2)<=5,$F$4,0),0) -> 8
A20: =IF(ISNUMBER(B20),CHOOSE(WEEKDAY(B20),"So","Mo","Di","Mi","Do","Fr","Sa"),"") -> Mi | B20: =IF(MONTH($F$3+13)=MONTH($F$3),$F$3+13,"") -> 46036 | F20: =IF(AND(ISNUMBER(C20),ISNUMBER(D20)),MAX(0,(D20-C20+IF(D20<C20,1,0))*24-IF(ISNUMBER(E20),E20,0)/60),0) -> 0 | G20: =IF(ISNUMBER(B20),IF(WEEKDAY(B20,2)<=5,$F$4,0),0) -> 8
A21: =IF(ISNUMBER(B21),CHOOSE(WEEKDAY(B21),"So","Mo","Di","Mi","Do","Fr","Sa"),"") -> Do | B21: =IF(MONTH($F$3+14)=MONTH($F$3),$F$3+14,"") -> 46037 | F21: =IF(AND(ISNUMBER(C21),ISNUMBER(D21)),MAX(0,(D21-C21+IF(D21<C21,1,0))*24-IF(ISNUMBER(E21),E21,0)/60),0) -> 0 | G21: =IF(ISNUMBER(B21),IF(WEEKDAY(B21,2)<=5,$F$4,0),0) -> 8
A22: =IF(ISNUMBER(B22),CHOOSE(WEEKDAY(B22),"So","Mo","Di","Mi","Do","Fr","Sa"),"") -> Fr | B22: =IF(MONTH($F$3+15)=MONTH($F$3),$F$3+15,"") -> 46038 | F22: =IF(AND(ISNUMBER(C22),ISNUMBER(D22)),MAX(0,(D22-C22+IF(D22<C22,1,0))*24-IF(ISNUMBER(E22),E22,0)/60),0) -> 0 | G22: =IF(ISNUMBER(B22),IF(WEEKDAY(B22,2)<=5,$F$4,0),0) -> 8
A23: =IF(ISNUMBER(B23),CHOOSE(WEEKDAY(B23),"So","Mo","Di","Mi","Do","Fr","Sa"),"") -> Sa | B23: =IF(MONTH($F$3+16)=MONTH($F$3),$F$3+16,"") -> 46039 | F23: =IF(AND(ISNUMBER(C23),ISNUMBER(D23)),MAX(0,(D23-C23+IF(D23<C23,1,0))*24-IF(ISNUMBER(E23),E23,0)/60),0) -> 0 | G23: =IF(ISNUMBER(B23),IF(WEEKDAY(B23,2)<=5,$F$4,0),0) -> 0
A24: =IF(ISNUMBER(B24),CHOOSE(WEEKDAY(B24),"So","Mo","Di","Mi","Do","Fr","Sa"),"") -> So | B24: =IF(MONTH($F$3+17)=MONTH($F$3),$F$3+17,"") -> 46040 | F24: =IF(AND(ISNUMBER(C24),ISNUMBER(D24)),MAX(0,(D24-C24+IF(D24<C24,1,0))*24-IF(ISNUMBER(E24),E24,0)/60),0) -> 0 | G24: =IF(ISNUMBER(B24),IF(WEEKDAY(B24,2)<=5,$F$4,0),0) -> 0
A25: =IF(ISNUMBER(B25),CHOOSE(WEEKDAY(B25),"So","Mo","Di","Mi","Do","Fr","Sa"),"") -> Mo | B25: =IF(MONTH($F$3+18)=MONTH($F$3),$F$3+18,"") -> 46041 | F25: =IF(AND(ISNUMBER(C25),ISNUMBER(D25)),MAX(0,(D25-C25+IF(D25<C25,1,0))*24-IF(ISNUMBER(E25),E25,0)/60),0) -> 0 | G25: =IF(ISNUMBER(B25),IF(WEEKDAY(B25,2)<=5,$F$4,0),0) -> 8
A26: =IF(ISNUMBER(B26),CHOOSE(WEEKDAY(B26),"So","Mo","Di","Mi","Do","Fr","Sa"),"") -> Di | B26: =IF(MONTH($F$3+19)=MONTH($F$3),$F$3+19,"") -> 46042 | F26: =IF(AND(ISNUMBER(C26),ISNUMBER(D26)),MAX(0,(D26-C26+IF(D26<C26,1,0))*24-IF(ISNUMBER(E26),E26,0)/60),0) -> 0 | G26: =IF(ISNUMBER(B26),IF(WEEKDAY(B26,2)<=5,$F$4,0),0) -> 8
A27: =IF(ISNUMBER(B27),CHOOSE(WEEKDAY(B27),"So","Mo","Di","Mi","Do","Fr","Sa"),"") -> Mi | B27: =IF(MONTH($F$3+20)=MONTH($F$3),$F$3+20,"") -> 46043 | F27: =IF(AND(ISNUMBER(C27),ISNUMBER(D27)),MAX(0,(D27-C27+IF(D27<C27,1,0))*24-IF(ISNUMBER(E27),E27,0)/60),0) -> 0 | G27: =IF(ISNUMBER(B27),IF(WEEKDAY(B27,2)<=5,$F$4,0),0) -> 8
A28: =IF(ISNUMBER(B28),CHOOSE(WEEKDAY(B28),"So","Mo","Di","Mi","Do","Fr","Sa"),"") -> Do | B28: =IF(MONTH($F$3+21)=MONTH($F$3),$F$3+21,"") -> 46044 | F28: =IF(AND(ISNUMBER(C28),ISNUMBER(D28)),MAX(0,(D28-C28+IF(D28<C28,1,0))*24-IF(ISNUMBER(E28),E28,0)/60),0) -> 0 | G28: =IF(ISNUMBER(B28),IF(WEEKDAY(B28,2)<=5,$F$4,0),0) -> 8
A29: =IF(ISNUMBER(B29),CHOOSE(WEEKDAY(B29),"So","Mo","Di","Mi","Do","Fr","Sa"),"") -> Fr | B29: =IF(MONTH($F$3+22)=MONTH($F$3),$F$3+22,"") -> 46045 | F29: =IF(AND(ISNUMBER(C29),ISNUMBER(D29)),MAX(0,(D29-C29+IF(D29<C29,1,0))*24-IF(ISNUMBER(E29),E29,0)/60),0) -> 0 | G29: =IF(ISNUMBER(B29),IF(WEEKDAY(B29,2)<=5,$F$4,0),0) -> 8
A30: =IF(ISNUMBER(B30),CHOOSE(WEEKDAY(B30),"So","Mo","Di","Mi","Do","Fr","Sa"),"") -> Sa | B30: =IF(MONTH($F$3+23)=MONTH($F$3),$F$3+23,"") -> 46046 | F30: =IF(AND(ISNUMBER(C30),ISNUMBER(D30)),MAX(0,(D30-C30+IF(D30<C30,1,0))*24-IF(ISNUMBER(E30),E30,0)/60),0) -> 0 | G30: =IF(ISNUMBER(B30),IF(WEEKDAY(B30,2)<=5,$F$4,0),0) -> 0
A31: =IF(ISNUMBER(B31),CHOOSE(WEEKDAY(B31),"So","Mo","Di","Mi","Do","Fr","Sa"),"") -> So | B31: =IF(MONTH($F$3+24)=MONTH($F$3),$F$3+24,"") -> 46047 | F31: =IF(AND(ISNUMBER(C31),ISNUMBER(D31)),MAX(0,(D31-C31+IF(D31<C31,1,0))*24-IF(ISNUMBER(E31),E31,0)/60),0) -> 0 | G31: =IF(ISNUMBER(B31),IF(WEEKDAY(B31,2)<=5,$F$4,0),0) -> 0
A32: =IF(ISNUMBER(B32),CHOOSE(WEEKDAY(B32),"So","Mo","Di","Mi","Do","Fr","Sa"),"") -> Mo | B32: =IF(MONTH($F$3+25)=MONTH($F$3),$F$3+25,"") -> 46048 | F32: =IF(AND(ISNUMBER(C32),ISNUMBER(D32)),MAX(0,(D32-C32+IF(D32<C32,1,0))*24-IF(ISNUMBER(E32),E32,0)/60),0) -> 0 | G32: =IF(ISNUMBER(B32),IF(WEEKDAY(B32,2)<=5,$F$4,0),0) -> 8
A33: =IF(ISNUMBER(B33),CHOOSE(WEEKDAY(B33),"So","Mo","Di","Mi","Do","Fr","Sa"),"") -> Di | B33: =IF(MONTH($F$3+26)=MONTH($F$3),$F$3+26,"") -> 46049 | F33: =IF(AND(ISNUMBER(C33),ISNUMBER(D33)),MAX(0,(D33-C33+IF(D33<C33,1,0))*24-IF(ISNUMBER(E33),E33,0)/60),0) -> 0 | G33: =IF(ISNUMBER(B33),IF(WEEKDAY(B33,2)<=5,$F$4,0),0) -> 8
A34: =IF(ISNUMBER(B34),CHOOSE(WEEKDAY(B34),"So","Mo","Di","Mi","Do","Fr","Sa"),"") -> Mi | B34: =IF(MONTH($F$3+27)=MONTH($F$3),$F$3+27,"") -> 46050 | F34: =IF(AND(ISNUMBER(C34),ISNUMBER(D34)),MAX(0,(D34-C34+IF(D34<C34,1,0))*24-IF(ISNUMBER(E34),E34,0)/60),0) -> 0 | G34: =IF(ISNUMBER(B34),IF(WEEKDAY(B34,2)<=5,$F$4,0),0) -> 8
A35: =IF(ISNUMBER(B35),CHOOSE(WEEKDAY(B35),"So","Mo","Di","Mi","Do","Fr","Sa"),"") -> Do | B35: =IF(MONTH($F$3+28)=MONTH($F$3),$F$3+28,"") -> 46051 | F35: =IF(AND(ISNUMBER(C35),ISNUMBER(D35)),MAX(0,(D35-C35+IF(D35<C35,1,0))*24-IF(ISNUMBER(E35),E35,0)/60),0) -> 0 | G35: =IF(ISNUMBER(B35),IF(WEEKDAY(B35,2)<=5,$F$4,0),0) -> 8
A36: =IF(ISNUMBER(B36),CHOOSE(WEEKDAY(B36),"So","Mo","Di","Mi","Do","Fr","Sa"),"") -> Fr | B36: =IF(MONTH($F$3+29)=MONTH($F$3),$F$3+29,"") -> 46052 | F36: =IF(AND(ISNUMBER(C36),ISNUMBER(D36)),MAX(0,(D36-C36+IF(D36<C36,1,0))*24-IF(ISNUMBER(E36),E36,0)/60),0) -> 0 | G36: =IF(ISNUMBER(B36),IF(WEEKDAY(B36,2)<=5,$F$4,0),0) -> 8
A37: =IF(ISNUMBER(B37),CHOOSE(WEEKDAY(B37),"So","Mo","Di","Mi","Do","Fr","Sa"),"") -> Sa | B37: =IF(MONTH($F$3+30)=MONTH($F$3),$F$3+30,"") -> 46053 | F37: =IF(AND(ISNUMBER(C37),ISNUMBER(D37)),MAX(0,(D37-C37+IF(D37<C37,1,0))*24-IF(ISNUMBER(E37),E37,0)/60),0) -> 0 | G37: =IF(ISNUMBER(B37),IF(WEEKDAY(B37,2)<=5,$F$4,0),0) -> 0
A39: Summe Arbeitszeit (Ist) | F39: =SUM(F7:F37) -> 0
A40: Summe Soll | F40: =SUM(G7:G37) -> 176
A41: Über- oder Minusstunden | F41: =F39-F40 -> -176
A42: Arbeitstage | F42: =COUNTIF(F7:F37,">0") -> 0
A45: Datum, Unterschrift Mitarbeiter/in | E45: Datum, Unterschrift Vorgesetzte/r
A47: Arbeitszeit ist Ende minus Beginn minus Pause, über Mitternacht wird richtig gerechnet. Die Summen dieses Blatts gehen in die Übersicht.

Sheet Feb
A1: Arbeitszeiterfassung Februar 2026
A2: Name, Abteilung und Soll pro Tag stehen auf dem Blatt Übersicht. Beginn und Ende im Format 8:00, die Pause in Minuten. Bei Feiertag, Urlaub oder Krankheit das Soll der Zeile auf 0 setzen.
A3: Name | B3: ='Übersicht'!$B$3 | E3: Monat | F3: 46054
A4: Abteilung | B4: ='Übersicht'!$B$4 | E4: Soll pro Tag | F4: ='Übersicht'!$B$5 -> 8 | G4: Std., Mo bis Fr
A6: Tag | B6: Datum | C6: Beginn | D6: Ende | E6: Pause (Min.) | F6: Arbeitszeit (Std.) | G6: Soll (Std.) | H6: Bemerkung
A7: =IF(ISNUMBER(B7),CHOOSE(WEEKDAY(B7),"So","Mo","Di","Mi","Do","Fr","Sa"),"") -> So | B7: =IF(MONTH($F$3+0)=MONTH($F$3),$F$3+0,"") -> 46054 | F7: =IF(AND(ISNUMBER(C7),ISNUMBER(D7)),MAX(0,(D7-C7+IF(D7<C7,1,0))*24-IF(ISNUMBER(E7),E7,0)/60),0) -> 0 | G7: =IF(ISNUMBER(B7),IF(WEEKDAY(B7,2)<=5,$F$4,0),0) -> 0
A8: =IF(ISNUMBER(B8),CHOOSE(WEEKDAY(B8),"So","Mo","Di","Mi","Do","Fr","Sa"),"") -> Mo | B8: =IF(MONTH($F$3+1)=MONTH($F$3),$F$3+1,"") -> 46055 | F8: =IF(AND(ISNUMBER(C8),ISNUMBER(D8)),MAX(0,(D8-C8+IF(D8<C8,1,0))*24-IF(ISNUMBER(E8),E8,0)/60),0) -> 0 | G8: =IF(ISNUMBER(B8),IF(WEEKDAY(B8,2)<=5,$F$4,0),0) -> 8
A9: =IF(ISNUMBER(B9),CHOOSE(WEEKDAY(B9),"So","Mo","Di","Mi","Do","Fr","Sa"),"") -> Di | B9: =IF(MONTH($F$3+2)=MONTH($F$3),$F$3+2,"") -> 46056 | F9: =IF(AND(ISNUMBER(C9),ISNUMBER(D9)),MAX(0,(D9-C9+IF(D9<C9,1,0))*24-IF(ISNUMBER(E9),E9,0)/60),0) -> 0 | G9: =IF(ISNUMBER(B9),IF(WEEKDAY(B9,2)<=5,$F$4,0),0) -> 8
A10: =IF(ISNUMBER(B10),CHOOSE(WEEKDAY(B10),"So","Mo","Di","Mi","Do","Fr","Sa"),"") -> Mi | B10: =IF(MONTH($F$3+3)=MONTH($F$3),$F$3+3,"") -> 46057 | F10: =IF(AND(ISNUMBER(C10),ISNUMBER(D10)),MAX(0,(D10-C10+IF(D10<C10,1,0))*24-IF(ISNUMBER(E10),E10,0)/60),0) -> 0 | G10: =IF(ISNUMBER(B10),IF(WEEKDAY(B10,2)<=5,$F$4,0),0) -> 8
A11: =IF(ISNUMBER(B11),CHOOSE(WEEKDAY(B11),"So","Mo","Di","Mi","Do","Fr","Sa"),"") -> Do | B11: =IF(MONTH($F$3+4)=MONTH($F$3),$F$3+4,"") -> 46058 | F11: =IF(AND(ISNUMBER(C11),ISNUMBER(D11)),MAX(0,(D11-C11+IF(D11<C11,1,0))*24-IF(ISNUMBER(E11),E11,0)/60),0) -> 0 | G11: =IF(ISNUMBER(B11),IF(WEEKDAY(B11,2)<=5,$F$4,0),0) -> 8
A12: =IF(ISNUMBER(B12),CHOOSE(WEEKDAY(B12),"So","Mo","Di","Mi","Do","Fr","Sa"),"") -> Fr | B12: =IF(MONTH($F$3+5)=MONTH($F$3),$F$3+5,"") -> 46059 | F12: =IF(AND(ISNUMBER(C12),ISNUMBER(D12)),MAX(0,(D12-C12+IF(D12<C12,1,0))*24-IF(ISNUMBER(E12),E12,0)/60),0) -> 0 | G12: =IF(ISNUMBER(B12),IF(WEEKDAY(B12,2)<=5,$F$4,0),0) -> 8
A13: =IF(ISNUMBER(B13),CHOOSE(WEEKDAY(B13),"So","Mo","Di","Mi","Do","Fr","Sa"),"") -> Sa | B13: =IF(MONTH($F$3+6)=MONTH($F$3),$F$3+6,"") -> 46060 | F13: =IF(AND(ISNUMBER(C13),ISNUMBER(D13)),MAX(0,(D13-C13+IF(D13<C13,1,0))*24-IF(ISNUMBER(E13),E13,0)/60),0) -> 0 | G13: =IF(ISNUMBER(B13),IF(WEEKDAY(B13,2)<=5,$F$4,0),0) -> 0
A14: =IF(ISNUMBER(B14),CHOOSE(WEEKDAY(B14),"So","Mo","Di","Mi","Do","Fr","Sa"),"") -> So | B14: =IF(MONTH($F$3+7)=MONTH($F$3),$F$3+7,"") -> 46061 | F14: =IF(AND(ISNUMBER(C14),ISNUMBER(D14)),MAX(0,(D14-C14+IF(D14<C14,1,0))*24-IF(ISNUMBER(E14),E14,0)/60),0) -> 0 | G14: =IF(ISNUMBER(B14),IF(WEEKDAY(B14,2)<=5,$F$4,0),0) -> 0
A15: =IF(ISNUMBER(B15),CHOOSE(WEEKDAY(B15),"So","Mo","Di","Mi","Do","Fr","Sa"),"") -> Mo | B15: =IF(MONTH($F$3+8)=MONTH($F$3),$F$3+8,"") -> 46062 | F15: =IF(AND(ISNUMBER(C15),ISNUMBER(D15)),MAX(0,(D15-C15+IF(D15<C15,1,0))*24-IF(ISNUMBER(E15),E15,0)/60),0) -> 0 | G15: =IF(ISNUMBER(B15),IF(WEEKDAY(B15,2)<=5,$F$4,0),0) -> 8
A16: =IF(ISNUMBER(B16),CHOOSE(WEEKDAY(B16),"So","Mo","Di","Mi","Do","Fr","Sa"),"") -> Di | B16: =IF(MONTH($F$3+9)=MONTH($F$3),$F$3+9,"") -> 46063 | F16: =IF(AND(ISNUMBER(C16),ISNUMBER(D16)),MAX(0,(D16-C16+IF(D16<C16,1,0))*24-IF(ISNUMBER(E16),E16,0)/60),0) -> 0 | G16: =IF(ISNUMBER(B16),IF(WEEKDAY(B16,2)<=5,$F$4,0),0) -> 8
A17: =IF(ISNUMBER(B17),CHOOSE(WEEKDAY(B17),"So","Mo","Di","Mi","Do","Fr","Sa"),"") -> Mi | B17: =IF(MONTH($F$3+10)=MONTH($F$3),$F$3+10,"") -> 46064 | F17: =IF(AND(ISNUMBER(C17),ISNUMBER(D17)),MAX(0,(D17-C17+IF(D17<C17,1,0))*24-IF(ISNUMBER(E17),E17,0)/60),0) -> 0 | G17: =IF(ISNUMBER(B17),IF(WEEKDAY(B17,2)<=5,$F$4,0),0) -> 8
A18: =IF(ISNUMBER(B18),CHOOSE(WEEKDAY(B18),"So","Mo","Di","Mi","Do","Fr","Sa"),"") -> Do | B18: =IF(MONTH($F$3+11)=MONTH($F$3),$F$3+11,"") -> 46065 | F18: =IF(AND(ISNUMBER(C18),ISNUMBER(D18)),MAX(0,(D18-C18+IF(D18<C18,1,0))*24-IF(ISNUMBER(E18),E18,0)/60),0) -> 0 | G18: =IF(ISNUMBER(B18),IF(WEEKDAY(B18,2)<=5,$F$4,0),0) -> 8
A19: =IF(ISNUMBER(B19),CHOOSE(WEEKDAY(B19),"So","Mo","Di","Mi","Do","Fr","Sa"),"") -> Fr | B19: =IF(MONTH($F$3+12)=MONTH($F$3),$F$3+12,"") -> 46066 | F19: =IF(AND(ISNUMBER(C19),ISNUMBER(D19)),MAX(0,(D19-C19+IF(D19<C19,1,0))*24-IF(ISNUMBER(E19),E19,0)/60),0) -> 0 | G19: =IF(ISNUMBER(B19),IF(WEEKDAY(B19,2)<=5,$F$4,0),0) -> 8
A20: =IF(ISNUMBER(B20),CHOOSE(WEEKDAY(B20),"So","Mo","Di","Mi","Do","Fr","Sa"),"") -> Sa | B20: =IF(MONTH($F$3+13)=MONTH($F$3),$F$3+13,"") -> 46067 | F20: =IF(AND(ISNUMBER(C20),ISNUMBER(D20)),MAX(0,(D20-C20+IF(D20<C20,1,0))*24-IF(ISNUMBER(E20),E20,0)/60),0) -> 0 | G20: =IF(ISNUMBER(B20),IF(WEEKDAY(B20,2)<=5,$F$4,0),0) -> 0
A21: =IF(ISNUMBER(B21),CHOOSE(WEEKDAY(B21),"So","Mo","Di","Mi","Do","Fr","Sa"),"") -> So | B21: =IF(MONTH($F$3+14)=MONTH($F$3),$F$3+14,"") -> 46068 | F21: =IF(AND(ISNUMBER(C21),ISNUMBER(D21)),MAX(0,(D21-C21+IF(D21<C21,1,0))*24-IF(ISNUMBER(E21),E21,0)/60),0) -> 0 | G21: =IF(ISNUMBER(B21),IF(WEEKDAY(B21,2)<=5,$F$4,0),0) -> 0
A22: =IF(ISNUMBER(B22),CHOOSE(WEEKDAY(B22),"So","Mo","Di","Mi","Do","Fr","Sa"),"") -> Mo | B22: =IF(MONTH($F$3+15)=MONTH($F$3),$F$3+15,"") -> 46069 | F22: =IF(AND(ISNUMBER(C22),ISNUMBER(D22)),MAX(0,(D22-C22+IF(D22<C22,1,0))*24-IF(ISNUMBER(E22),E22,0)/60),0) -> 0 | G22: =IF(ISNUMBER(B22),IF(WEEKDAY(B22,2)<=5,$F$4,0),0) -> 8
A23: =IF(ISNUMBER(B23),CHOOSE(WEEKDAY(B23),"So","Mo","Di","Mi","Do","Fr","Sa"),"") -> Di | B23: =IF(MONTH($F$3+16)=MONTH($F$3),$F$3+16,"") -> 46070 | F23: =IF(AND(ISNUMBER(C23),ISNUMBER(D23)),MAX(0,(D23-C23+IF(D23<C23,1,0))*24-IF(ISNUMBER(E23),E23,0)/60),0) -> 0 | G23: =IF(ISNUMBER(B23),IF(WEEKDAY(B23,2)<=5,$F$4,0),0) -> 8
A24: =IF(ISNUMBER(B24),CHOOSE(WEEKDAY(B24),"So","Mo","Di","Mi","Do","Fr","Sa"),"") -> Mi | B24: =IF(MONTH($F$3+17)=MONTH($F$3),$F$3+17,"") -> 46071 | F24: =IF(AND(ISNUMBER(C24),ISNUMBER(D24)),MAX(0,(D24-C24+IF(D24<C24,1,0))*24-IF(ISNUMBER(E24),E24,0)/60),0) -> 0 | G24: =IF(ISNUMBER(B24),IF(WEEKDAY(B24,2)<=5,$F$4,0),0) -> 8
A25: =IF(ISNUMBER(B25),CHOOSE(WEEKDAY(B25),"So","Mo","Di","Mi","Do","Fr","Sa"),"") -> Do | B25: =IF(MONTH($F$3+18)=MONTH($F$3),$F$3+18,"") -> 46072 | F25: =IF(AND(ISNUMBER(C25),ISNUMBER(D25)),MAX(0,(D25-C25+IF(D25<C25,1,0))*24-IF(ISNUMBER(E25),E25,0)/60),0) -> 0 | G25: =IF(ISNUMBER(B25),IF(WEEKDAY(B25,2)<=5,$F$4,0),0) -> 8
A26: =IF(ISNUMBER(B26),CHOOSE(WEEKDAY(B26),"So","Mo","Di","Mi","Do","Fr","Sa"),"") -> Fr | B26: =IF(MONTH($F$3+19)=MONTH($F$3),$F$3+19,"") -> 46073 | F26: =IF(AND(ISNUMBER(C26),ISNUMBER(D26)),MAX(0,(D26-C26+IF(D26<C26,1,0))*24-IF(ISNUMBER(E26),E26,0)/60),0) -> 0 | G26: =IF(ISNUMBER(B26),IF(WEEKDAY(B26,2)<=5,$F$4,0),0) -> 8
A27: =IF(ISNUMBER(B27),CHOOSE(WEEKDAY(B27),"So","Mo","Di","Mi","Do","Fr","Sa"),"") -> Sa | B27: =IF(MONTH($F$3+20)=MONTH($F$3),$F$3+20,"") -> 46074 | F27: =IF(AND(ISNUMBER(C27),ISNUMBER(D27)),MAX(0,(D27-C27+IF(D27<C27,1,0))*24-IF(ISNUMBER(E27),E27,0)/60),0) -> 0 | G27: =IF(ISNUMBER(B27),IF(WEEKDAY(B27,2)<=5,$F$4,0),0) -> 0
A28: =IF(ISNUMBER(B28),CHOOSE(WEEKDAY(B28),"So","Mo","Di","Mi","Do","Fr","Sa"),"") -> So | B28: =IF(MONTH($F$3+21)=MONTH($F$3),$F$3+21,"") -> 46075 | F28: =IF(AND(ISNUMBER(C28),ISNUMBER(D28)),MAX(0,(D28-C28+IF(D28<C28,1,0))*24-IF(ISNUMBER(E28),E28,0)/60),0) -> 0 | G28: =IF(ISNUMBER(B28),IF(WEEKDAY(B28,2)<=5,$F$4,0),0) -> 0
A29: =IF(ISNUMBER(B29),CHOOSE(WEEKDAY(B29),"So","Mo","Di","Mi","Do","Fr","Sa"),"") -> Mo | B29: =IF(MONTH($F$3+22)=MONTH($F$3),$F$3+22,"") -> 46076 | F29: =IF(AND(ISNUMBER(C29),ISNUMBER(D29)),MAX(0,(D29-C29+IF(D29<C29,1,0))*24-IF(ISNUMBER(E29),E29,0)/60),0) -> 0 | G29: =IF(ISNUMBER(B29),IF(WEEKDAY(B29,2)<=5,$F$4,0),0) -> 8
A30: =IF(ISNUMBER(B30),CHOOSE(WEEKDAY(B30),"So","Mo","Di","Mi","Do","Fr","Sa"),"") -> Di | B30: =IF(MONTH($F$3+23)=MONTH($F$3),$F$3+23,"") -> 46077 | F30: =IF(AND(ISNUMBER(C30),ISNUMBER(D30)),MAX(0,(D30-C30+IF(D30<C30,1,0))*24-IF(ISNUMBER(E30),E30,0)/60),0) -> 0 | G30: =IF(ISNUMBER(B30),IF(WEEKDAY(B30,2)<=5,$F$4,0),0) -> 8
A31: =IF(ISNUMBER(B31),CHOOSE(WEEKDAY(B31),"So","Mo","Di","Mi","Do","Fr","Sa"),"") -> Mi | B31: =IF(MONTH($F$3+24)=MONTH($F$3),$F$3+24,"") -> 46078 | F31: =IF(AND(ISNUMBER(C31),ISNUMBER(D31)),MAX(0,(D31-C31+IF(D31<C31,1,0))*24-IF(ISNUMBER(E31),E31,0)/60),0) -> 0 | G31: =IF(ISNUMBER(B31),IF(WEEKDAY(B31,2)<=5,$F$4,0),0) -> 8
A32: =IF(ISNUMBER(B32),CHOOSE(WEEKDAY(B32),"So","Mo","Di","Mi","Do","Fr","Sa"),"") -> Do | B32: =IF(MONTH($F$3+25)=MONTH($F$3),$F$3+25,"") -> 46079 | F32: =IF(AND(ISNUMBER(C32),ISNUMBER(D32)),MAX(0,(D32-C32+IF(D32<C32,1,0))*24-IF(ISNUMBER(E32),E32,0)/60),0) -> 0 | G32: =IF(ISNUMBER(B32),IF(WEEKDAY(B32,2)<=5,$F$4,0),0) -> 8
A33: =IF(ISNUMBER(B33),CHOOSE(WEEKDAY(B33),"So","Mo","Di","Mi","Do","Fr","Sa"),"") -> Fr | B33: =IF(MONTH($F$3+26)=MONTH($F$3),$F$3+26,"") -> 46080 | F33: =IF(AND(ISNUMBER(C33),ISNUMBER(D33)),MAX(0,(D33-C33+IF(D33<C33,1,0))*24-IF(ISNUMBER(E33),E33,0)/60),0) -> 0 | G33: =IF(ISNUMBER(B33),IF(WEEKDAY(B33,2)<=5,$F$4,0),0) -> 8
A34: =IF(ISNUMBER(B34),CHOOSE(WEEKDAY(B34),"So","Mo","Di","Mi","Do","Fr","Sa"),"") -> Sa | B34: =IF(MONTH($F$3+27)=MONTH($F$3),$F$3+27,"") -> 46081 | F34: =IF(AND(ISNUMBER(C34),ISNUMBER(D34)),MAX(0,(D34-C34+IF(D34<C34,1,0))*24-IF(ISNUMBER(E34),E34,0)/60),0) -> 0 | G34: =IF(ISNUMBER(B34),IF(WEEKDAY(B34,2)<=5,$F$4,0),0) -> 0
A35: =IF(ISNUMBER(B35),CHOOSE(WEEKDAY(B35),"So","Mo","Di","Mi","Do","Fr","Sa"),"") | B35: =IF(MONTH($F$3+28)=MONTH($F$3),$F$3+28,"") | F35: =IF(AND(ISNUMBER(C35),ISNUMBER(D35)),MAX(0,(D35-C35+IF(D35<C35,1,0))*24-IF(ISNUMBER(E35),E35,0)/60),0) -> 0 | G35: =IF(ISNUMBER(B35),IF(WEEKDAY(B35,2)<=5,$F$4,0),0) -> 0
A36: =IF(ISNUMBER(B36),CHOOSE(WEEKDAY(B36),"So","Mo","Di","Mi","Do","Fr","Sa"),"") | B36: =IF(MONTH($F$3+29)=MONTH($F$3),$F$3+29,"") | F36: =IF(AND(ISNUMBER(C36),ISNUMBER(D36)),MAX(0,(D36-C36+IF(D36<C36,1,0))*24-IF(ISNUMBER(E36),E36,0)/60),0) -> 0 | G36: =IF(ISNUMBER(B36),IF(WEEKDAY(B36,2)<=5,$F$4,0),0) -> 0
A37: =IF(ISNUMBER(B37),CHOOSE(WEEKDAY(B37),"So","Mo","Di","Mi","Do","Fr","Sa"),"") | B37: =IF(MONTH($F$3+30)=MONTH($F$3),$F$3+30,"") | F37: =IF(AND(ISNUMBER(C37),ISNUMBER(D37)),MAX(0,(D37-C37+IF(D37<C37,1,0))*24-IF(ISNUMBER(E37),E37,0)/60),0) -> 0 | G37: =IF(ISNUMBER(B37),IF(WEEKDAY(B37,2)<=5,$F$4,0),0) -> 0
A39: Summe Arbeitszeit (Ist) | F39: =SUM(F7:F37) -> 0
A40: Summe Soll | F40: =SUM(G7:G37) -> 160
A41: Über- oder Minusstunden | F41: =F39-F40 -> -160
A42: Arbeitstage | F42: =COUNTIF(F7:F37,">0") -> 0
A45: Datum, Unterschrift Mitarbeiter/in | E45: Datum, Unterschrift Vorgesetzte/r
A47: Arbeitszeit ist Ende minus Beginn minus Pause, über Mitternacht wird richtig gerechnet. Die Summen dieses Blatts gehen in die Übersicht.

Sheet Mär
A1: Arbeitszeiterfassung März 2026
A2: Name, Abteilung und Soll pro Tag stehen auf dem Blatt Übersicht. Beginn und Ende im Format 8:00, die Pause in Minuten. Bei Feiertag, Urlaub oder Krankheit das Soll der Zeile auf 0 setzen.
A3: Name | B3: ='Übersicht'!$B$3 | E3: Monat | F3: 46082
A4: Abteilung | B4: ='Übersicht'!$B$4 | E4: Soll pro Tag | F4: ='Übersicht'!$B$5 -> 8 | G4: Std., Mo bis Fr
A6: Tag | B6: Datum | C6: Beginn | D6: Ende | E6: Pause (Min.) | F6: Arbeitszeit (Std.) | G6: Soll (Std.) | H6: Bemerkung
A7: =IF(ISNUMBER(B7),CHOOSE(WEEKDAY(B7),"So","Mo","Di","Mi","Do","Fr","Sa"),"") -> So | B7: =IF(MONTH($F$3+0)=MONTH($F$3),$F$3+0,"") -> 46082 | F7: =IF(AND(ISNUMBER(C7),ISNUMBER(D7)),MAX(0,(D7-C7+IF(D7<C7,1,0))*24-IF(ISNUMBER(E7),E7,0)/60),0) -> 0 | G7: =IF(ISNUMBER(B7),IF(WEEKDAY(B7,2)<=5,$F$4,0),0) -> 0
A8: =IF(ISNUMBER(B8),CHOOSE(WEEKDAY(B8),"So","Mo","Di","Mi","Do","Fr","Sa"),"") -> Mo | B8: =IF(MONTH($F$3+1)=MONTH($F$3),$F$3+1,"") -> 46083 | F8: =IF(AND(ISNUMBER(C8),ISNUMBER(D8)),MAX(0,(D8-C8+IF(D8<C8,1,0))*24-IF(ISNUMBER(E8),E8,0)/60),0) -> 0 | G8: =IF(ISNUMBER(B8),IF(WEEKDAY(B8,2)<=5,$F$4,0),0) -> 8
A9: =IF(ISNUMBER(B9),CHOOSE(WEEKDAY(B9),"So","Mo","Di","Mi","Do","Fr","Sa"),"") -> Di | B9: =IF(MONTH($F$3+2)=MONTH($F$3),$F$3+2,"") -> 46084 | F9: =IF(AND(ISNUMBER(C9),ISNUMBER(D9)),MAX(0,(D9-C9+IF(D9<C9,1,0))*24-IF(ISNUMBER(E9),E9,0)/60),0) -> 0 | G9: =IF(ISNUMBER(B9),IF(WEEKDAY(B9,2)<=5,$F$4,0),0) -> 8
A10: =IF(ISNUMBER(B10),CHOOSE(WEEKDAY(B10),"So","Mo","Di","Mi","Do","Fr","Sa"),"") -> Mi | B10: =IF(MONTH($F$3+3)=MONTH($F$3),$F$3+3,"") -> 46085 | F10: =IF(AND(ISNUMBER(C10),ISNUMBER(D10)),MAX(0,(D10-C10+IF(D10<C10,1,0))*24-IF(ISNUMBER(E10),E10,0)/60),0) -> 0 | G10: =IF(ISNUMBER(B10),IF(WEEKDAY(B10,2)<=5,$F$4,0),0) -> 8
A11: =IF(ISNUMBER(B11),CHOOSE(WEEKDAY(B11),"So","Mo","Di","Mi","Do","Fr","Sa"),"") -> Do | B11: =IF(MONTH($F$3+4)=MONTH($F$3),$F$3+4,"") -> 46086 | F11: =IF(AND(ISNUMBER(C11),ISNUMBER(D11)),MAX(0,(D11-C11+IF(D11<C11,1,0))*24-IF(ISNUMBER(E11),E11,0)/60),0) -> 0 | G11: =IF(ISNUMBER(B11),IF(WEEKDAY(B11,2)<=5,$F$4,0),0) -> 8
A12: =IF(ISNUMBER(B12),CHOOSE(WEEKDAY(B12),"So","Mo","Di","Mi","Do","Fr","Sa"),"") -> Fr | B12: =IF(MONTH($F$3+5)=MONTH($F$3),$F$3+5,"") -> 46087 | F12: =IF(AND(ISNUMBER(C12),ISNUMBER(D12)),MAX(0,(D12-C12+IF(D12<C12,1,0))*24-IF(ISNUMBER(E12),E12,0)/60),0) -> 0 | G12: =IF(ISNUMBER(B12),IF(WEEKDAY(B12,2)<=5,$F$4,0),0) -> 8
A13: =IF(ISNUMBER(B13),CHOOSE(WEEKDAY(B13),"So","Mo","Di","Mi","Do","Fr","Sa"),"") -> Sa | B13: =IF(MONTH($F$3+6)=MONTH($F$3),$F$3+6,"") -> 46088 | F13: =IF(AND(ISNUMBER(C13),ISNUMBER(D13)),MAX(0,(D13-C13+IF(D13<C13,1,0))*24-IF(ISNUMBER(E13),E13,0)/60),0) -> 0 | G13: =IF(ISNUMBER(B13),IF(WEEKDAY(B13,2)<=5,$F$4,0),0) -> 0
A14: =IF(ISNUMBER(B14),CHOOSE(WEEKDAY(B14),"So","Mo","Di","Mi","Do","Fr","Sa"),"") -> So | B14: =IF(MONTH($F$3+7)=MONTH($F$3),$F$3+7,"") -> 46089 | F14: =IF(AND(ISNUMBER(C14),ISNUMBER(D14)),MAX(0,(D14-C14+IF(D14<C14,1,0))*24-IF(ISNUMBER(E14),E14,0)/60),0) -> 0 | G14: =IF(ISNUMBER(B14),IF(WEEKDAY(B14,2)<=5,$F$4,0),0) -> 0
A15: =IF(ISNUMBER(B15),CHOOSE(WEEKDAY(B15),"So","Mo","Di","Mi","Do","Fr","Sa"),"") -> Mo | B15: =IF(MONTH($F$3+8)=MONTH($F$3),$F$3+8,"") -> 46090 | F15: =IF(AND(ISNUMBER(C15),ISNUMBER(D15)),MAX(0,(D15-C15+IF(D15<C15,1,0))*24-IF(ISNUMBER(E15),E15,0)/60),0) -> 0 | G15: =IF(ISNUMBER(B15),IF(WEEKDAY(B15,2)<=5,$F$4,0),0) -> 8
A16: =IF(ISNUMBER(B16),CHOOSE(WEEKDAY(B16),"So","Mo","Di","Mi","Do","Fr","Sa"),"") -> Di | B16: =IF(MONTH($F$3+9)=MONTH($F$3),$F$3+9,"") -> 46091 | F16: =IF(AND(ISNUMBER(C16),ISNUMBER(D16)),MAX(0,(D16-C16+IF(D16<C16,1,0))*24-IF(ISNUMBER(E16),E16,0)/60),0) -> 0 | G16: =IF(ISNUMBER(B16),IF(WEEKDAY(B16,2)<=5,$F$4,0),0) -> 8
A17: =IF(ISNUMBER(B17),CHOOSE(WEEKDAY(B17),"So","Mo","Di","Mi","Do","Fr","Sa"),"") -> Mi | B17: =IF(MONTH($F$3+10)=MONTH($F$3),$F$3+10,"") -> 46092 | F17: =IF(AND(ISNUMBER(C17),ISNUMBER(D17)),MAX(0,(D17-C17+IF(D17<C17,1,0))*24-IF(ISNUMBER(E17),E17,0)/60),0) -> 0 | G17: =IF(ISNUMBER(B17),IF(WEEKDAY(B17,2)<=5,$F$4,0),0) -> 8
A18: =IF(ISNUMBER(B18),CHOOSE(WEEKDAY(B18),"So","Mo","Di","Mi","Do","Fr","Sa"),"") -> Do | B18: =IF(MONTH($F$3+11)=MONTH($F$3),$F$3+11,"") -> 46093 | F18: =IF(AND(ISNUMBER(C18),ISNUMBER(D18)),MAX(0,(D18-C18+IF(D18<C18,1,0))*24-IF(ISNUMBER(E18),E18,0)/60),0) -> 0 | G18: =IF(ISNUMBER(B18),IF(WEEKDAY(B18,2)<=5,$F$4,0),0) -> 8
A19: =IF(ISNUMBER(B19),CHOOSE(WEEKDAY(B19),"So","Mo","Di","Mi","Do","Fr","Sa"),"") -> Fr | B19: =IF(MONTH($F$3+12)=MONTH($F$3),$F$3+12,"") -> 46094 | F19: =IF(AND(ISNUMBER(C19),ISNUMBER(D19)),MAX(0,(D19-C19+IF(D19<C19,1,0))*24-IF(ISNUMBER(E19),E19,0)/60),0) -> 0 | G19: =IF(ISNUMBER(B19),IF(WEEKDAY(B19,2)<=5,$F$4,0),0) -> 8
A20: =IF(ISNUMBER(B20),CHOOSE(WEEKDAY(B20),"So","Mo","Di","Mi","Do","Fr","Sa"),"") -> Sa | B20: =IF(MONTH($F$3+13)=MONTH($F$3),$F$3+13,"") -> 46095 | F20: =IF(AND(ISNUMBER(C20),ISNUMBER(D20)),MAX(0,(D20-C20+IF(D20<C20,1,0))*24-IF(ISNUMBER(E20),E20,0)/60),0) -> 0 | G20: =IF(ISNUMBER(B20),IF(WEEKDAY(B20,2)<=5,$F$4,0),0) -> 0
A21: =IF(ISNUMBER(B21),CHOOSE(WEEKDAY(B21),"So","Mo","Di","Mi","Do","Fr","Sa"),"") -> So | B21: =IF(MONTH($F$3+14)=MONTH($F$3),$F$3+14,"") -> 46096 | F21: =IF(AND(ISNUMBER(C21),ISNUMBER(D21)),MAX(0,(D21-C21+IF(D21<C21,1,0))*24-IF(ISNUMBER(E21),E21,0)/60),0) -> 0 | G21: =IF(ISNUMBER(B21),IF(WEEKDAY(B21,2)<=5,$F$4,0),0) -> 0
A22: =IF(ISNUMBER(B22),CHOOSE(WEEKDAY(B22),"So","Mo","Di","Mi","Do","Fr","Sa"),"") -> Mo | B22: =IF(MONTH($F$3+15)=MONTH($F$3),$F$3+15,"") -> 46097 | F22: =IF(AND(ISNUMBER(C22),ISNUMBER(D22)),MAX(0,(D22-C22+IF(D22<C22,1,0))*24-IF(ISNUMBER(E22),E22,0)/60),0) -> 0 | G22: =IF(ISNUMBER(B22),IF(WEEKDAY(B22,2)<=5,$F$4,0),0) -> 8
A23: =IF(ISNUMBER(B23),CHOOSE(WEEKDAY(B23),"So","Mo","Di","Mi","Do","Fr","Sa"),"") -> Di | B23: =IF(MONTH($F$3+16)=MONTH($F$3),$F$3+16,"") -> 46098 | F23: =IF(AND(ISNUMBER(C23),ISNUMBER(D23)),MAX(0,(D23-C23+IF(D23<C23,1,0))*24-IF(ISNUMBER(E23),E23,0)/60),0) -> 0 | G23: =IF(ISNUMBER(B23),IF(WEEKDAY(B23,2)<=5,$F$4,0),0) -> 8
A24: =IF(ISNUMBER(B24),CHOOSE(WEEKDAY(B24),"So","Mo","Di","Mi","Do","Fr","Sa"),"") -> Mi | B24: =IF(MONTH($F$3+17)=MONTH($F$3),$F$3+17,"") -> 46099 | F24: =IF(AND(ISNUMBER(C24),ISNUMBER(D24)),MAX(0,(D24-C24+IF(D24<C24,1,0))*24-IF(ISNUMBER(E24),E24,0)/60),0) -> 0 | G24: =IF(ISNUMBER(B24),IF(WEEKDAY(B24,2)<=5,$F$4,0),0) -> 8
A25: =IF(ISNUMBER(B25),CHOOSE(WEEKDAY(B25),"So","Mo","Di","Mi","Do","Fr","Sa"),"") -> Do | B25: =IF(MONTH($F$3+18)=MONTH($F$3),$F$3+18,"") -> 46100 | F25: =IF(AND(ISNUMBER(C25),ISNUMBER(D25)),MAX(0,(D25-C25+IF(D25<C25,1,0))*24-IF(ISNUMBER(E25),E25,0)/60),0) -> 0 | G25: =IF(ISNUMBER(B25),IF(WEEKDAY(B25,2)<=5,$F$4,0),0) -> 8
A26: =IF(ISNUMBER(B26),CHOOSE(WEEKDAY(B26),"So","Mo","Di","Mi","Do","Fr","Sa"),"") -> Fr | B26: =IF(MONTH($F$3+19)=MONTH($F$3),$F$3+19,"") -> 46101 | F26: =IF(AND(ISNUMBER(C26),ISNUMBER(D26)),MAX(0,(D26-C26+IF(D26<C26,1,0))*24-IF(ISNUMBER(E26),E26,0)/60),0) -> 0 | G26: =IF(ISNUMBER(B26),IF(WEEKDAY(B26,2)<=5,$F$4,0),0) -> 8
A27: =IF(ISNUMBER(B27),CHOOSE(WEEKDAY(B27),"So","Mo","Di","Mi","Do","Fr","Sa"),"") -> Sa | B27: =IF(MONTH($F$3+20)=MONTH($F$3),$F$3+20,"") -> 46102 | F27: =IF(AND(ISNUMBER(C27),ISNUMBER(D27)),MAX(0,(D27-C27+IF(D27<C27,1,0))*24-IF(ISNUMBER(E27),E27,0)/60),0) -> 0 | G27: =IF(ISNUMBER(B27),IF(WEEKDAY(B27,2)<=5,$F$4,0),0) -> 0
A28: =IF(ISNUMBER(B28),CHOOSE(WEEKDAY(B28),"So","Mo","Di","Mi","Do","Fr","Sa"),"") -> So | B28: =IF(MONTH($F$3+21)=MONTH($F$3),$F$3+21,"") -> 46103 | F28: =IF(AND(ISNUMBER(C28),ISNUMBER(D28)),MAX(0,(D28-C28+IF(D28<C28,1,0))*24-IF(ISNUMBER(E28),E28,0)/60),0) -> 0 | G28: =IF(ISNUMBER(B28),IF(WEEKDAY(B28,2)<=5,$F$4,0),0) -> 0
A29: =IF(ISNUMBER(B29),CHOOSE(WEEKDAY(B29),"So","Mo","Di","Mi","Do","Fr","Sa"),"") -> Mo | B29: =IF(MONTH($F$3+22)=MONTH($F$3),$F$3+22,"") -> 46104 | F29: =IF(AND(ISNUMBER(C29),ISNUMBER(D29)),MAX(0,(D29-C29+IF(D29<C29,1,0))*24-IF(ISNUMBER(E29),E29,0)/60),0) -> 0 | G29: =IF(ISNUMBER(B29),IF(WEEKDAY(B29,2)<=5,$F$4,0),0) -> 8
A30: =IF(ISNUMBER(B30),CHOOSE(WEEKDAY(B30),"So","Mo","Di","Mi","Do","Fr","Sa"),"") -> Di | B30: =IF(MONTH($F$3+23)=MONTH($F$3),$F$3+23,"") -> 46105 | F30: =IF(AND(ISNUMBER(C30),ISNUMBER(D30)),MAX(0,(D30-C30+IF(D30<C30,1,0))*24-IF(ISNUMBER(E30),E30,0)/60),0) -> 0 | G30: =IF(ISNUMBER(B30),IF(WEEKDAY(B30,2)<=5,$F$4,0),0) -> 8
A31: =IF(ISNUMBER(B31),CHOOSE(WEEKDAY(B31),"So","Mo","Di","Mi","Do","Fr","Sa"),"") -> Mi | B31: =IF(MONTH($F$3+24)=MONTH($F$3),$F$3+24,"") -> 46106 | F31: =IF(AND(ISNUMBER(C31),ISNUMBER(D31)),MAX(0,(D31-C31+IF(D31<C31,1,0))*24-IF(ISNUMBER(E31),E31,0)/60),0) -> 0 | G31: =IF(ISNUMBER(B31),IF(WEEKDAY(B31,2)<=5,$F$4,0),0) -> 8
A32: =IF(ISNUMBER(B32),CHOOSE(WEEKDAY(B32),"So","Mo","Di","Mi","Do","Fr","Sa"),"") -> Do | B32: =IF(MONTH($F$3+25)=MONTH($F$3),$F$3+25,"") -> 46107 | F32: =IF(AND(ISNUMBER(C32),ISNUMBER(D32)),MAX(0,(D32-C32+IF(D32<C32,1,0))*24-IF(ISNUMBER(E32),E32,0)/60),0) -> 0 | G32: =IF(ISNUMBER(B32),IF(WEEKDAY(B32,2)<=5,$F$4,0),0) -> 8
A33: =IF(ISNUMBER(B33),CHOOSE(WEEKDAY(B33),"So","Mo","Di","Mi","Do","Fr","Sa"),"") -> Fr | B33: =IF(MONTH($F$3+26)=MONTH($F$3),$F$3+26,"") -> 46108 | F33: =IF(AND(ISNUMBER(C33),ISNUMBER(D33)),MAX(0,(D33-C33+IF(D33<C33,1,0))*24-IF(ISNUMBER(E33),E33,0)/60),0) -> 0 | G33: =IF(ISNUMBER(B33),IF(WEEKDAY(B33,2)<=5,$F$4,0),0) -> 8
A34: =IF(ISNUMBER(B34),CHOOSE(WEEKDAY(B34),"So","Mo","Di","Mi","Do","Fr","Sa"),"") -> Sa | B34: =IF(MONTH($F$3+27)=MONTH($F$3),$F$3+27,"") -> 46109 | F34: =IF(AND(ISNUMBER(C34),ISNUMBER(D34)),MAX(0,(D34-C34+IF(D34<C34,1,0))*24-IF(ISNUMBER(E34),E34,0)/60),0) -> 0 | G34: =IF(ISNUMBER(B34),IF(WEEKDAY(B34,2)<=5,$F$4,0),0) -> 0
A35: =IF(ISNUMBER(B35),CHOOSE(WEEKDAY(B35),"So","Mo","Di","Mi","Do","Fr","Sa"),"") -> So | B35: =IF(MONTH($F$3+28)=MONTH($F$3),$F$3+28,"") -> 46110 | F35: =IF(AND(ISNUMBER(C35),ISNUMBER(D35)),MAX(0,(D35-C35+IF(D35<C35,1,0))*24-IF(ISNUMBER(E35),E35,0)/60),0) -> 0 | G35: =IF(ISNUMBER(B35),IF(WEEKDAY(B35,2)<=5,$F$4,0),0) -> 0
A36: =IF(ISNUMBER(B36),CHOOSE(WEEKDAY(B36),"So","Mo","Di","Mi","Do","Fr","Sa"),"") -> Mo | B36: =IF(MONTH($F$3+29)=MONTH($F$3),$F$3+29,"") -> 46111 | F36: =IF(AND(ISNUMBER(C36),ISNUMBER(D36)),MAX(0,(D36-C36+IF(D36<C36,1,0))*24-IF(ISNUMBER(E36),E36,0)/60),0) -> 0 | G36: =IF(ISNUMBER(B36),IF(WEEKDAY(B36,2)<=5,$F$4,0),0) -> 8
A37: =IF(ISNUMBER(B37),CHOOSE(WEEKDAY(B37),"So","Mo","Di","Mi","Do","Fr","Sa"),"") -> Di | B37: =IF(MONTH($F$3+30)=MONTH($F$3),$F$3+30,"") -> 46112 | F37: =IF(AND(ISNUMBER(C37),ISNUMBER(D37)),MAX(0,(D37-C37+IF(D37<C37,1,0))*24-IF(ISNUMBER(E37),E37,0)/60),0) -> 0 | G37: =IF(ISNUMBER(B37),IF(WEEKDAY(B37,2)<=5,$F$4,0),0) -> 8
A39: Summe Arbeitszeit (Ist) | F39: =SUM(F7:F37) -> 0
A40: Summe Soll | F40: =SUM(G7:G37) -> 176
A41: Über- oder Minusstunden | F41: =F39-F40 -> -176
A42: Arbeitstage | F42: =COUNTIF(F7:F37,">0") -> 0
A45: Datum, Unterschrift Mitarbeiter/in | E45: Datum, Unterschrift Vorgesetzte/r
A47: Arbeitszeit ist Ende minus Beginn minus Pause, über Mitternacht wird richtig gerechnet. Die Summen dieses Blatts gehen in die Übersicht.

Sheet Apr
A1: Arbeitszeiterfassung April 2026
A2: Name, Abteilung und Soll pro Tag stehen auf dem Blatt Übersicht. Beginn und Ende im Format 8:00, die Pause in Minuten. Bei Feiertag, Urlaub oder Krankheit das Soll der Zeile auf 0 setzen.
A3: Name | B3: ='Übersicht'!$B$3 | E3: Monat | F3: 46113
A4: Abteilung | B4: ='Übersicht'!$B$4 | E4: Soll pro Tag | F4: ='Übersicht'!$B$5 -> 8 | G4: Std., Mo bis Fr
A6: Tag | B6: Datum | C6: Beginn | D6: Ende | E6: Pause (Min.) | F6: Arbeitszeit (Std.) | G6: Soll (Std.) | H6: Bemerkung
A7: =IF(ISNUMBER(B7),CHOOSE(WEEKDAY(B7),"So","Mo","Di","Mi","Do","Fr","Sa"),"") -> Mi | B7: =IF(MONTH($F$3+0)=MONTH($F$3),$F$3+0,"") -> 46113 | F7: =IF(AND(ISNUMBER(C7),ISNUMBER(D7)),MAX(0,(D7-C7+IF(D7<C7,1,0))*24-IF(ISNUMBER(E7),E7,0)/60),0) -> 0 | G7: =IF(ISNUMBER(B7),IF(WEEKDAY(B7,2)<=5,$F$4,0),0) -> 8
A8: =IF(ISNUMBER(B8),CHOOSE(WEEKDAY(B8),"So","Mo","Di","Mi","Do","Fr","Sa"),"") -> Do | B8: =IF(MONTH($F$3+1)=MONTH($F$3),$F$3+1,"") -> 46114 | F8: =IF(AND(ISNUMBER(C8),ISNUMBER(D8)),MAX(0,(D8-C8+IF(D8<C8,1,0))*24-IF(ISNUMBER(E8),E8,0)/60),0) -> 0 | G8: =IF(ISNUMBER(B8),IF(WEEKDAY(B8,2)<=5,$F$4,0),0) -> 8
A9: =IF(ISNUMBER(B9),CHOOSE(WEEKDAY(B9),"So","Mo","Di","Mi","Do","Fr","Sa"),"") -> Fr | B9: =IF(MONTH($F$3+2)=MONTH($F$3),$F$3+2,"") -> 46115 | F9: =IF(AND(ISNUMBER(C9),ISNUMBER(D9)),MAX(0,(D9-C9+IF(D9<C9,1,0))*24-IF(ISNUMBER(E9),E9,0)/60),0) -> 0 | G9: =IF(ISNUMBER(B9),IF(WEEKDAY(B9,2)<=5,$F$4,0),0) -> 8
A10: =IF(ISNUMBER(B10),CHOOSE(WEEKDAY(B10),"So","Mo","Di","Mi","Do","Fr","Sa"),"") -> Sa | B10: =IF(MONTH($F$3+3)=MONTH($F$3),$F$3+3,"") -> 46116 | F10: =IF(AND(ISNUMBER(C10),ISNUMBER(D10)),MAX(0,(D10-C10+IF(D10<C10,1,0))*24-IF(ISNUMBER(E10),E10,0)/60),0) -> 0 | G10: =IF(ISNUMBER(B10),IF(WEEKDAY(B10,2)<=5,$F$4,0),0) -> 0
A11: =IF(ISNUMBER(B11),CHOOSE(WEEKDAY(B11),"So","Mo","Di","Mi","Do","Fr","Sa"),"") -> So | B11: =IF(MONTH($F$3+4)=MONTH($F$3),$F$3+4,"") -> 46117 | F11: =IF(AND(ISNUMBER(C11),ISNUMBER(D11)),MAX(0,(D11-C11+IF(D11<C11,1,0))*24-IF(ISNUMBER(E11),E11,0)/60),0) -> 0 | G11: =IF(ISNUMBER(B11),IF(WEEKDAY(B11,2)<=5,$F$4,0),0) -> 0
A12: =IF(ISNUMBER(B12),CHOOSE(WEEKDAY(B12),"So","Mo","Di","Mi","Do","Fr","Sa"),"") -> Mo | B12: =IF(MONTH($F$3+5)=MONTH($F$3),$F$3+5,"") -> 46118 | F12: =IF(AND(ISNUMBER(C12),ISNUMBER(D12)),MAX(0,(D12-C12+IF(D12<C12,1,0))*24-IF(ISNUMBER(E12),E12,0)/60),0) -> 0 | G12: =IF(ISNUMBER(B12),IF(WEEKDAY(B12,2)<=5,$F$4,0),0) -> 8
A13: =IF(ISNUMBER(B13),CHOOSE(WEEKDAY(B13),"So","Mo","Di","Mi","Do","Fr","Sa"),"") -> Di | B13: =IF(MONTH($F$3+6)=MONTH($F$3),$F$3+6,"") -> 46119 | F13: =IF(AND(ISNUMBER(C13),ISNUMBER(D13)),MAX(0,(D13-C13+IF(D13<C13,1,0))*24-IF(ISNUMBER(E13),E13,0)/60),0) -> 0 | G13: =IF(ISNUMBER(B13),IF(WEEKDAY(B13,2)<=5,$F$4,0),0) -> 8
A14: =IF(ISNUMBER(B14),CHOOSE(WEEKDAY(B14),"So","Mo","Di","Mi","Do","Fr","Sa"),"") -> Mi | B14: =IF(MONTH($F$3+7)=MONTH($F$3),$F$3+7,"") -> 46120 | F14: =IF(AND(ISNUMBER(C14),ISNUMBER(D14)),MAX(0,(D14-C14+IF(D14<C14,1,0))*24-IF(ISNUMBER(E14),E14,0)/60),0) -> 0 | G14: =IF(ISNUMBER(B14),IF(WEEKDAY(B14,2)<=5,$F$4,0),0) -> 8
A15: =IF(ISNUMBER(B15),CHOOSE(WEEKDAY(B15),"So","Mo","Di","Mi","Do","Fr","Sa"),"") -> Do | B15: =IF(MONTH($F$3+8)=MONTH($F$3),$F$3+8,"") -> 46121 | F15: =IF(AND(ISNUMBER(C15),ISNUMBER(D15)),MAX(0,(D15-C15+IF(D15<C15,1,0))*24-IF(ISNUMBER(E15),E15,0)/60),0) -> 0 | G15: =IF(ISNUMBER(B15),IF(WEEKDAY(B15,2)<=5,$F$4,0),0) -> 8
A16: =IF(ISNUMBER(B16),CHOOSE(WEEKDAY(B16),"So","Mo","Di","Mi","Do","Fr","Sa"),"") -> Fr | B16: =IF(MONTH($F$3+9)=MONTH($F$3),$F$3+9,"") -> 46122 | F16: =IF(AND(ISNUMBER(C16),ISNUMBER(D16)),MAX(0,(D16-C16+IF(D16<C16,1,0))*24-IF(ISNUMBER(E16),E16,0)/60),0) -> 0 | G16: =IF(ISNUMBER(B16),IF(WEEKDAY(B16,2)<=5,$F$4,0),0) -> 8
A17: =IF(ISNUMBER(B17),CHOOSE(WEEKDAY(B17),"So","Mo","Di","Mi","Do","Fr","Sa"),"") -> Sa | B17: =IF(MONTH($F$3+10)=MONTH($F$3),$F$3+10,"") -> 46123 | F17: =IF(AND(ISNUMBER(C17),ISNUMBER(D17)),MAX(0,(D17-C17+IF(D17<C17,1,0))*24-IF(ISNUMBER(E17),E17,0)/60),0) -> 0 | G17: =IF(ISNUMBER(B17),IF(WEEKDAY(B17,2)<=5,$F$4,0),0) -> 0
A18: =IF(ISNUMBER(B18),CHOOSE(WEEKDAY(B18),"So","Mo","Di","Mi","Do","Fr","Sa"),"") -> So | B18: =IF(MONTH($F$3+11)=MONTH($F$3),$F$3+11,"") -> 46124 | F18: =IF(AND(ISNUMBER(C18),ISNUMBER(D18)),MAX(0,(D18-C18+IF(D18<C18,1,0))*24-IF(ISNUMBER(E18),E18,0)/60),0) -> 0 | G18: =IF(ISNUMBER(B18),IF(WEEKDAY(B18,2)<=5,$F$4,0),0) -> 0
A19: =IF(ISNUMBER(B19),CHOOSE(WEEKDAY(B19),"So","Mo","Di","Mi","Do","Fr","Sa"),"") -> Mo | B19: =IF(MONTH($F$3+12)=MONTH($F$3),$F$3+12,"") -> 46125 | F19: =IF(AND(ISNUMBER(C19),ISNUMBER(D19)),MAX(0,(D19-C19+IF(D19<C19,1,0))*24-IF(ISNUMBER(E19),E19,0)/60),0) -> 0 | G19: =IF(ISNUMBER(B19),IF(WEEKDAY(B19,2)<=5,$F$4,0),0) -> 8
A20: =IF(ISNUMBER(B20),CHOOSE(WEEKDAY(B20),"So","Mo","Di","Mi","Do","Fr","Sa"),"") -> Di | B20: =IF(MONTH($F$3+13)=MONTH($F$3),$F$3+13,"") -> 46126 | F20: =IF(AND(ISNUMBER(C20),ISNUMBER(D20)),MAX(0,(D20-C20+IF(D20<C20,1,0))*24-IF(ISNUMBER(E20),E20,0)/60),0) -> 0 | G20: =IF(ISNUMBER(B20),IF(WEEKDAY(B20,2)<=5,$F$4,0),0) -> 8
A21: =IF(ISNUMBER(B21),CHOOSE(WEEKDAY(B21),"So","Mo","Di","Mi","Do","Fr","Sa"),"") -> Mi | B21: =IF(MONTH($F$3+14)=MONTH($F$3),$F$3+14,"") -> 46127 | F21: =IF(AND(ISNUMBER(C21),ISNUMBER(D21)),MAX(0,(D21-C21+IF(D21<C21,1,0))*24-IF(ISNUMBER(E21),E21,0)/60),0) -> 0 | G21: =IF(ISNUMBER(B21),IF(WEEKDAY(B21,2)<=5,$F$4,0),0) -> 8
A22: =IF(ISNUMBER(B22),CHOOSE(WEEKDAY(B22),"So","Mo","Di","Mi","Do","Fr","Sa"),"") -> Do | B22: =IF(MONTH($F$3+15)=MONTH($F$3),$F$3+15,"") -> 46128 | F22: =IF(AND(ISNUMBER(C22),ISNUMBER(D22)),MAX(0,(D22-C22+IF(D22<C22,1,0))*24-IF(ISNUMBER(E22),E22,0)/60),0) -> 0 | G22: =IF(ISNUMBER(B22),IF(WEEKDAY(B22,2)<=5,$F$4,0),0) -> 8
A23: =IF(ISNUMBER(B23),CHOOSE(WEEKDAY(B23),"So","Mo","Di","Mi","Do","Fr","Sa"),"") -> Fr | B23: =IF(MONTH($F$3+16)=MONTH($F$3),$F$3+16,"") -> 46129 | F23: =IF(AND(ISNUMBER(C23),ISNUMBER(D23)),MAX(0,(D23-C23+IF(D23<C23,1,0))*24-IF(ISNUMBER(E23),E23,0)/60),0) -> 0 | G23: =IF(ISNUMBER(B23),IF(WEEKDAY(B23,2)<=5,$F$4,0),0) -> 8
A24: =IF(ISNUMBER(B24),CHOOSE(WEEKDAY(B24),"So","Mo","Di","Mi","Do","Fr","Sa"),"") -> Sa | B24: =IF(MONTH($F$3+17)=MONTH($F$3),$F$3+17,"") -> 46130 | F24: =IF(AND(ISNUMBER(C24),ISNUMBER(D24)),MAX(0,(D24-C24+IF(D24<C24,1,0))*24-IF(ISNUMBER(E24),E24,0)/60),0) -> 0 | G24: =IF(ISNUMBER(B24),IF(WEEKDAY(B24,2)<=5,$F$4,0),0) -> 0
A25: =IF(ISNUMBER(B25),CHOOSE(WEEKDAY(B25),"So","Mo","Di","Mi","Do","Fr","Sa"),"") -> So | B25: =IF(MONTH($F$3+18)=MONTH($F$3),$F$3+18,"") -> 46131 | F25: =IF(AND(ISNUMBER(C25),ISNUMBER(D25)),MAX(0,(D25-C25+IF(D25<C25,1,0))*24-IF(ISNUMBER(E25),E25,0)/60),0) -> 0 | G25: =IF(ISNUMBER(B25),IF(WEEKDAY(B25,2)<=5,$F$4,0),0) -> 0
A26: =IF(ISNUMBER(B26),CHOOSE(WEEKDAY(B26),"So","Mo","Di","Mi","Do","Fr","Sa"),"") -> Mo | B26: =IF(MONTH($F$3+19)=MONTH($F$3),$F$3+19,"") -> 46132 | F26: =IF(AND(ISNUMBER(C26),ISNUMBER(D26)),MAX(0,(D26-C26+IF(D26<C26,1,0))*24-IF(ISNUMBER(E26),E26,0)/60),0) -> 0 | G26: =IF(ISNUMBER(B26),IF(WEEKDAY(B26,2)<=5,$F$4,0),0) -> 8
A27: =IF(ISNUMBER(B27),CHOOSE(WEEKDAY(B27),"So","Mo","Di","Mi","Do","Fr","Sa"),"") -> Di | B27: =IF(MONTH($F$3+20)=MONTH($F$3),$F$3+20,"") -> 46133 | F27: =IF(AND(ISNUMBER(C27),ISNUMBER(D27)),MAX(0,(D27-C27+IF(D27<C27,1,0))*24-IF(ISNUMBER(E27),E27,0)/60),0) -> 0 | G27: =IF(ISNUMBER(B27),IF(WEEKDAY(B27,2)<=5,$F$4,0),0) -> 8
A28: =IF(ISNUMBER(B28),CHOOSE(WEEKDAY(B28),"So","Mo","Di","Mi","Do","Fr","Sa"),"") -> Mi | B28: =IF(MONTH($F$3+21)=MONTH($F$3),$F$3+21,"") -> 46134 | F28: =IF(AND(ISNUMBER(C28),ISNUMBER(D28)),MAX(0,(D28-C28+IF(D28<C28,1,0))*24-IF(ISNUMBER(E28),E28,0)/60),0) -> 0 | G28: =IF(ISNUMBER(B28),IF(WEEKDAY(B28,2)<=5,$F$4,0),0) -> 8
A29: =IF(ISNUMBER(B29),CHOOSE(WEEKDAY(B29),"So","Mo","Di","Mi","Do","Fr","Sa"),"") -> Do | B29: =IF(MONTH($F$3+22)=MONTH($F$3),$F$3+22,"") -> 46135 | F29: =IF(AND(ISNUMBER(C29),ISNUMBER(D29)),MAX(0,(D29-C29+IF(D29<C29,1,0))*24-IF(ISNUMBER(E29),E29,0)/60),0) -> 0 | G29: =IF(ISNUMBER(B29),IF(WEEKDAY(B29,2)<=5,$F$4,0),0) -> 8
A30: =IF(ISNUMBER(B30),CHOOSE(WEEKDAY(B30),"So","Mo","Di","Mi","Do","Fr","Sa"),"") -> Fr | B30: =IF(MONTH($F$3+23)=MONTH($F$3),$F$3+23,"") -> 46136 | F30: =IF(AND(ISNUMBER(C30),ISNUMBER(D30)),MAX(0,(D30-C30+IF(D30<C30,1,0))*24-IF(ISNUMBER(E30),E30,0)/60),0) -> 0 | G30: =IF(ISNUMBER(B30),IF(WEEKDAY(B30,2)<=5,$F$4,0),0) -> 8
A31: =IF(ISNUMBER(B31),CHOOSE(WEEKDAY(B31),"So","Mo","Di","Mi","Do","Fr","Sa"),"") -> Sa | B31: =IF(MONTH($F$3+24)=MONTH($F$3),$F$3+24,"") -> 46137 | F31: =IF(AND(ISNUMBER(C31),ISNUMBER(D31)),MAX(0,(D31-C31+IF(D31<C31,1,0))*24-IF(ISNUMBER(E31),E31,0)/60),0) -> 0 | G31: =IF(ISNUMBER(B31),IF(WEEKDAY(B31,2)<=5,$F$4,0),0) -> 0
A32: =IF(ISNUMBER(B32),CHOOSE(WEEKDAY(B32),"So","Mo","Di","Mi","Do","Fr","Sa"),"") -> So | B32: =IF(MONTH($F$3+25)=MONTH($F$3),$F$3+25,"") -> 46138 | F32: =IF(AND(ISNUMBER(C32),ISNUMBER(D32)),MAX(0,(D32-C32+IF(D32<C32,1,0))*24-IF(ISNUMBER(E32),E32,0)/60),0) -> 0 | G32: =IF(ISNUMBER(B32),IF(WEEKDAY(B32,2)<=5,$F$4,0),0) -> 0
A33: =IF(ISNUMBER(B33),CHOOSE(WEEKDAY(B33),"So","Mo","Di","Mi","Do","Fr","Sa"),"") -> Mo | B33: =IF(MONTH($F$3+26)=MONTH($F$3),$F$3+26,"") -> 46139 | F33: =IF(AND(ISNUMBER(C33),ISNUMBER(D33)),MAX(0,(D33-C33+IF(D33<C33,1,0))*24-IF(ISNUMBER(E33),E33,0)/60),0) -> 0 | G33: =IF(ISNUMBER(B33),IF(WEEKDAY(B33,2)<=5,$F$4,0),0) -> 8
A34: =IF(ISNUMBER(B34),CHOOSE(WEEKDAY(B34),"So","Mo","Di","Mi","Do","Fr","Sa"),"") -> Di | B34: =IF(MONTH($F$3+27)=MONTH($F$3),$F$3+27,"") -> 46140 | F34: =IF(AND(ISNUMBER(C34),ISNUMBER(D34)),MAX(0,(D34-C34+IF(D34<C34,1,0))*24-IF(ISNUMBER(E34),E34,0)/60),0) -> 0 | G34: =IF(ISNUMBER(B34),IF(WEEKDAY(B34,2)<=5,$F$4,0),0) -> 8
A35: =IF(ISNUMBER(B35),CHOOSE(WEEKDAY(B35),"So","Mo","Di","Mi","Do","Fr","Sa"),"") -> Mi | B35: =IF(MONTH($F$3+28)=MONTH($F$3),$F$3+28,"") -> 46141 | F35: =IF(AND(ISNUMBER(C35),ISNUMBER(D35)),MAX(0,(D35-C35+IF(D35<C35,1,0))*24-IF(ISNUMBER(E35),E35,0)/60),0) -> 0 | G35: =IF(ISNUMBER(B35),IF(WEEKDAY(B35,2)<=5,$F$4,0),0) -> 8
A36: =IF(ISNUMBER(B36),CHOOSE(WEEKDAY(B36),"So","Mo","Di","Mi","Do","Fr","Sa"),"") -> Do | B36: =IF(MONTH($F$3+29)=MONTH($F$3),$F$3+29,"") -> 46142 | F36: =IF(AND(ISNUMBER(C36),ISNUMBER(D36)),MAX(0,(D36-C36+IF(D36<C36,1,0))*24-IF(ISNUMBER(E36),E36,0)/60),0) -> 0 | G36: =IF(ISNUMBER(B36),IF(WEEKDAY(B36,2)<=5,$F$4,0),0) -> 8
A37: =IF(ISNUMBER(B37),CHOOSE(WEEKDAY(B37),"So","Mo","Di","Mi","Do","Fr","Sa"),"") | B37: =IF(MONTH($F$3+30)=MONTH($F$3),$F$3+30,"") | F37: =IF(AND(ISNUMBER(C37),ISNUMBER(D37)),MAX(0,(D37-C37+IF(D37<C37,1,0))*24-IF(ISNUMBER(E37),E37,0)/60),0) -> 0 | G37: =IF(ISNUMBER(B37),IF(WEEKDAY(B37,2)<=5,$F$4,0),0) -> 0
A39: Summe Arbeitszeit (Ist) | F39: =SUM(F7:F37) -> 0
A40: Summe Soll | F40: =SUM(G7:G37) -> 176
A41: Über- oder Minusstunden | F41: =F39-F40 -> -176
A42: Arbeitstage | F42: =COUNTIF(F7:F37,">0") -> 0
A45: Datum, Unterschrift Mitarbeiter/in | E45: Datum, Unterschrift Vorgesetzte/r
A47: Arbeitszeit ist Ende minus Beginn minus Pause, über Mitternacht wird richtig gerechnet. Die Summen dieses Blatts gehen in die Übersicht.

Sheet Mai
A1: Arbeitszeiterfassung Mai 2026
A2: Name, Abteilung und Soll pro Tag stehen auf dem Blatt Übersicht. Beginn und Ende im Format 8:00, die Pause in Minuten. Bei Feiertag, Urlaub oder Krankheit das Soll der Zeile auf 0 setzen.
A3: Name | B3: ='Übersicht'!$B$3 | E3: Monat | F3: 46143
A4: Abteilung | B4: ='Übersicht'!$B$4 | E4: Soll pro Tag | F4: ='Übersicht'!$B$5 -> 8 | G4: Std., Mo bis Fr
A6: Tag | B6: Datum | C6: Beginn | D6: Ende | E6: Pause (Min.) | F6: Arbeitszeit (Std.) | G6: Soll (Std.) | H6: Bemerkung
A7: =IF(ISNUMBER(B7),CHOOSE(WEEKDAY(B7),"So","Mo","Di","Mi","Do","Fr","Sa"),"") -> Fr | B7: =IF(MONTH($F$3+0)=MONTH($F$3),$F$3+0,"") -> 46143 | F7: =IF(AND(ISNUMBER(C7),ISNUMBER(D7)),MAX(0,(D7-C7+IF(D7<C7,1,0))*24-IF(ISNUMBER(E7),E7,0)/60),0) -> 0 | G7: =IF(ISNUMBER(B7),IF(WEEKDAY(B7,2)<=5,$F$4,0),0) -> 8
A8: =IF(ISNUMBER(B8),CHOOSE(WEEKDAY(B8),"So","Mo","Di","Mi","Do","Fr","Sa"),"") -> Sa | B8: =IF(MONTH($F$3+1)=MONTH($F$3),$F$3+1,"") -> 46144 | F8: =IF(AND(ISNUMBER(C8),ISNUMBER(D8)),MAX(0,(D8-C8+IF(D8<C8,1,0))*24-IF(ISNUMBER(E8),E8,0)/60),0) -> 0 | G8: =IF(ISNUMBER(B8),IF(WEEKDAY(B8,2)<=5,$F$4,0),0) -> 0
A9: =IF(ISNUMBER(B9),CHOOSE(WEEKDAY(B9),"So","Mo","Di","Mi","Do","Fr","Sa"),"") -> So | B9: =IF(MONTH($F$3+2)=MONTH($F$3),$F$3+2,"") -> 46145 | F9: =IF(AND(ISNUMBER(C9),ISNUMBER(D9)),MAX(0,(D9-C9+IF(D9<C9,1,0))*24-IF(ISNUMBER(E9),E9,0)/60),0) -> 0 | G9: =IF(ISNUMBER(B9),IF(WEEKDAY(B9,2)<=5,$F$4,0),0) -> 0
A10: =IF(ISNUMBER(B10),CHOOSE(WEEKDAY(B10),"So","Mo","Di","Mi","Do","Fr","Sa"),"") -> Mo | B10: =IF(MONTH($F$3+3)=MONTH($F$3),$F$3+3,"") -> 46146 | F10: =IF(AND(ISNUMBER(C10),ISNUMBER(D10)),MAX(0,(D10-C10+IF(D10<C10,1,0))*24-IF(ISNUMBER(E10),E10,0)/60),0) -> 0 | G10: =IF(ISNUMBER(B10),IF(WEEKDAY(B10,2)<=5,$F$4,0),0) -> 8
A11: =IF(ISNUMBER(B11),CHOOSE(WEEKDAY(B11),"So","Mo","Di","Mi","Do","Fr","Sa"),"") -> Di | B11: =IF(MONTH($F$3+4)=MONTH($F$3),$F$3+4,"") -> 46147 | F11: =IF(AND(ISNUMBER(C11),ISNUMBER(D11)),MAX(0,(D11-C11+IF(D11<C11,1,0))*24-IF(ISNUMBER(E11),E11,0)/60),0) -> 0 | G11: =IF(ISNUMBER(B11),IF(WEEKDAY(B11,2)<=5,$F$4,0),0) -> 8
A12: =IF(ISNUMBER(B12),CHOOSE(WEEKDAY(B12),"So","Mo","Di","Mi","Do","Fr","Sa"),"") -> Mi | B12: =IF(MONTH($F$3+5)=MONTH($F$3),$F$3+5,"") -> 46148 | F12: =IF(AND(ISNUMBER(C12),ISNUMBER(D12)),MAX(0,(D12-C12+IF(D12<C12,1,0))*24-IF(ISNUMBER(E12),E12,0)/60),0) -> 0 | G12: =IF(ISNUMBER(B12),IF(WEEKDAY(B12,2)<=5,$F$4,0),0) -> 8
A13: =IF(ISNUMBER(B13),CHOOSE(WEEKDAY(B13),"So","Mo","Di","Mi","Do","Fr","Sa"),"") -> Do | B13: =IF(MONTH($F$3+6)=MONTH($F$3),$F$3+6,"") -> 46149 | F13: =IF(AND(ISNUMBER(C13),ISNUMBER(D13)),MAX(0,(D13-C13+IF(D13<C13,1,0))*24-IF(ISNUMBER(E13),E13,0)/60),0) -> 0 | G13: =IF(ISNUMBER(B13),IF(WEEKDAY(B13,2)<=5,$F$4,0),0) -> 8
A14: =IF(ISNUMBER(B14),CHOOSE(WEEKDAY(B14),"So","Mo","Di","Mi","Do","Fr","Sa"),"") -> Fr | B14: =IF(MONTH($F$3+7)=MONTH($F$3),$F$3+7,"") -> 46150 | F14: =IF(AND(ISNUMBER(C14),ISNUMBER(D14)),MAX(0,(D14-C14+IF(D14<C14,1,0))*24-IF(ISNUMBER(E14),E14,0)/60),0) -> 0 | G14: =IF(ISNUMBER(B14),IF(WEEKDAY(B14,2)<=5,$F$4,0),0) -> 8
A15: =IF(ISNUMBER(B15),CHOOSE(WEEKDAY(B15),"So","Mo","Di","Mi","Do","Fr","Sa"),"") -> Sa | B15: =IF(MONTH($F$3+8)=MONTH($F$3),$F$3+8,"") -> 46151 | F15: =IF(AND(ISNUMBER(C15),ISNUMBER(D15)),MAX(0,(D15-C15+IF(D15<C15,1,0))*24-IF(ISNUMBER(E15),E15,0)/60),0) -> 0 | G15: =IF(ISNUMBER(B15),IF(WEEKDAY(B15,2)<=5,$F$4,0),0) -> 0
A16: =IF(ISNUMBER(B16),CHOOSE(WEEKDAY(B16),"So","Mo","Di","Mi","Do","Fr","Sa"),"") -> So | B16: =IF(MONTH($F$3+9)=MONTH($F$3),$F$3+9,"") -> 46152 | F16: =IF(AND(ISNUMBER(C16),ISNUMBER(D16)),MAX(0,(D16-C16+IF(D16<C16,1,0))*24-IF(ISNUMBER(E16),E16,0)/60),0) -> 0 | G16: =IF(ISNUMBER(B16),IF(WEEKDAY(B16,2)<=5,$F$4,0),0) -> 0
A17: =IF(ISNUMBER(B17),CHOOSE(WEEKDAY(B17),"So","Mo","Di","Mi","Do","Fr","Sa"),"") -> Mo | B17: =IF(MONTH($F$3+10)=MONTH($F$3),$F$3+10,"") -> 46153 | F17: =IF(AND(ISNUMBER(C17),ISNUMBER(D17)),MAX(0,(D17-C17+IF(D17<C17,1,0))*24-IF(ISNUMBER(E17),E17,0)/60),0) -> 0 | G17: =IF(ISNUMBER(B17),IF(WEEKDAY(B17,2)<=5,$F$4,0),0) -> 8
A18: =IF(ISNUMBER(B18),CHOOSE(WEEKDAY(B18),"So","Mo","Di","Mi","Do","Fr","Sa"),"") -> Di | B18: =IF(MONTH($F$3+11)=MONTH($F$3),$F$3+11,"") -> 46154 | F18: =IF(AND(ISNUMBER(C18),ISNUMBER(D18)),MAX(0,(D18-C18+IF(D18<C18,1,0))*24-IF(ISNUMBER(E18),E18,0)/60),0) -> 0 | G18: =IF(ISNUMBER(B18),IF(WEEKDAY(B18,2)<=5,$F$4,0),0) -> 8
A19: =IF(ISNUMBER(B19),CHOOSE(WEEKDAY(B19),"So","Mo","Di","Mi","Do","Fr","Sa"),"") -> Mi | B19: =IF(MONTH($F$3+12)=MONTH($F$3),$F$3+12,"") -> 46155 | F19: =IF(AND(ISNUMBER(C19),ISNUMBER(D19)),MAX(0,(D19-C19+IF(D19<C19,1,0))*24-IF(ISNUMBER(E19),E19,0)/60),0) -> 0 | G19: =IF(ISNUMBER(B19),IF(WEEKDAY(B19,2)<=5,$F$4,0),0) -> 8
A20: =IF(ISNUMBER(B20),CHOOSE(WEEKDAY(B20),"So","Mo","Di","Mi","Do","Fr","Sa"),"") -> Do | B20: =IF(MONTH($F$3+13)=MONTH($F$3),$F$3+13,"") -> 46156 | F20: =IF(AND(ISNUMBER(C20),ISNUMBER(D20)),MAX(0,(D20-C20+IF(D20<C20,1,0))*24-IF(ISNUMBER(E20),E20,0)/60),0) -> 0 | G20: =IF(ISNUMBER(B20),IF(WEEKDAY(B20,2)<=5,$F$4,0),0) -> 8
A21: =IF(ISNUMBER(B21),CHOOSE(WEEKDAY(B21),"So","Mo","Di","Mi","Do","Fr","Sa"),"") -> Fr | B21: =IF(MONTH($F$3+14)=MONTH($F$3),$F$3+14,"") -> 46157 | F21: =IF(AND(ISNUMBER(C21),ISNUMBER(D21)),MAX(0,(D21-C21+IF(D21<C21,1,0))*24-IF(ISNUMBER(E21),E21,0)/60),0) -> 0 | G21: =IF(ISNUMBER(B21),IF(WEEKDAY(B21,2)<=5,$F$4,0),0) -> 8
A22: =IF(ISNUMBER(B22),CHOOSE(WEEKDAY(B22),"So","Mo","Di","Mi","Do","Fr","Sa"),"") -> Sa | B22: =IF(MONTH($F$3+15)=MONTH($F$3),$F$3+15,"") -> 46158 | F22: =IF(AND(ISNUMBER(C22),ISNUMBER(D22)),MAX(0,(D22-C22+IF(D22<C22,1,0))*24-IF(ISNUMBER(E22),E22,0)/60),0) -> 0 | G22: =IF(ISNUMBER(B22),IF(WEEKDAY(B22,2)<=5,$F$4,0),0) -> 0
A23: =IF(ISNUMBER(B23),CHOOSE(WEEKDAY(B23),"So","Mo","Di","Mi","Do","Fr","Sa"),"") -> So | B23: =IF(MONTH($F$3+16)=MONTH($F$3),$F$3+16,"") -> 46159 | F23: =IF(AND(ISNUMBER(C23),ISNUMBER(D23)),MAX(0,(D23-C23+IF(D23<C23,1,0))*24-IF(ISNUMBER(E23),E23,0)/60),0) -> 0 | G23: =IF(ISNUMBER(B23),IF(WEEKDAY(B23,2)<=5,$F$4,0),0) -> 0
A24: =IF(ISNUMBER(B24),CHOOSE(WEEKDAY(B24),"So","Mo","Di","Mi","Do","Fr","Sa"),"") -> Mo | B24: =IF(MONTH($F$3+17)=MONTH($F$3),$F$3+17,"") -> 46160 | F24: =IF(AND(ISNUMBER(C24),ISNUMBER(D24)),MAX(0,(D24-C24+IF(D24<C24,1,0))*24-IF(ISNUMBER(E24),E24,0)/60),0) -> 0 | G24: =IF(ISNUMBER(B24),IF(WEEKDAY(B24,2)<=5,$F$4,0),0) -> 8
A25: =IF(ISNUMBER(B25),CHOOSE(WEEKDAY(B25),"So","Mo","Di","Mi","Do","Fr","Sa"),"") -> Di | B25: =IF(MONTH($F$3+18)=MONTH($F$3),$F$3+18,"") -> 46161 | F25: =IF(AND(ISNUMBER(C25),ISNUMBER(D25)),MAX(0,(D25-C25+IF(D25<C25,1,0))*24-IF(ISNUMBER(E25),E25,0)/60),0) -> 0 | G25: =IF(ISNUMBER(B25),IF(WEEKDAY(B25,2)<=5,$F$4,0),0) -> 8
A26: =IF(ISNUMBER(B26),CHOOSE(WEEKDAY(B26),"So","Mo","Di","Mi","Do","Fr","Sa"),"") -> Mi | B26: =IF(MONTH($F$3+19)=MONTH($F$3),$F$3+19,"") -> 46162 | F26: =IF(AND(ISNUMBER(C26),ISNUMBER(D26)),MAX(0,(D26-C26+IF(D26<C26,1,0))*24-IF(ISNUMBER(E26),E26,0)/60),0) -> 0 | G26: =IF(ISNUMBER(B26),IF(WEEKDAY(B26,2)<=5,$F$4,0),0) -> 8
A27: =IF(ISNUMBER(B27),CHOOSE(WEEKDAY(B27),"So","Mo","Di","Mi","Do","Fr","Sa"),"") -> Do | B27: =IF(MONTH($F$3+20)=MONTH($F$3),$F$3+20,"") -> 46163 | F27: =IF(AND(ISNUMBER(C27),ISNUMBER(D27)),MAX(0,(D27-C27+IF(D27<C27,1,0))*24-IF(ISNUMBER(E27),E27,0)/60),0) -> 0 | G27: =IF(ISNUMBER(B27),IF(WEEKDAY(B27,2)<=5,$F$4,0),0) -> 8
A28: =IF(ISNUMBER(B28),CHOOSE(WEEKDAY(B28),"So","Mo","Di","Mi","Do","Fr","Sa"),"") -> Fr | B28: =IF(MONTH($F$3+21)=MONTH($F$3),$F$3+21,"") -> 46164 | F28: =IF(AND(ISNUMBER(C28),ISNUMBER(D28)),MAX(0,(D28-C28+IF(D28<C28,1,0))*24-IF(ISNUMBER(E28),E28,0)/60),0) -> 0 | G28: =IF(ISNUMBER(B28),IF(WEEKDAY(B28,2)<=5,$F$4,0),0) -> 8
A29: =IF(ISNUMBER(B29),CHOOSE(WEEKDAY(B29),"So","Mo","Di","Mi","Do","Fr","Sa"),"") -> Sa | B29: =IF(MONTH($F$3+22)=MONTH($F$3),$F$3+22,"") -> 46165 | F29: =IF(AND(ISNUMBER(C29),ISNUMBER(D29)),MAX(0,(D29-C29+IF(D29<C29,1,0))*24-IF(ISNUMBER(E29),E29,0)/60),0) -> 0 | G29: =IF(ISNUMBER(B29),IF(WEEKDAY(B29,2)<=5,$F$4,0),0) -> 0
A30: =IF(ISNUMBER(B30),CHOOSE(WEEKDAY(B30),"So","Mo","Di","Mi","Do","Fr","Sa"),"") -> So | B30: =IF(MONTH($F$3+23)=MONTH($F$3),$F$3+23,"") -> 46166 | F30: =IF(AND(ISNUMBER(C30),ISNUMBER(D30)),MAX(0,(D30-C30+IF(D30<C30,1,0))*24-IF(ISNUMBER(E30),E30,0)/60),0) -> 0 | G30: =IF(ISNUMBER(B30),IF(WEEKDAY(B30,2)<=5,$F$4,0),0) -> 0
A31: =IF(ISNUMBER(B31),CHOOSE(WEEKDAY(B31),"So","Mo","Di","Mi","Do","Fr","Sa"),"") -> Mo | B31: =IF(MONTH($F$3+24)=MONTH($F$3),$F$3+24,"") -> 46167 | F31: =IF(AND(ISNUMBER(C31),ISNUMBER(D31)),MAX(0,(D31-C31+IF(D31<C31,1,0))*24-IF(ISNUMBER(E31),E31,0)/60),0) -> 0 | G31: =IF(ISNUMBER(B31),IF(WEEKDAY(B31,2)<=5,$F$4,0),0) -> 8
A32: =IF(ISNUMBER(B32),CHOOSE(WEEKDAY(B32),"So","Mo","Di","Mi","Do","Fr","Sa"),"") -> Di | B32: =IF(MONTH($F$3+25)=MONTH($F$3),$F$3+25,"") -> 46168 | F32: =IF(AND(ISNUMBER(C32),ISNUMBER(D32)),MAX(0,(D32-C32+IF(D32<C32,1,0))*24-IF(ISNUMBER(E32),E32,0)/60),0) -> 0 | G32: =IF(ISNUMBER(B32),IF(WEEKDAY(B32,2)<=5,$F$4,0),0) -> 8
A33: =IF(ISNUMBER(B33),CHOOSE(WEEKDAY(B33),"So","Mo","Di","Mi","Do","Fr","Sa"),"") -> Mi | B33: =IF(MONTH($F$3+26)=MONTH($F$3),$F$3+26,"") -> 46169 | F33: =IF(AND(ISNUMBER(C33),ISNUMBER(D33)),MAX(0,(D33-C33+IF(D33<C33,1,0))*24-IF(ISNUMBER(E33),E33,0)/60),0) -> 0 | G33: =IF(ISNUMBER(B33),IF(WEEKDAY(B33,2)<=5,$F$4,0),0) -> 8
A34: =IF(ISNUMBER(B34),CHOOSE(WEEKDAY(B34),"So","Mo","Di","Mi","Do","Fr","Sa"),"") -> Do | B34: =IF(MONTH($F$3+27)=MONTH($F$3),$F$3+27,"") -> 46170 | F34: =IF(AND(ISNUMBER(C34),ISNUMBER(D34)),MAX(0,(D34-C34+IF(D34<C34,1,0))*24-IF(ISNUMBER(E34),E34,0)/60),0) -> 0 | G34: =IF(ISNUMBER(B34),IF(WEEKDAY(B34,2)<=5,$F$4,0),0) -> 8
A35: =IF(ISNUMBER(B35),CHOOSE(WEEKDAY(B35),"So","Mo","Di","Mi","Do","Fr","Sa"),"") -> Fr | B35: =IF(MONTH($F$3+28)=MONTH($F$3),$F$3+28,"") -> 46171 | F35: =IF(AND(ISNUMBER(C35),ISNUMBER(D35)),MAX(0,(D35-C35+IF(D35<C35,1,0))*24-IF(ISNUMBER(E35),E35,0)/60),0) -> 0 | G35: =IF(ISNUMBER(B35),IF(WEEKDAY(B35,2)<=5,$F$4,0),0) -> 8
A36: =IF(ISNUMBER(B36),CHOOSE(WEEKDAY(B36),"So","Mo","Di","Mi","Do","Fr","Sa"),"") -> Sa | B36: =IF(MONTH($F$3+29)=MONTH($F$3),$F$3+29,"") -> 46172 | F36: =IF(AND(ISNUMBER(C36),ISNUMBER(D36)),MAX(0,(D36-C36+IF(D36<C36,1,0))*24-IF(ISNUMBER(E36),E36,0)/60),0) -> 0 | G36: =IF(ISNUMBER(B36),IF(WEEKDAY(B36,2)<=5,$F$4,0),0) -> 0
A37: =IF(ISNUMBER(B37),CHOOSE(WEEKDAY(B37),"So","Mo","Di","Mi","Do","Fr","Sa"),"") -> So | B37: =IF(MONTH($F$3+30)=MONTH($F$3),$F$3+30,"") -> 46173 | F37: =IF(AND(ISNUMBER(C37),ISNUMBER(D37)),MAX(0,(D37-C37+IF(D37<C37,1,0))*24-IF(ISNUMBER(E37),E37,0)/60),0) -> 0 | G37: =IF(ISNUMBER(B37),IF(WEEKDAY(B37,2)<=5,$F$4,0),0) -> 0
A39: Summe Arbeitszeit (Ist) | F39: =SUM(F7:F37) -> 0
A40: Summe Soll | F40: =SUM(G7:G37) -> 168
A41: Über- oder Minusstunden | F41: =F39-F40 -> -168
A42: Arbeitstage | F42: =COUNTIF(F7:F37,">0") -> 0
A45: Datum, Unterschrift Mitarbeiter/in | E45: Datum, Unterschrift Vorgesetzte/r
A47: Arbeitszeit ist Ende minus Beginn minus Pause, über Mitternacht wird richtig gerechnet. Die Summen dieses Blatts gehen in die Übersicht.

Sheet Jun
A1: Arbeitszeiterfassung Juni 2026
A2: Name, Abteilung und Soll pro Tag stehen auf dem Blatt Übersicht. Beginn und Ende im Format 8:00, die Pause in Minuten. Bei Feiertag, Urlaub oder Krankheit das Soll der Zeile auf 0 setzen.
A3: Name | B3: ='Übersicht'!$B$3 | E3: Monat | F3: 46174
A4: Abteilung | B4: ='Übersicht'!$B$4 | E4: Soll pro Tag | F4: ='Übersicht'!$B$5 -> 8 | G4: Std., Mo bis Fr
A6: Tag | B6: Datum | C6: Beginn | D6: Ende | E6: Pause (Min.) | F6: Arbeitszeit (Std.) | G6: Soll (Std.) | H6: Bemerkung
A7: =IF(ISNUMBER(B7),CHOOSE(WEEKDAY(B7),"So","Mo","Di","Mi","Do","Fr","Sa"),"") -> Mo | B7: =IF(MONTH($F$3+0)=MONTH($F$3),$F$3+0,"") -> 46174 | F7: =IF(AND(ISNUMBER(C7),ISNUMBER(D7)),MAX(0,(D7-C7+IF(D7<C7,1,0))*24-IF(ISNUMBER(E7),E7,0)/60),0) -> 0 | G7: =IF(ISNUMBER(B7),IF(WEEKDAY(B7,2)<=5,$F$4,0),0) -> 8
A8: =IF(ISNUMBER(B8),CHOOSE(WEEKDAY(B8),"So","Mo","Di","Mi","Do","Fr","Sa"),"") -> Di | B8: =IF(MONTH($F$3+1)=MONTH($F$3),$F$3+1,"") -> 46175 | F8: =IF(AND(ISNUMBER(C8),ISNUMBER(D8)),MAX(0,(D8-C8+IF(D8<C8,1,0))*24-IF(ISNUMBER(E8),E8,0)/60),0) -> 0 | G8: =IF(ISNUMBER(B8),IF(WEEKDAY(B8,2)<=5,$F$4,0),0) -> 8
A9: =IF(ISNUMBER(B9),CHOOSE(WEEKDAY(B9),"So","Mo","Di","Mi","Do","Fr","Sa"),"") -> Mi | B9: =IF(MONTH($F$3+2)=MONTH($F$3),$F$3+2,"") -> 46176 | F9: =IF(AND(ISNUMBER(C9),ISNUMBER(D9)),MAX(0,(D9-C9+IF(D9<C9,1,0))*24-IF(ISNUMBER(E9),E9,0)/60),0) -> 0 | G9: =IF(ISNUMBER(B9),IF(WEEKDAY(B9,2)<=5,$F$4,0),0) -> 8
A10: =IF(ISNUMBER(B10),CHOOSE(WEEKDAY(B10),"So","Mo","Di","Mi","Do","Fr","Sa"),"") -> Do | B10: =IF(MONTH($F$3+3)=MONTH($F$3),$F$3+3,"") -> 46177 | F10: =IF(AND(ISNUMBER(C10),ISNUMBER(D10)),MAX(0,(D10-C10+IF(D10<C10,1,0))*24-IF(ISNUMBER(E10),E10,0)/60),0) -> 0 | G10: =IF(ISNUMBER(B10),IF(WEEKDAY(B10,2)<=5,$F$4,0),0) -> 8
A11: =IF(ISNUMBER(B11),CHOOSE(WEEKDAY(B11),"So","Mo","Di","Mi","Do","Fr","Sa"),"") -> Fr | B11: =IF(MONTH($F$3+4)=MONTH($F$3),$F$3+4,"") -> 46178 | F11: =IF(AND(ISNUMBER(C11),ISNUMBER(D11)),MAX(0,(D11-C11+IF(D11<C11,1,0))*24-IF(ISNUMBER(E11),E11,0)/60),0) -> 0 | G11: =IF(ISNUMBER(B11),IF(WEEKDAY(B11,2)<=5,$F$4,0),0) -> 8
A12: =IF(ISNUMBER(B12),CHOOSE(WEEKDAY(B12),"So","Mo","Di","Mi","Do","Fr","Sa"),"") -> Sa | B12: =IF(MONTH($F$3+5)=MONTH($F$3),$F$3+5,"") -> 46179 | F12: =IF(AND(ISNUMBER(C12),ISNUMBER(D12)),MAX(0,(D12-C12+IF(D12<C12,1,0))*24-IF(ISNUMBER(E12),E12,0)/60),0) -> 0 | G12: =IF(ISNUMBER(B12),IF(WEEKDAY(B12,2)<=5,$F$4,0),0) -> 0
A13: =IF(ISNUMBER(B13),CHOOSE(WEEKDAY(B13),"So","Mo","Di","Mi","Do","Fr","Sa"),"") -> So | B13: =IF(MONTH($F$3+6)=MONTH($F$3),$F$3+6,"") -> 46180 | F13: =IF(AND(ISNUMBER(C13),ISNUMBER(D13)),MAX(0,(D13-C13+IF(D13<C13,1,0))*24-IF(ISNUMBER(E13),E13,0)/60),0) -> 0 | G13: =IF(ISNUMBER(B13),IF(WEEKDAY(B13,2)<=5,$F$4,0),0) -> 0
A14: =IF(ISNUMBER(B14),CHOOSE(WEEKDAY(B14),"So","Mo","Di","Mi","Do","Fr","Sa"),"") -> Mo | B14: =IF(MONTH($F$3+7)=MONTH($F$3),$F$3+7,"") -> 46181 | F14: =IF(AND(ISNUMBER(C14),ISNUMBER(D14)),MAX(0,(D14-C14+IF(D14<C14,1,0))*24-IF(ISNUMBER(E14),E14,0)/60),0) -> 0 | G14: =IF(ISNUMBER(B14),IF(WEEKDAY(B14,2)<=5,$F$4,0),0) -> 8
A15: =IF(ISNUMBER(B15),CHOOSE(WEEKDAY(B15),"So","Mo","Di","Mi","Do","Fr","Sa"),"") -> Di | B15: =IF(MONTH($F$3+8)=MONTH($F$3),$F$3+8,"") -> 46182 | F15: =IF(AND(ISNUMBER(C15),ISNUMBER(D15)),MAX(0,(D15-C15+IF(D15<C15,1,0))*24-IF(ISNUMBER(E15),E15,0)/60),0) -> 0 | G15: =IF(ISNUMBER(B15),IF(WEEKDAY(B15,2)<=5,$F$4,0),0) -> 8
A16: =IF(ISNUMBER(B16),CHOOSE(WEEKDAY(B16),"So","Mo","Di","Mi","Do","Fr","Sa"),"") -> Mi | B16: =IF(MONTH($F$3+9)=MONTH($F$3),$F$3+9,"") -> 46183 | F16: =IF(AND(ISNUMBER(C16),ISNUMBER(D16)),MAX(0,(D16-C16+IF(D16<C16,1,0))*24-IF(ISNUMBER(E16),E16,0)/60),0) -> 0 | G16: =IF(ISNUMBER(B16),IF(WEEKDAY(B16,2)<=5,$F$4,0),0) -> 8
A17: =IF(ISNUMBER(B17),CHOOSE(WEEKDAY(B17),"So","Mo","Di","Mi","Do","Fr","Sa"),"") -> Do | B17: =IF(MONTH($F$3+10)=MONTH($F$3),$F$3+10,"") -> 46184 | F17: =IF(AND(ISNUMBER(C17),ISNUMBER(D17)),MAX(0,(D17-C17+IF(D17<C17,1,0))*24-IF(ISNUMBER(E17),E17,0)/60),0) -> 0 | G17: =IF(ISNUMBER(B17),IF(WEEKDAY(B17,2)<=5,$F$4,0),0) -> 8
A18: =IF(ISNUMBER(B18),CHOOSE(WEEKDAY(B18),"So","Mo","Di","Mi","Do","Fr","Sa"),"") -> Fr | B18: =IF(MONTH($F$3+11)=MONTH($F$3),$F$3+11,"") -> 46185 | F18: =IF(AND(ISNUMBER(C18),ISNUMBER(D18)),MAX(0,(D18-C18+IF(D18<C18,1,0))*24-IF(ISNUMBER(E18),E18,0)/60),0) -> 0 | G18: =IF(ISNUMBER(B18),IF(WEEKDAY(B18,2)<=5,$F$4,0),0) -> 8
A19: =IF(ISNUMBER(B19),CHOOSE(WEEKDAY(B19),"So","Mo","Di","Mi","Do","Fr","Sa"),"") -> Sa | B19: =IF(MONTH($F$3+12)=MONTH($F$3),$F$3+12,"") -> 46186 | F19: =IF(AND(ISNUMBER(C19),ISNUMBER(D19)),MAX(0,(D19-C19+IF(D19<C19,1,0))*24-IF(ISNUMBER(E19),E19,0)/60),0) -> 0 | G19: =IF(ISNUMBER(B19),IF(WEEKDAY(B19,2)<=5,$F$4,0),0) -> 0
A20: =IF(ISNUMBER(B20),CHOOSE(WEEKDAY(B20),"So","Mo","Di","Mi","Do","Fr","Sa"),"") -> So | B20: =IF(MONTH($F$3+13)=MONTH($F$3),$F$3+13,"") -> 46187 | F20: =IF(AND(ISNUMBER(C20),ISNUMBER(D20)),MAX(0,(D20-C20+IF(D20<C20,1,0))*24-IF(ISNUMBER(E20),E20,0)/60),0) -> 0 | G20: =IF(ISNUMBER(B20),IF(WEEKDAY(B20,2)<=5,$F$4,0),0) -> 0
A21: =IF(ISNUMBER(B21),CHOOSE(WEEKDAY(B21),"So","Mo","Di","Mi","Do","Fr","Sa"),"") -> Mo | B21: =IF(MONTH($F$3+14)=MONTH($F$3),$F$3+14,"") -> 46188 | F21: =IF(AND(ISNUMBER(C21),ISNUMBER(D21)),MAX(0,(D21-C21+IF(D21<C21,1,0))*24-IF(ISNUMBER(E21),E21,0)/60),0) -> 0 | G21: =IF(ISNUMBER(B21),IF(WEEKDAY(B21,2)<=5,$F$4,0),0) -> 8
A22: =IF(ISNUMBER(B22),CHOOSE(WEEKDAY(B22),"So","Mo","Di","Mi","Do","Fr","Sa"),"") -> Di | B22: =IF(MONTH($F$3+15)=MONTH($F$3),$F$3+15,"") -> 46189 | F22: =IF(AND(ISNUMBER(C22),ISNUMBER(D22)),MAX(0,(D22-C22+IF(D22<C22,1,0))*24-IF(ISNUMBER(E22),E22,0)/60),0) -> 0 | G22: =IF(ISNUMBER(B22),IF(WEEKDAY(B22,2)<=5,$F$4,0),0) -> 8
A23: =IF(ISNUMBER(B23),CHOOSE(WEEKDAY(B23),"So","Mo","Di","Mi","Do","Fr","Sa"),"") -> Mi | B23: =IF(MONTH($F$3+16)=MONTH($F$3),$F$3+16,"") -> 46190 | F23: =IF(AND(ISNUMBER(C23),ISNUMBER(D23)),MAX(0,(D23-C23+IF(D23<C23,1,0))*24-IF(ISNUMBER(E23),E23,0)/60),0) -> 0 | G23: =IF(ISNUMBER(B23),IF(WEEKDAY(B23,2)<=5,$F$4,0),0) -> 8
A24: =IF(ISNUMBER(B24),CHOOSE(WEEKDAY(B24),"So","Mo","Di","Mi","Do","Fr","Sa"),"") -> Do | B24: =IF(MONTH($F$3+17)=MONTH($F$3),$F$3+17,"") -> 46191 | F24: =IF(AND(ISNUMBER(C24),ISNUMBER(D24)),MAX(0,(D24-C24+IF(D24<C24,1,0))*24-IF(ISNUMBER(E24),E24,0)/60),0) -> 0 | G24: =IF(ISNUMBER(B24),IF(WEEKDAY(B24,2)<=5,$F$4,0),0) -> 8
A25: =IF(ISNUMBER(B25),CHOOSE(WEEKDAY(B25),"So","Mo","Di","Mi","Do","Fr","Sa"),"") -> Fr | B25: =IF(MONTH($F$3+18)=MONTH($F$3),$F$3+18,"") -> 46192 | F25: =IF(AND(ISNUMBER(C25),ISNUMBER(D25)),MAX(0,(D25-C25+IF(D25<C25,1,0))*24-IF(ISNUMBER(E25),E25,0)/60),0) -> 0 | G25: =IF(ISNUMBER(B25),IF(WEEKDAY(B25,2)<=5,$F$4,0),0) -> 8
A26: =IF(ISNUMBER(B26),CHOOSE(WEEKDAY(B26),"So","Mo","Di","Mi","Do","Fr","Sa"),"") -> Sa | B26: =IF(MONTH($F$3+19)=MONTH($F$3),$F$3+19,"") -> 46193 | F26: =IF(AND(ISNUMBER(C26),ISNUMBER(D26)),MAX(0,(D26-C26+IF(D26<C26,1,0))*24-IF(ISNUMBER(E26),E26,0)/60),0) -> 0 | G26: =IF(ISNUMBER(B26),IF(WEEKDAY(B26,2)<=5,$F$4,0),0) -> 0
A27: =IF(ISNUMBER(B27),CHOOSE(WEEKDAY(B27),"So","Mo","Di","Mi","Do","Fr","Sa"),"") -> So | B27: =IF(MONTH($F$3+20)=MONTH($F$3),$F$3+20,"") -> 46194 | F27: =IF(AND(ISNUMBER(C27),ISNUMBER(D27)),MAX(0,(D27-C27+IF(D27<C27,1,0))*24-IF(ISNUMBER(E27),E27,0)/60),0) -> 0 | G27: =IF(ISNUMBER(B27),IF(WEEKDAY(B27,2)<=5,$F$4,0),0) -> 0
A28: =IF(ISNUMBER(B28),CHOOSE(WEEKDAY(B28),"So","Mo","Di","Mi","Do","Fr","Sa"),"") -> Mo | B28: =IF(MONTH($F$3+21)=MONTH($F$3),$F$3+21,"") -> 46195 | F28: =IF(AND(ISNUMBER(C28),ISNUMBER(D28)),MAX(0,(D28-C28+IF(D28<C28,1,0))*24-IF(ISNUMBER(E28),E28,0)/60),0) -> 0 | G28: =IF(ISNUMBER(B28),IF(WEEKDAY(B28,2)<=5,$F$4,0),0) -> 8
A29: =IF(ISNUMBER(B29),CHOOSE(WEEKDAY(B29),"So","Mo","Di","Mi","Do","Fr","Sa"),"") -> Di | B29: =IF(MONTH($F$3+22)=MONTH($F$3),$F$3+22,"") -> 46196 | F29: =IF(AND(ISNUMBER(C29),ISNUMBER(D29)),MAX(0,(D29-C29+IF(D29<C29,1,0))*24-IF(ISNUMBER(E29),E29,0)/60),0) -> 0 | G29: =IF(ISNUMBER(B29),IF(WEEKDAY(B29,2)<=5,$F$4,0),0) -> 8
A30: =IF(ISNUMBER(B30),CHOOSE(WEEKDAY(B30),"So","Mo","Di","Mi","Do","Fr","Sa"),"") -> Mi | B30: =IF(MONTH($F$3+23)=MONTH($F$3),$F$3+23,"") -> 46197 | F30: =IF(AND(ISNUMBER(C30),ISNUMBER(D30)),MAX(0,(D30-C30+IF(D30<C30,1,0))*24-IF(ISNUMBER(E30),E30,0)/60),0) -> 0 | G30: =IF(ISNUMBER(B30),IF(WEEKDAY(B30,2)<=5,$F$4,0),0) -> 8
A31: =IF(ISNUMBER(B31),CHOOSE(WEEKDAY(B31),"So","Mo","Di","Mi","Do","Fr","Sa"),"") -> Do | B31: =IF(MONTH($F$3+24)=MONTH($F$3),$F$3+24,"") -> 46198 | F31: =IF(AND(ISNUMBER(C31),ISNUMBER(D31)),MAX(0,(D31-C31+IF(D31<C31,1,0))*24-IF(ISNUMBER(E31),E31,0)/60),0) -> 0 | G31: =IF(ISNUMBER(B31),IF(WEEKDAY(B31,2)<=5,$F$4,0),0) -> 8
A32: =IF(ISNUMBER(B32),CHOOSE(WEEKDAY(B32),"So","Mo","Di","Mi","Do","Fr","Sa"),"") -> Fr | B32: =IF(MONTH($F$3+25)=MONTH($F$3),$F$3+25,"") -> 46199 | F32: =IF(AND(ISNUMBER(C32),ISNUMBER(D32)),MAX(0,(D32-C32+IF(D32<C32,1,0))*24-IF(ISNUMBER(E32),E32,0)/60),0) -> 0 | G32: =IF(ISNUMBER(B32),IF(WEEKDAY(B32,2)<=5,$F$4,0),0) -> 8
A33: =IF(ISNUMBER(B33),CHOOSE(WEEKDAY(B33),"So","Mo","Di","Mi","Do","Fr","Sa"),"") -> Sa | B33: =IF(MONTH($F$3+26)=MONTH($F$3),$F$3+26,"") -> 46200 | F33: =IF(AND(ISNUMBER(C33),ISNUMBER(D33)),MAX(0,(D33-C33+IF(D33<C33,1,0))*24-IF(ISNUMBER(E33),E33,0)/60),0) -> 0 | G33: =IF(ISNUMBER(B33),IF(WEEKDAY(B33,2)<=5,$F$4,0),0) -> 0
A34: =IF(ISNUMBER(B34),CHOOSE(WEEKDAY(B34),"So","Mo","Di","Mi","Do","Fr","Sa"),"") -> So | B34: =IF(MONTH($F$3+27)=MONTH($F$3),$F$3+27,"") -> 46201 | F34: =IF(AND(ISNUMBER(C34),ISNUMBER(D34)),MAX(0,(D34-C34+IF(D34<C34,1,0))*24-IF(ISNUMBER(E34),E34,0)/60),0) -> 0 | G34: =IF(ISNUMBER(B34),IF(WEEKDAY(B34,2)<=5,$F$4,0),0) -> 0
A35: =IF(ISNUMBER(B35),CHOOSE(WEEKDAY(B35),"So","Mo","Di","Mi","Do","Fr","Sa"),"") -> Mo | B35: =IF(MONTH($F$3+28)=MONTH($F$3),$F$3+28,"") -> 46202 | F35: =IF(AND(ISNUMBER(C35),ISNUMBER(D35)),MAX(0,(D35-C35+IF(D35<C35,1,0))*24-IF(ISNUMBER(E35),E35,0)/60),0) -> 0 | G35: =IF(ISNUMBER(B35),IF(WEEKDAY(B35,2)<=5,$F$4,0),0) -> 8
A36: =IF(ISNUMBER(B36),CHOOSE(WEEKDAY(B36),"So","Mo","Di","Mi","Do","Fr","Sa"),"") -> Di | B36: =IF(MONTH($F$3+29)=MONTH($F$3),$F$3+29,"") -> 46203 | F36: =IF(AND(ISNUMBER(C36),ISNUMBER(D36)),MAX(0,(D36-C36+IF(D36<C36,1,0))*24-IF(ISNUMBER(E36),E36,0)/60),0) -> 0 | G36: =IF(ISNUMBER(B36),IF(WEEKDAY(B36,2)<=5,$F$4,0),0) -> 8
A37: =IF(ISNUMBER(B37),CHOOSE(WEEKDAY(B37),"So","Mo","Di","Mi","Do","Fr","Sa"),"") | B37: =IF(MONTH($F$3+30)=MONTH($F$3),$F$3+30,"") | F37: =IF(AND(ISNUMBER(C37),ISNUMBER(D37)),MAX(0,(D37-C37+IF(D37<C37,1,0))*24-IF(ISNUMBER(E37),E37,0)/60),0) -> 0 | G37: =IF(ISNUMBER(B37),IF(WEEKDAY(B37,2)<=5,$F$4,0),0) -> 0
A39: Summe Arbeitszeit (Ist) | F39: =SUM(F7:F37) -> 0
A40: Summe Soll | F40: =SUM(G7:G37) -> 176
A41: Über- oder Minusstunden | F41: =F39-F40 -> -176
A42: Arbeitstage | F42: =COUNTIF(F7:F37,">0") -> 0
A45: Datum, Unterschrift Mitarbeiter/in | E45: Datum, Unterschrift Vorgesetzte/r
A47: Arbeitszeit ist Ende minus Beginn minus Pause, über Mitternacht wird richtig gerechnet. Die Summen dieses Blatts gehen in die Übersicht.

Sheet Jul
A1: Arbeitszeiterfassung Juli 2026
A2: Name, Abteilung und Soll pro Tag stehen auf dem Blatt Übersicht. Beginn und Ende im Format 8:00, die Pause in Minuten. Bei Feiertag, Urlaub oder Krankheit das Soll der Zeile auf 0 setzen.
A3: Name | B3: ='Übersicht'!$B$3 | E3: Monat | F3: 46204
A4: Abteilung | B4: ='Übersicht'!$B$4 | E4: Soll pro Tag | F4: ='Übersicht'!$B$5 -> 8 | G4: Std., Mo bis Fr
A6: Tag | B6: Datum | C6: Beginn | D6: Ende | E6: Pause (Min.) | F6: Arbeitszeit (Std.) | G6: Soll (Std.) | H6: Bemerkung
A7: =IF(ISNUMBER(B7),CHOOSE(WEEKDAY(B7),"So","Mo","Di","Mi","Do","Fr","Sa"),"") -> Mi | B7: =IF(MONTH($F$3+0)=MONTH($F$3),$F$3+0,"") -> 46204 | F7: =IF(AND(ISNUMBER(C7),ISNUMBER(D7)),MAX(0,(D7-C7+IF(D7<C7,1,0))*24-IF(ISNUMBER(E7),E7,0)/60),0) -> 0 | G7: =IF(ISNUMBER(B7),IF(WEEKDAY(B7,2)<=5,$F$4,0),0) -> 8
A8: =IF(ISNUMBER(B8),CHOOSE(WEEKDAY(B8),"So","Mo","Di","Mi","Do","Fr","Sa"),"") -> Do | B8: =IF(MONTH($F$3+1)=MONTH($F$3),$F$3+1,"") -> 46205 | F8: =IF(AND(ISNUMBER(C8),ISNUMBER(D8)),MAX(0,(D8-C8+IF(D8<C8,1,0))*24-IF(ISNUMBER(E8),E8,0)/60),0) -> 0 | G8: =IF(ISNUMBER(B8),IF(WEEKDAY(B8,2)<=5,$F$4,0),0) -> 8
A9: =IF(ISNUMBER(B9),CHOOSE(WEEKDAY(B9),"So","Mo","Di","Mi","Do","Fr","Sa"),"") -> Fr | B9: =IF(MONTH($F$3+2)=MONTH($F$3),$F$3+2,"") -> 46206 | F9: =IF(AND(ISNUMBER(C9),ISNUMBER(D9)),MAX(0,(D9-C9+IF(D9<C9,1,0))*24-IF(ISNUMBER(E9),E9,0)/60),0) -> 0 | G9: =IF(ISNUMBER(B9),IF(WEEKDAY(B9,2)<=5,$F$4,0),0) -> 8
A10: =IF(ISNUMBER(B10),CHOOSE(WEEKDAY(B10),"So","Mo","Di","Mi","Do","Fr","Sa"),"") -> Sa | B10: =IF(MONTH($F$3+3)=MONTH($F$3),$F$3+3,"") -> 46207 | F10: =IF(AND(ISNUMBER(C10),ISNUMBER(D10)),MAX(0,(D10-C10+IF(D10<C10,1,0))*24-IF(ISNUMBER(E10),E10,0)/60),0) -> 0 | G10: =IF(ISNUMBER(B10),IF(WEEKDAY(B10,2)<=5,$F$4,0),0) -> 0
A11: =IF(ISNUMBER(B11),CHOOSE(WEEKDAY(B11),"So","Mo","Di","Mi","Do","Fr","Sa"),"") -> So | B11: =IF(MONTH($F$3+4)=MONTH($F$3),$F$3+4,"") -> 46208 | F11: =IF(AND(ISNUMBER(C11),ISNUMBER(D11)),MAX(0,(D11-C11+IF(D11<C11,1,0))*24-IF(ISNUMBER(E11),E11,0)/60),0) -> 0 | G11: =IF(ISNUMBER(B11),IF(WEEKDAY(B11,2)<=5,$F$4,0),0) -> 0
A12: =IF(ISNUMBER(B12),CHOOSE(WEEKDAY(B12),"So","Mo","Di","Mi","Do","Fr","Sa"),"") -> Mo | B12: =IF(MONTH($F$3+5)=MONTH($F$3),$F$3+5,"") -> 46209 | F12: =IF(AND(ISNUMBER(C12),ISNUMBER(D12)),MAX(0,(D12-C12+IF(D12<C12,1,0))*24-IF(ISNUMBER(E12),E12,0)/60),0) -> 0 | G12: =IF(ISNUMBER(B12),IF(WEEKDAY(B12,2)<=5,$F$4,0),0) -> 8
A13: =IF(ISNUMBER(B13),CHOOSE(WEEKDAY(B13),"So","Mo","Di","Mi","Do","Fr","Sa"),"") -> Di | B13: =IF(MONTH($F$3+6)=MONTH($F$3),$F$3+6,"") -> 46210 | F13: =IF(AND(ISNUMBER(C13),ISNUMBER(D13)),MAX(0,(D13-C13+IF(D13<C13,1,0))*24-IF(ISNUMBER(E13),E13,0)/60),0) -> 0 | G13: =IF(ISNUMBER(B13),IF(WEEKDAY(B13,2)<=5,$F$4,0),0) -> 8
A14: =IF(ISNUMBER(B14),CHOOSE(WEEKDAY(B14),"So","Mo","Di","Mi","Do","Fr","Sa"),"") -> Mi | B14: =IF(MONTH($F$3+7)=MONTH($F$3),$F$3+7,"") -> 46211 | F14: =IF(AND(ISNUMBER(C14),ISNUMBER(D14)),MAX(0,(D14-C14+IF(D14<C14,1,0))*24-IF(ISNUMBER(E14),E14,0)/60),0) -> 0 | G14: =IF(ISNUMBER(B14),IF(WEEKDAY(B14,2)<=5,$F$4,0),0) -> 8
A15: =IF(ISNUMBER(B15),CHOOSE(WEEKDAY(B15),"So","Mo","Di","Mi","Do","Fr","Sa"),"") -> Do | B15: =IF(MONTH($F$3+8)=MONTH($F$3),$F$3+8,"") -> 46212 | F15: =IF(AND(ISNUMBER(C15),ISNUMBER(D15)),MAX(0,(D15-C15+IF(D15<C15,1,0))*24-IF(ISNUMBER(E15),E15,0)/60),0) -> 0 | G15: =IF(ISNUMBER(B15),IF(WEEKDAY(B15,2)<=5,$F$4,0),0) -> 8
A16: =IF(ISNUMBER(B16),CHOOSE(WEEKDAY(B16),"So","Mo","Di","Mi","Do","Fr","Sa"),"") -> Fr | B16: =IF(MONTH($F$3+9)=MONTH($F$3),$F$3+9,"") -> 46213 | F16: =IF(AND(ISNUMBER(C16),ISNUMBER(D16)),MAX(0,(D16-C16+IF(D16<C16,1,0))*24-IF(ISNUMBER(E16),E16,0)/60),0) -> 0 | G16: =IF(ISNUMBER(B16),IF(WEEKDAY(B16,2)<=5,$F$4,0),0) -> 8
A17: =IF(ISNUMBER(B17),CHOOSE(WEEKDAY(B17),"So","Mo","Di","Mi","Do","Fr","Sa"),"") -> Sa | B17: =IF(MONTH($F$3+10)=MONTH($F$3),$F$3+10,"") -> 46214 | F17: =IF(AND(ISNUMBER(C17),ISNUMBER(D17)),MAX(0,(D17-C17+IF(D17<C17,1,0))*24-IF(ISNUMBER(E17),E17,0)/60),0) -> 0 | G17: =IF(ISNUMBER(B17),IF(WEEKDAY(B17,2)<=5,$F$4,0),0) -> 0
A18: =IF(ISNUMBER(B18),CHOOSE(WEEKDAY(B18),"So","Mo","Di","Mi","Do","Fr","Sa"),"") -> So | B18: =IF(MONTH($F$3+11)=MONTH($F$3),$F$3+11,"") -> 46215 | F18: =IF(AND(ISNUMBER(C18),ISNUMBER(D18)),MAX(0,(D18-C18+IF(D18<C18,1,0))*24-IF(ISNUMBER(E18),E18,0)/60),0) -> 0 | G18: =IF(ISNUMBER(B18),IF(WEEKDAY(B18,2)<=5,$F$4,0),0) -> 0
A19: =IF(ISNUMBER(B19),CHOOSE(WEEKDAY(B19),"So","Mo","Di","Mi","Do","Fr","Sa"),"") -> Mo | B19: =IF(MONTH($F$3+12)=MONTH($F$3),$F$3+12,"") -> 46216 | F19: =IF(AND(ISNUMBER(C19),ISNUMBER(D19)),MAX(0,(D19-C19+IF(D19<C19,1,0))*24-IF(ISNUMBER(E19),E19,0)/60),0) -> 0 | G19: =IF(ISNUMBER(B19),IF(WEEKDAY(B19,2)<=5,$F$4,0),0) -> 8
A20: =IF(ISNUMBER(B20),CHOOSE(WEEKDAY(B20),"So","Mo","Di","Mi","Do","Fr","Sa"),"") -> Di | B20: =IF(MONTH($F$3+13)=MONTH($F$3),$F$3+13,"") -> 46217 | F20: =IF(AND(ISNUMBER(C20),ISNUMBER(D20)),MAX(0,(D20-C20+IF(D20<C20,1,0))*24-IF(ISNUMBER(E20),E20,0)/60),0) -> 0 | G20: =IF(ISNUMBER(B20),IF(WEEKDAY(B20,2)<=5,$F$4,0),0) -> 8
A21: =IF(ISNUMBER(B21),CHOOSE(WEEKDAY(B21),"So","Mo","Di","Mi","Do","Fr","Sa"),"") -> Mi | B21: =IF(MONTH($F$3+14)=MONTH($F$3),$F$3+14,"") -> 46218 | F21: =IF(AND(ISNUMBER(C21),ISNUMBER(D21)),MAX(0,(D21-C21+IF(D21<C21,1,0))*24-IF(ISNUMBER(E21),E21,0)/60),0) -> 0 | G21: =IF(ISNUMBER(B21),IF(WEEKDAY(B21,2)<=5,$F$4,0),0) -> 8
A22: =IF(ISNUMBER(B22),CHOOSE(WEEKDAY(B22),"So","Mo","Di","Mi","Do","Fr","Sa"),"") -> Do | B22: =IF(MONTH($F$3+15)=MONTH($F$3),$F$3+15,"") -> 46219 | F22: =IF(AND(ISNUMBER(C22),ISNUMBER(D22)),MAX(0,(D22-C22+IF(D22<C22,1,0))*24-IF(ISNUMBER(E22),E22,0)/60),0) -> 0 | G22: =IF(ISNUMBER(B22),IF(WEEKDAY(B22,2)<=5,$F$4,0),0) -> 8
A23: =IF(ISNUMBER(B23),CHOOSE(WEEKDAY(B23),"So","Mo","Di","Mi","Do","Fr","Sa"),"") -> Fr | B23: =IF(MONTH($F$3+16)=MONTH($F$3),$F$3+16,"") -> 46220 | F23: =IF(AND(ISNUMBER(C23),ISNUMBER(D23)),MAX(0,(D23-C23+IF(D23<C23,1,0))*24-IF(ISNUMBER(E23),E23,0)/60),0) -> 0 | G23: =IF(ISNUMBER(B23),IF(WEEKDAY(B23,2)<=5,$F$4,0),0) -> 8
A24: =IF(ISNUMBER(B24),CHOOSE(WEEKDAY(B24),"So","Mo","Di","Mi","Do","Fr","Sa"),"") -> Sa | B24: =IF(MONTH($F$3+17)=MONTH($F$3),$F$3+17,"") -> 46221 | F24: =IF(AND(ISNUMBER(C24),ISNUMBER(D24)),MAX(0,(D24-C24+IF(D24<C24,1,0))*24-IF(ISNUMBER(E24),E24,0)/60),0) -> 0 | G24: =IF(ISNUMBER(B24),IF(WEEKDAY(B24,2)<=5,$F$4,0),0) -> 0
A25: =IF(ISNUMBER(B25),CHOOSE(WEEKDAY(B25),"So","Mo","Di","Mi","Do","Fr","Sa"),"") -> So | B25: =IF(MONTH($F$3+18)=MONTH($F$3),$F$3+18,"") -> 46222 | F25: =IF(AND(ISNUMBER(C25),ISNUMBER(D25)),MAX(0,(D25-C25+IF(D25<C25,1,0))*24-IF(ISNUMBER(E25),E25,0)/60),0) -> 0 | G25: =IF(ISNUMBER(B25),IF(WEEKDAY(B25,2)<=5,$F$4,0),0) -> 0
A26: =IF(ISNUMBER(B26),CHOOSE(WEEKDAY(B26),"So","Mo","Di","Mi","Do","Fr","Sa"),"") -> Mo | B26: =IF(MONTH($F$3+19)=MONTH($F$3),$F$3+19,"") -> 46223 | F26: =IF(AND(ISNUMBER(C26),ISNUMBER(D26)),MAX(0,(D26-C26+IF(D26<C26,1,0))*24-IF(ISNUMBER(E26),E26,0)/60),0) -> 0 | G26: =IF(ISNUMBER(B26),IF(WEEKDAY(B26,2)<=5,$F$4,0),0) -> 8
A27: =IF(ISNUMBER(B27),CHOOSE(WEEKDAY(B27),"So","Mo","Di","Mi","Do","Fr","Sa"),"") -> Di | B27: =IF(MONTH($F$3+20)=MONTH($F$3),$F$3+20,"") -> 46224 | F27: =IF(AND(ISNUMBER(C27),ISNUMBER(D27)),MAX(0,(D27-C27+IF(D27<C27,1,0))*24-IF(ISNUMBER(E27),E27,0)/60),0) -> 0 | G27: =IF(ISNUMBER(B27),IF(WEEKDAY(B27,2)<=5,$F$4,0),0) -> 8
A28: =IF(ISNUMBER(B28),CHOOSE(WEEKDAY(B28),"So","Mo","Di","Mi","Do","Fr","Sa"),"") -> Mi | B28: =IF(MONTH($F$3+21)=MONTH($F$3),$F$3+21,"") -> 46225 | F28: =IF(AND(ISNUMBER(C28),ISNUMBER(D28)),MAX(0,(D28-C28+IF(D28<C28,1,0))*24-IF(ISNUMBER(E28),E28,0)/60),0) -> 0 | G28: =IF(ISNUMBER(B28),IF(WEEKDAY(B28,2)<=5,$F$4,0),0) -> 8
A29: =IF(ISNUMBER(B29),CHOOSE(WEEKDAY(B29),"So","Mo","Di","Mi","Do","Fr","Sa"),"") -> Do | B29: =IF(MONTH($F$3+22)=MONTH($F$3),$F$3+22,"") -> 46226 | F29: =IF(AND(ISNUMBER(C29),ISNUMBER(D29)),MAX(0,(D29-C29+IF(D29<C29,1,0))*24-IF(ISNUMBER(E29),E29,0)/60),0) -> 0 | G29: =IF(ISNUMBER(B29),IF(WEEKDAY(B29,2)<=5,$F$4,0),0) -> 8
A30: =IF(ISNUMBER(B30),CHOOSE(WEEKDAY(B30),"So","Mo","Di","Mi","Do","Fr","Sa"),"") -> Fr | B30: =IF(MONTH($F$3+23)=MONTH($F$3),$F$3+23,"") -> 46227 | F30: =IF(AND(ISNUMBER(C30),ISNUMBER(D30)),MAX(0,(D30-C30+IF(D30<C30,1,0))*24-IF(ISNUMBER(E30),E30,0)/60),0) -> 0 | G30: =IF(ISNUMBER(B30),IF(WEEKDAY(B30,2)<=5,$F$4,0),0) -> 8
A31: =IF(ISNUMBER(B31),CHOOSE(WEEKDAY(B31),"So","Mo","Di","Mi","Do","Fr","Sa"),"") -> Sa | B31: =IF(MONTH($F$3+24)=MONTH($F$3),$F$3+24,"") -> 46228 | F31: =IF(AND(ISNUMBER(C31),ISNUMBER(D31)),MAX(0,(D31-C31+IF(D31<C31,1,0))*24-IF(ISNUMBER(E31),E31,0)/60),0) -> 0 | G31: =IF(ISNUMBER(B31),IF(WEEKDAY(B31,2)<=5,$F$4,0),0) -> 0
A32: =IF(ISNUMBER(B32),CHOOSE(WEEKDAY(B32),"So","Mo","Di","Mi","Do","Fr","Sa"),"") -> So | B32: =IF(MONTH($F$3+25)=MONTH($F$3),$F$3+25,"") -> 46229 | F32: =IF(AND(ISNUMBER(C32),ISNUMBER(D32)),MAX(0,(D32-C32+IF(D32<C32,1,0))*24-IF(ISNUMBER(E32),E32,0)/60),0) -> 0 | G32: =IF(ISNUMBER(B32),IF(WEEKDAY(B32,2)<=5,$F$4,0),0) -> 0
A33: =IF(ISNUMBER(B33),CHOOSE(WEEKDAY(B33),"So","Mo","Di","Mi","Do","Fr","Sa"),"") -> Mo | B33: =IF(MONTH($F$3+26)=MONTH($F$3),$F$3+26,"") -> 46230 | F33: =IF(AND(ISNUMBER(C33),ISNUMBER(D33)),MAX(0,(D33-C33+IF(D33<C33,1,0))*24-IF(ISNUMBER(E33),E33,0)/60),0) -> 0 | G33: =IF(ISNUMBER(B33),IF(WEEKDAY(B33,2)<=5,$F$4,0),0) -> 8
A34: =IF(ISNUMBER(B34),CHOOSE(WEEKDAY(B34),"So","Mo","Di","Mi","Do","Fr","Sa"),"") -> Di | B34: =IF(MONTH($F$3+27)=MONTH($F$3),$F$3+27,"") -> 46231 | F34: =IF(AND(ISNUMBER(C34),ISNUMBER(D34)),MAX(0,(D34-C34+IF(D34<C34,1,0))*24-IF(ISNUMBER(E34),E34,0)/60),0) -> 0 | G34: =IF(ISNUMBER(B34),IF(WEEKDAY(B34,2)<=5,$F$4,0),0) -> 8
A35: =IF(ISNUMBER(B35),CHOOSE(WEEKDAY(B35),"So","Mo","Di","Mi","Do","Fr","Sa"),"") -> Mi | B35: =IF(MONTH($F$3+28)=MONTH($F$3),$F$3+28,"") -> 46232 | F35: =IF(AND(ISNUMBER(C35),ISNUMBER(D35)),MAX(0,(D35-C35+IF(D35<C35,1,0))*24-IF(ISNUMBER(E35),E35,0)/60),0) -> 0 | G35: =IF(ISNUMBER(B35),IF(WEEKDAY(B35,2)<=5,$F$4,0),0) -> 8
A36: =IF(ISNUMBER(B36),CHOOSE(WEEKDAY(B36),"So","Mo","Di","Mi","Do","Fr","Sa"),"") -> Do | B36: =IF(MONTH($F$3+29)=MONTH($F$3),$F$3+29,"") -> 46233 | F36: =IF(AND(ISNUMBER(C36),ISNUMBER(D36)),MAX(0,(D36-C36+IF(D36<C36,1,0))*24-IF(ISNUMBER(E36),E36,0)/60),0) -> 0 | G36: =IF(ISNUMBER(B36),IF(WEEKDAY(B36,2)<=5,$F$4,0),0) -> 8
A37: =IF(ISNUMBER(B37),CHOOSE(WEEKDAY(B37),"So","Mo","Di","Mi","Do","Fr","Sa"),"") -> Fr | B37: =IF(MONTH($F$3+30)=MONTH($F$3),$F$3+30,"") -> 46234 | F37: =IF(AND(ISNUMBER(C37),ISNUMBER(D37)),MAX(0,(D37-C37+IF(D37<C37,1,0))*24-IF(ISNUMBER(E37),E37,0)/60),0) -> 0 | G37: =IF(ISNUMBER(B37),IF(WEEKDAY(B37,2)<=5,$F$4,0),0) -> 8
A39: Summe Arbeitszeit (Ist) | F39: =SUM(F7:F37) -> 0
A40: Summe Soll | F40: =SUM(G7:G37) -> 184
A41: Über- oder Minusstunden | F41: =F39-F40 -> -184
A42: Arbeitstage | F42: =COUNTIF(F7:F37,">0") -> 0
A45: Datum, Unterschrift Mitarbeiter/in | E45: Datum, Unterschrift Vorgesetzte/r
A47: Arbeitszeit ist Ende minus Beginn minus Pause, über Mitternacht wird richtig gerechnet. Die Summen dieses Blatts gehen in die Übersicht.

Sheet Aug
A1: Arbeitszeiterfassung August 2026
A2: Name, Abteilung und Soll pro Tag stehen auf dem Blatt Übersicht. Beginn und Ende im Format 8:00, die Pause in Minuten. Bei Feiertag, Urlaub oder Krankheit das Soll der Zeile auf 0 setzen.
A3: Name | B3: ='Übersicht'!$B$3 | E3: Monat | F3: 46235
A4: Abteilung | B4: ='Übersicht'!$B$4 | E4: Soll pro Tag | F4: ='Übersicht'!$B$5 -> 8 | G4: Std., Mo bis Fr
A6: Tag | B6: Datum | C6: Beginn | D6: Ende | E6: Pause (Min.) | F6: Arbeitszeit (Std.) | G6: Soll (Std.) | H6: Bemerkung
A7: =IF(ISNUMBER(B7),CHOOSE(WEEKDAY(B7),"So","Mo","Di","Mi","Do","Fr","Sa"),"") -> Sa | B7: =IF(MONTH($F$3+0)=MONTH($F$3),$F$3+0,"") -> 46235 | F7: =IF(AND(ISNUMBER(C7),ISNUMBER(D7)),MAX(0,(D7-C7+IF(D7<C7,1,0))*24-IF(ISNUMBER(E7),E7,0)/60),0) -> 0 | G7: =IF(ISNUMBER(B7),IF(WEEKDAY(B7,2)<=5,$F$4,0),0) -> 0
A8: =IF(ISNUMBER(B8),CHOOSE(WEEKDAY(B8),"So","Mo","Di","Mi","Do","Fr","Sa"),"") -> So | B8: =IF(MONTH($F$3+1)=MONTH($F$3),$F$3+1,"") -> 46236 | F8: =IF(AND(ISNUMBER(C8),ISNUMBER(D8)),MAX(0,(D8-C8+IF(D8<C8,1,0))*24-IF(ISNUMBER(E8),E8,0)/60),0) -> 0 | G8: =IF(ISNUMBER(B8),IF(WEEKDAY(B8,2)<=5,$F$4,0),0) -> 0
A9: =IF(ISNUMBER(B9),CHOOSE(WEEKDAY(B9),"So","Mo","Di","Mi","Do","Fr","Sa"),"") -> Mo | B9: =IF(MONTH($F$3+2)=MONTH($F$3),$F$3+2,"") -> 46237 | F9: =IF(AND(ISNUMBER(C9),ISNUMBER(D9)),MAX(0,(D9-C9+IF(D9<C9,1,0))*24-IF(ISNUMBER(E9),E9,0)/60),0) -> 0 | G9: =IF(ISNUMBER(B9),IF(WEEKDAY(B9,2)<=5,$F$4,0),0) -> 8
A10: =IF(ISNUMBER(B10),CHOOSE(WEEKDAY(B10),"So","Mo","Di","Mi","Do","Fr","Sa"),"") -> Di | B10: =IF(MONTH($F$3+3)=MONTH($F$3),$F$3+3,"") -> 46238 | F10: =IF(AND(ISNUMBER(C10),ISNUMBER(D10)),MAX(0,(D10-C10+IF(D10<C10,1,0))*24-IF(ISNUMBER(E10),E10,0)/60),0) -> 0 | G10: =IF(ISNUMBER(B10),IF(WEEKDAY(B10,2)<=5,$F$4,0),0) -> 8
A11: =IF(ISNUMBER(B11),CHOOSE(WEEKDAY(B11),"So","Mo","Di","Mi","Do","Fr","Sa"),"") -> Mi | B11: =IF(MONTH($F$3+4)=MONTH($F$3),$F$3+4,"") -> 46239 | F11: =IF(AND(ISNUMBER(C11),ISNUMBER(D11)),MAX(0,(D11-C11+IF(D11<C11,1,0))*24-IF(ISNUMBER(E11),E11,0)/60),0) -> 0 | G11: =IF(ISNUMBER(B11),IF(WEEKDAY(B11,2)<=5,$F$4,0),0) -> 8
A12: =IF(ISNUMBER(B12),CHOOSE(WEEKDAY(B12),"So","Mo","Di","Mi","Do","Fr","Sa"),"") -> Do | B12: =IF(MONTH($F$3+5)=MONTH($F$3),$F$3+5,"") -> 46240 | F12: =IF(AND(ISNUMBER(C12),ISNUMBER(D12)),MAX(0,(D12-C12+IF(D12<C12,1,0))*24-IF(ISNUMBER(E12),E12,0)/60),0) -> 0 | G12: =IF(ISNUMBER(B12),IF(WEEKDAY(B12,2)<=5,$F$4,0),0) -> 8
A13: =IF(ISNUMBER(B13),CHOOSE(WEEKDAY(B13),"So","Mo","Di","Mi","Do","Fr","Sa"),"") -> Fr | B13: =IF(MONTH($F$3+6)=MONTH($F$3),$F$3+6,"") -> 46241 | F13: =IF(AND(ISNUMBER(C13),ISNUMBER(D13)),MAX(0,(D13-C13+IF(D13<C13,1,0))*24-IF(ISNUMBER(E13),E13,0)/60),0) -> 0 | G13: =IF(ISNUMBER(B13),IF(WEEKDAY(B13,2)<=5,$F$4,0),0) -> 8
A14: =IF(ISNUMBER(B14),CHOOSE(WEEKDAY(B14),"So","Mo","Di","Mi","Do","Fr","Sa"),"") -> Sa | B14: =IF(MONTH($F$3+7)=MONTH($F$3),$F$3+7,"") -> 46242 | F14: =IF(AND(ISNUMBER(C14),ISNUMBER(D14)),MAX(0,(D14-C14+IF(D14<C14,1,0))*24-IF(ISNUMBER(E14),E14,0)/60),0) -> 0 | G14: =IF(ISNUMBER(B14),IF(WEEKDAY(B14,2)<=5,$F$4,0),0) -> 0
A15: =IF(ISNUMBER(B15),CHOOSE(WEEKDAY(B15),"So","Mo","Di","Mi","Do","Fr","Sa"),"") -> So | B15: =IF(MONTH($F$3+8)=MONTH($F$3),$F$3+8,"") -> 46243 | F15: =IF(AND(ISNUMBER(C15),ISNUMBER(D15)),MAX(0,(D15-C15+IF(D15<C15,1,0))*24-IF(ISNUMBER(E15),E15,0)/60),0) -> 0 | G15: =IF(ISNUMBER(B15),IF(WEEKDAY(B15,2)<=5,$F$4,0),0) -> 0
A16: =IF(ISNUMBER(B16),CHOOSE(WEEKDAY(B16),"So","Mo","Di","Mi","Do","Fr","Sa"),"") -> Mo | B16: =IF(MONTH($F$3+9)=MONTH($F$3),$F$3+9,"") -> 46244 | F16: =IF(AND(ISNUMBER(C16),ISNUMBER(D16)),MAX(0,(D16-C16+IF(D16<C16,1,0))*24-IF(ISNUMBER(E16),E16,0)/60),0) -> 0 | G16: =IF(ISNUMBER(B16),IF(WEEKDAY(B16,2)<=5,$F$4,0),0) -> 8
A17: =IF(ISNUMBER(B17),CHOOSE(WEEKDAY(B17),"So","Mo","Di","Mi","Do","Fr","Sa"),"") -> Di | B17: =IF(MONTH($F$3+10)=MONTH($F$3),$F$3+10,"") -> 46245 | F17: =IF(AND(ISNUMBER(C17),ISNUMBER(D17)),MAX(0,(D17-C17+IF(D17<C17,1,0))*24-IF(ISNUMBER(E17),E17,0)/60),0) -> 0 | G17: =IF(ISNUMBER(B17),IF(WEEKDAY(B17,2)<=5,$F$4,0),0) -> 8
A18: =IF(ISNUMBER(B18),CHOOSE(WEEKDAY(B18),"So","Mo","Di","Mi","Do","Fr","Sa"),"") -> Mi | B18: =IF(MONTH($F$3+11)=MONTH($F$3),$F$3+11,"") -> 46246 | F18: =IF(AND(ISNUMBER(C18),ISNUMBER(D18)),MAX(0,(D18-C18+IF(D18<C18,1,0))*24-IF(ISNUMBER(E18),E18,0)/60),0) -> 0 | G18: =IF(ISNUMBER(B18),IF(WEEKDAY(B18,2)<=5,$F$4,0),0) -> 8
A19: =IF(ISNUMBER(B19),CHOOSE(WEEKDAY(B19),"So","Mo","Di","Mi","Do","Fr","Sa"),"") -> Do | B19: =IF(MONTH($F$3+12)=MONTH($F$3),$F$3+12,"") -> 46247 | F19: =IF(AND(ISNUMBER(C19),ISNUMBER(D19)),MAX(0,(D19-C19+IF(D19<C19,1,0))*24-IF(ISNUMBER(E19),E19,0)/60),0) -> 0 | G19: =IF(ISNUMBER(B19),IF(WEEKDAY(B19,2)<=5,$F$4,0),0) -> 8
A20: =IF(ISNUMBER(B20),CHOOSE(WEEKDAY(B20),"So","Mo","Di","Mi","Do","Fr","Sa"),"") -> Fr | B20: =IF(MONTH($F$3+13)=MONTH($F$3),$F$3+13,"") -> 46248 | F20: =IF(AND(ISNUMBER(C20),ISNUMBER(D20)),MAX(0,(D20-C20+IF(D20<C20,1,0))*24-IF(ISNUMBER(E20),E20,0)/60),0) -> 0 | G20: =IF(ISNUMBER(B20),IF(WEEKDAY(B20,2)<=5,$F$4,0),0) -> 8
A21: =IF(ISNUMBER(B21),CHOOSE(WEEKDAY(B21),"So","Mo","Di","Mi","Do","Fr","Sa"),"") -> Sa | B21: =IF(MONTH($F$3+14)=MONTH($F$3),$F$3+14,"") -> 46249 | F21: =IF(AND(ISNUMBER(C21),ISNUMBER(D21)),MAX(0,(D21-C21+IF(D21<C21,1,0))*24-IF(ISNUMBER(E21),E21,0)/60),0) -> 0 | G21: =IF(ISNUMBER(B21),IF(WEEKDAY(B21,2)<=5,$F$4,0),0) -> 0
A22: =IF(ISNUMBER(B22),CHOOSE(WEEKDAY(B22),"So","Mo","Di","Mi","Do","Fr","Sa"),"") -> So | B22: =IF(MONTH($F$3+15)=MONTH($F$3),$F$3+15,"") -> 46250 | F22: =IF(AND(ISNUMBER(C22),ISNUMBER(D22)),MAX(0,(D22-C22+IF(D22<C22,1,0))*24-IF(ISNUMBER(E22),E22,0)/60),0) -> 0 | G22: =IF(ISNUMBER(B22),IF(WEEKDAY(B22,2)<=5,$F$4,0),0) -> 0
A23: =IF(ISNUMBER(B23),CHOOSE(WEEKDAY(B23),"So","Mo","Di","Mi","Do","Fr","Sa"),"") -> Mo | B23: =IF(MONTH($F$3+16)=MONTH($F$3),$F$3+16,"") -> 46251 | F23: =IF(AND(ISNUMBER(C23),ISNUMBER(D23)),MAX(0,(D23-C23+IF(D23<C23,1,0))*24-IF(ISNUMBER(E23),E23,0)/60),0) -> 0 | G23: =IF(ISNUMBER(B23),IF(WEEKDAY(B23,2)<=5,$F$4,0),0) -> 8
A24: =IF(ISNUMBER(B24),CHOOSE(WEEKDAY(B24),"So","Mo","Di","Mi","Do","Fr","Sa"),"") -> Di | B24: =IF(MONTH($F$3+17)=MONTH($F$3),$F$3+17,"") -> 46252 | F24: =IF(AND(ISNUMBER(C24),ISNUMBER(D24)),MAX(0,(D24-C24+IF(D24<C24,1,0))*24-IF(ISNUMBER(E24),E24,0)/60),0) -> 0 | G24: =IF(ISNUMBER(B24),IF(WEEKDAY(B24,2)<=5,$F$4,0),0) -> 8
A25: =IF(ISNUMBER(B25),CHOOSE(WEEKDAY(B25),"So","Mo","Di","Mi","Do","Fr","Sa"),"") -> Mi | B25: =IF(MONTH($F$3+18)=MONTH($F$3),$F$3+18,"") -> 46253 | F25: =IF(AND(ISNUMBER(C25),ISNUMBER(D25)),MAX(0,(D25-C25+IF(D25<C25,1,0))*24-IF(ISNUMBER(E25),E25,0)/60),0) -> 0 | G25: =IF(ISNUMBER(B25),IF(WEEKDAY(B25,2)<=5,$F$4,0),0) -> 8
A26: =IF(ISNUMBER(B26),CHOOSE(WEEKDAY(B26),"So","Mo","Di","Mi","Do","Fr","Sa"),"") -> Do | B26: =IF(MONTH($F$3+19)=MONTH($F$3),$F$3+19,"") -> 46254 | F26: =IF(AND(ISNUMBER(C26),ISNUMBER(D26)),MAX(0,(D26-C26+IF(D26<C26,1,0))*24-IF(ISNUMBER(E26),E26,0)/60),0) -> 0 | G26: =IF(ISNUMBER(B26),IF(WEEKDAY(B26,2)<=5,$F$4,0),0) -> 8
A27: =IF(ISNUMBER(B27),CHOOSE(WEEKDAY(B27),"So","Mo","Di","Mi","Do","Fr","Sa"),"") -> Fr | B27: =IF(MONTH($F$3+20)=MONTH($F$3),$F$3+20,"") -> 46255 | F27: =IF(AND(ISNUMBER(C27),ISNUMBER(D27)),MAX(0,(D27-C27+IF(D27<C27,1,0))*24-IF(ISNUMBER(E27),E27,0)/60),0) -> 0 | G27: =IF(ISNUMBER(B27),IF(WEEKDAY(B27,2)<=5,$F$4,0),0) -> 8
A28: =IF(ISNUMBER(B28),CHOOSE(WEEKDAY(B28),"So","Mo","Di","Mi","Do","Fr","Sa"),"") -> Sa | B28: =IF(MONTH($F$3+21)=MONTH($F$3),$F$3+21,"") -> 46256 | F28: =IF(AND(ISNUMBER(C28),ISNUMBER(D28)),MAX(0,(D28-C28+IF(D28<C28,1,0))*24-IF(ISNUMBER(E28),E28,0)/60),0) -> 0 | G28: =IF(ISNUMBER(B28),IF(WEEKDAY(B28,2)<=5,$F$4,0),0) -> 0
A29: =IF(ISNUMBER(B29),CHOOSE(WEEKDAY(B29),"So","Mo","Di","Mi","Do","Fr","Sa"),"") -> So | B29: =IF(MONTH($F$3+22)=MONTH($F$3),$F$3+22,"") -> 46257 | F29: =IF(AND(ISNUMBER(C29),ISNUMBER(D29)),MAX(0,(D29-C29+IF(D29<C29,1,0))*24-IF(ISNUMBER(E29),E29,0)/60),0) -> 0 | G29: =IF(ISNUMBER(B29),IF(WEEKDAY(B29,2)<=5,$F$4,0),0) -> 0
A30: =IF(ISNUMBER(B30),CHOOSE(WEEKDAY(B30),"So","Mo","Di","Mi","Do","Fr","Sa"),"") -> Mo | B30: =IF(MONTH($F$3+23)=MONTH($F$3),$F$3+23,"") -> 46258 | F30: =IF(AND(ISNUMBER(C30),ISNUMBER(D30)),MAX(0,(D30-C30+IF(D30<C30,1,0))*24-IF(ISNUMBER(E30),E30,0)/60),0) -> 0 | G30: =IF(ISNUMBER(B30),IF(WEEKDAY(B30,2)<=5,$F$4,0),0) -> 8
A31: =IF(ISNUMBER(B31),CHOOSE(WEEKDAY(B31),"So","Mo","Di","Mi","Do","Fr","Sa"),"") -> Di | B31: =IF(MONTH($F$3+24)=MONTH($F$3),$F$3+24,"") -> 46259 | F31: =IF(AND(ISNUMBER(C31),ISNUMBER(D31)),MAX(0,(D31-C31+IF(D31<C31,1,0))*24-IF(ISNUMBER(E31),E31,0)/60),0) -> 0 | G31: =IF(ISNUMBER(B31),IF(WEEKDAY(B31,2)<=5,$F$4,0),0) -> 8
A32: =IF(ISNUMBER(B32),CHOOSE(WEEKDAY(B32),"So","Mo","Di","Mi","Do","Fr","Sa"),"") -> Mi | B32: =IF(MONTH($F$3+25)=MONTH($F$3),$F$3+25,"") -> 46260 | F32: =IF(AND(ISNUMBER(C32),ISNUMBER(D32)),MAX(0,(D32-C32+IF(D32<C32,1,0))*24-IF(ISNUMBER(E32),E32,0)/60),0) -> 0 | G32: =IF(ISNUMBER(B32),IF(WEEKDAY(B32,2)<=5,$F$4,0),0) -> 8
A33: =IF(ISNUMBER(B33),CHOOSE(WEEKDAY(B33),"So","Mo","Di","Mi","Do","Fr","Sa"),"") -> Do | B33: =IF(MONTH($F$3+26)=MONTH($F$3),$F$3+26,"") -> 46261 | F33: =IF(AND(ISNUMBER(C33),ISNUMBER(D33)),MAX(0,(D33-C33+IF(D33<C33,1,0))*24-IF(ISNUMBER(E33),E33,0)/60),0) -> 0 | G33: =IF(ISNUMBER(B33),IF(WEEKDAY(B33,2)<=5,$F$4,0),0) -> 8
A34: =IF(ISNUMBER(B34),CHOOSE(WEEKDAY(B34),"So","Mo","Di","Mi","Do","Fr","Sa"),"") -> Fr | B34: =IF(MONTH($F$3+27)=MONTH($F$3),$F$3+27,"") -> 46262 | F34: =IF(AND(ISNUMBER(C34),ISNUMBER(D34)),MAX(0,(D34-C34+IF(D34<C34,1,0))*24-IF(ISNUMBER(E34),E34,0)/60),0) -> 0 | G34: =IF(ISNUMBER(B34),IF(WEEKDAY(B34,2)<=5,$F$4,0),0) -> 8
A35: =IF(ISNUMBER(B35),CHOOSE(WEEKDAY(B35),"So","Mo","Di","Mi","Do","Fr","Sa"),"") -> Sa | B35: =IF(MONTH($F$3+28)=MONTH($F$3),$F$3+28,"") -> 46263 | F35: =IF(AND(ISNUMBER(C35),ISNUMBER(D35)),MAX(0,(D35-C35+IF(D35<C35,1,0))*24-IF(ISNUMBER(E35),E35,0)/60),0) -> 0 | G35: =IF(ISNUMBER(B35),IF(WEEKDAY(B35,2)<=5,$F$4,0),0) -> 0
A36: =IF(ISNUMBER(B36),CHOOSE(WEEKDAY(B36),"So","Mo","Di","Mi","Do","Fr","Sa"),"") -> So | B36: =IF(MONTH($F$3+29)=MONTH($F$3),$F$3+29,"") -> 46264 | F36: =IF(AND(ISNUMBER(C36),ISNUMBER(D36)),MAX(0,(D36-C36+IF(D36<C36,1,0))*24-IF(ISNUMBER(E36),E36,0)/60),0) -> 0 | G36: =IF(ISNUMBER(B36),IF(WEEKDAY(B36,2)<=5,$F$4,0),0) -> 0
A37: =IF(ISNUMBER(B37),CHOOSE(WEEKDAY(B37),"So","Mo","Di","Mi","Do","Fr","Sa"),"") -> Mo | B37: =IF(MONTH($F$3+30)=MONTH($F$3),$F$3+30,"") -> 46265 | F37: =IF(AND(ISNUMBER(C37),ISNUMBER(D37)),MAX(0,(D37-C37+IF(D37<C37,1,0))*24-IF(ISNUMBER(E37),E37,0)/60),0) -> 0 | G37: =IF(ISNUMBER(B37),IF(WEEKDAY(B37,2)<=5,$F$4,0),0) -> 8
A39: Summe Arbeitszeit (Ist) | F39: =SUM(F7:F37) -> 0
A40: Summe Soll | F40: =SUM(G7:G37) -> 168
A41: Über- oder Minusstunden | F41: =F39-F40 -> -168
A42: Arbeitstage | F42: =COUNTIF(F7:F37,">0") -> 0
A45: Datum, Unterschrift Mitarbeiter/in | E45: Datum, Unterschrift Vorgesetzte/r
A47: Arbeitszeit ist Ende minus Beginn minus Pause, über Mitternacht wird richtig gerechnet. Die Summen dieses Blatts gehen in die Übersicht.

Sheet Sep
A1: Arbeitszeiterfassung September 2026
A2: Name, Abteilung und Soll pro Tag stehen auf dem Blatt Übersicht. Beginn und Ende im Format 8:00, die Pause in Minuten. Bei Feiertag, Urlaub oder Krankheit das Soll der Zeile auf 0 setzen.
A3: Name | B3: ='Übersicht'!$B$3 | E3: Monat | F3: 46266
A4: Abteilung | B4: ='Übersicht'!$B$4 | E4: Soll pro Tag | F4: ='Übersicht'!$B$5 -> 8 | G4: Std., Mo bis Fr
A6: Tag | B6: Datum | C6: Beginn | D6: Ende | E6: Pause (Min.) | F6: Arbeitszeit (Std.) | G6: Soll (Std.) | H6: Bemerkung
A7: =IF(ISNUMBER(B7),CHOOSE(WEEKDAY(B7),"So","Mo","Di","Mi","Do","Fr","Sa"),"") -> Di | B7: =IF(MONTH($F$3+0)=MONTH($F$3),$F$3+0,"") -> 46266 | F7: =IF(AND(ISNUMBER(C7),ISNUMBER(D7)),MAX(0,(D7-C7+IF(D7<C7,1,0))*24-IF(ISNUMBER(E7),E7,0)/60),0) -> 0 | G7: =IF(ISNUMBER(B7),IF(WEEKDAY(B7,2)<=5,$F$4,0),0) -> 8
A8: =IF(ISNUMBER(B8),CHOOSE(WEEKDAY(B8),"So","Mo","Di","Mi","Do","Fr","Sa"),"") -> Mi | B8: =IF(MONTH($F$3+1)=MONTH($F$3),$F$3+1,"") -> 46267 | F8: =IF(AND(ISNUMBER(C8),ISNUMBER(D8)),MAX(0,(D8-C8+IF(D8<C8,1,0))*24-IF(ISNUMBER(E8),E8,0)/60),0) -> 0 | G8: =IF(ISNUMBER(B8),IF(WEEKDAY(B8,2)<=5,$F$4,0),0) -> 8
A9: =IF(ISNUMBER(B9),CHOOSE(WEEKDAY(B9),"So","Mo","Di","Mi","Do","Fr","Sa"),"") -> Do | B9: =IF(MONTH($F$3+2)=MONTH($F$3),$F$3+2,"") -> 46268 | F9: =IF(AND(ISNUMBER(C9),ISNUMBER(D9)),MAX(0,(D9-C9+IF(D9<C9,1,0))*24-IF(ISNUMBER(E9),E9,0)/60),0) -> 0 | G9: =IF(ISNUMBER(B9),IF(WEEKDAY(B9,2)<=5,$F$4,0),0) -> 8
A10: =IF(ISNUMBER(B10),CHOOSE(WEEKDAY(B10),"So","Mo","Di","Mi","Do","Fr","Sa"),"") -> Fr | B10: =IF(MONTH($F$3+3)=MONTH($F$3),$F$3+3,"") -> 46269 | F10: =IF(AND(ISNUMBER(C10),ISNUMBER(D10)),MAX(0,(D10-C10+IF(D10<C10,1,0))*24-IF(ISNUMBER(E10),E10,0)/60),0) -> 0 | G10: =IF(ISNUMBER(B10),IF(WEEKDAY(B10,2)<=5,$F$4,0),0) -> 8
A11: =IF(ISNUMBER(B11),CHOOSE(WEEKDAY(B11),"So","Mo","Di","Mi","Do","Fr","Sa"),"") -> Sa | B11: =IF(MONTH($F$3+4)=MONTH($F$3),$F$3+4,"") -> 46270 | F11: =IF(AND(ISNUMBER(C11),ISNUMBER(D11)),MAX(0,(D11-C11+IF(D11<C11,1,0))*24-IF(ISNUMBER(E11),E11,0)/60),0) -> 0 | G11: =IF(ISNUMBER(B11),IF(WEEKDAY(B11,2)<=5,$F$4,0),0) -> 0
A12: =IF(ISNUMBER(B12),CHOOSE(WEEKDAY(B12),"So","Mo","Di","Mi","Do","Fr","Sa"),"") -> So | B12: =IF(MONTH($F$3+5)=MONTH($F$3),$F$3+5,"") -> 46271 | F12: =IF(AND(ISNUMBER(C12),ISNUMBER(D12)),MAX(0,(D12-C12+IF(D12<C12,1,0))*24-IF(ISNUMBER(E12),E12,0)/60),0) -> 0 | G12: =IF(ISNUMBER(B12),IF(WEEKDAY(B12,2)<=5,$F$4,0),0) -> 0
A13: =IF(ISNUMBER(B13),CHOOSE(WEEKDAY(B13),"So","Mo","Di","Mi","Do","Fr","Sa"),"") -> Mo | B13: =IF(MONTH($F$3+6)=MONTH($F$3),$F$3+6,"") -> 46272 | F13: =IF(AND(ISNUMBER(C13),ISNUMBER(D13)),MAX(0,(D13-C13+IF(D13<C13,1,0))*24-IF(ISNUMBER(E13),E13,0)/60),0) -> 0 | G13: =IF(ISNUMBER(B13),IF(WEEKDAY(B13,2)<=5,$F$4,0),0) -> 8
A14: =IF(ISNUMBER(B14),CHOOSE(WEEKDAY(B14),"So","Mo","Di","Mi","Do","Fr","Sa"),"") -> Di | B14: =IF(MONTH($F$3+7)=MONTH($F$3),$F$3+7,"") -> 46273 | F14: =IF(AND(ISNUMBER(C14),ISNUMBER(D14)),MAX(0,(D14-C14+IF(D14<C14,1,0))*24-IF(ISNUMBER(E14),E14,0)/60),0) -> 0 | G14: =IF(ISNUMBER(B14),IF(WEEKDAY(B14,2)<=5,$F$4,0),0) -> 8
A15: =IF(ISNUMBER(B15),CHOOSE(WEEKDAY(B15),"So","Mo","Di","Mi","Do","Fr","Sa"),"") -> Mi | B15: =IF(MONTH($F$3+8)=MONTH($F$3),$F$3+8,"") -> 46274 | F15: =IF(AND(ISNUMBER(C15),ISNUMBER(D15)),MAX(0,(D15-C15+IF(D15<C15,1,0))*24-IF(ISNUMBER(E15),E15,0)/60),0) -> 0 | G15: =IF(ISNUMBER(B15),IF(WEEKDAY(B15,2)<=5,$F$4,0),0) -> 8
A16: =IF(ISNUMBER(B16),CHOOSE(WEEKDAY(B16),"So","Mo","Di","Mi","Do","Fr","Sa"),"") -> Do | B16: =IF(MONTH($F$3+9)=MONTH($F$3),$F$3+9,"") -> 46275 | F16: =IF(AND(ISNUMBER(C16),ISNUMBER(D16)),MAX(0,(D16-C16+IF(D16<C16,1,0))*24-IF(ISNUMBER(E16),E16,0)/60),0) -> 0 | G16: =IF(ISNUMBER(B16),IF(WEEKDAY(B16,2)<=5,$F$4,0),0) -> 8
A17: =IF(ISNUMBER(B17),CHOOSE(WEEKDAY(B17),"So","Mo","Di","Mi","Do","Fr","Sa"),"") -> Fr | B17: =IF(MONTH($F$3+10)=MONTH($F$3),$F$3+10,"") -> 46276 | F17: =IF(AND(ISNUMBER(C17),ISNUMBER(D17)),MAX(0,(D17-C17+IF(D17<C17,1,0))*24-IF(ISNUMBER(E17),E17,0)/60),0) -> 0 | G17: =IF(ISNUMBER(B17),IF(WEEKDAY(B17,2)<=5,$F$4,0),0) -> 8
A18: =IF(ISNUMBER(B18),CHOOSE(WEEKDAY(B18),"So","Mo","Di","Mi","Do","Fr","Sa"),"") -> Sa | B18: =IF(MONTH($F$3+11)=MONTH($F$3),$F$3+11,"") -> 46277 | F18: =IF(AND(ISNUMBER(C18),ISNUMBER(D18)),MAX(0,(D18-C18+IF(D18<C18,1,0))*24-IF(ISNUMBER(E18),E18,0)/60),0) -> 0 | G18: =IF(ISNUMBER(B18),IF(WEEKDAY(B18,2)<=5,$F$4,0),0) -> 0
A19: =IF(ISNUMBER(B19),CHOOSE(WEEKDAY(B19),"So","Mo","Di","Mi","Do","Fr","Sa"),"") -> So | B19: =IF(MONTH($F$3+12)=MONTH($F$3),$F$3+12,"") -> 46278 | F19: =IF(AND(ISNUMBER(C19),ISNUMBER(D19)),MAX(0,(D19-C19+IF(D19<C19,1,0))*24-IF(ISNUMBER(E19),E19,0)/60),0) -> 0 | G19: =IF(ISNUMBER(B19),IF(WEEKDAY(B19,2)<=5,$F$4,0),0) -> 0
A20: =IF(ISNUMBER(B20),CHOOSE(WEEKDAY(B20),"So","Mo","Di","Mi","Do","Fr","Sa"),"") -> Mo | B20: =IF(MONTH($F$3+13)=MONTH($F$3),$F$3+13,"") -> 46279 | F20: =IF(AND(ISNUMBER(C20),ISNUMBER(D20)),MAX(0,(D20-C20+IF(D20<C20,1,0))*24-IF(ISNUMBER(E20),E20,0)/60),0) -> 0 | G20: =IF(ISNUMBER(B20),IF(WEEKDAY(B20,2)<=5,$F$4,0),0) -> 8
A21: =IF(ISNUMBER(B21),CHOOSE(WEEKDAY(B21),"So","Mo","Di","Mi","Do","Fr","Sa"),"") -> Di | B21: =IF(MONTH($F$3+14)=MONTH($F$3),$F$3+14,"") -> 46280 | F21: =IF(AND(ISNUMBER(C21),ISNUMBER(D21)),MAX(0,(D21-C21+IF(D21<C21,1,0))*24-IF(ISNUMBER(E21),E21,0)/60),0) -> 0 | G21: =IF(ISNUMBER(B21),IF(WEEKDAY(B21,2)<=5,$F$4,0),0) -> 8
A22: =IF(ISNUMBER(B22),CHOOSE(WEEKDAY(B22),"So","Mo","Di","Mi","Do","Fr","Sa"),"") -> Mi | B22: =IF(MONTH($F$3+15)=MONTH($F$3),$F$3+15,"") -> 46281 | F22: =IF(AND(ISNUMBER(C22),ISNUMBER(D22)),MAX(0,(D22-C22+IF(D22<C22,1,0))*24-IF(ISNUMBER(E22),E22,0)/60),0) -> 0 | G22: =IF(ISNUMBER(B22),IF(WEEKDAY(B22,2)<=5,$F$4,0),0) -> 8
A23: =IF(ISNUMBER(B23),CHOOSE(WEEKDAY(B23),"So","Mo","Di","Mi","Do","Fr","Sa"),"") -> Do | B23: =IF(MONTH($F$3+16)=MONTH($F$3),$F$3+16,"") -> 46282 | F23: =IF(AND(ISNUMBER(C23),ISNUMBER(D23)),MAX(0,(D23-C23+IF(D23<C23,1,0))*24-IF(ISNUMBER(E23),E23,0)/60),0) -> 0 | G23: =IF(ISNUMBER(B23),IF(WEEKDAY(B23,2)<=5,$F$4,0),0) -> 8
A24: =IF(ISNUMBER(B24),CHOOSE(WEEKDAY(B24),"So","Mo","Di","Mi","Do","Fr","Sa"),"") -> Fr | B24: =IF(MONTH($F$3+17)=MONTH($F$3),$F$3+17,"") -> 46283 | F24: =IF(AND(ISNUMBER(C24),ISNUMBER(D24)),MAX(0,(D24-C24+IF(D24<C24,1,0))*24-IF(ISNUMBER(E24),E24,0)/60),0) -> 0 | G24: =IF(ISNUMBER(B24),IF(WEEKDAY(B24,2)<=5,$F$4,0),0) -> 8
A25: =IF(ISNUMBER(B25),CHOOSE(WEEKDAY(B25),"So","Mo","Di","Mi","Do","Fr","Sa"),"") -> Sa | B25: =IF(MONTH($F$3+18)=MONTH($F$3),$F$3+18,"") -> 46284 | F25: =IF(AND(ISNUMBER(C25),ISNUMBER(D25)),MAX(0,(D25-C25+IF(D25<C25,1,0))*24-IF(ISNUMBER(E25),E25,0)/60),0) -> 0 | G25: =IF(ISNUMBER(B25),IF(WEEKDAY(B25,2)<=5,$F$4,0),0) -> 0
A26: =IF(ISNUMBER(B26),CHOOSE(WEEKDAY(B26),"So","Mo","Di","Mi","Do","Fr","Sa"),"") -> So | B26: =IF(MONTH($F$3+19)=MONTH($F$3),$F$3+19,"") -> 46285 | F26: =IF(AND(ISNUMBER(C26),ISNUMBER(D26)),MAX(0,(D26-C26+IF(D26<C26,1,0))*24-IF(ISNUMBER(E26),E26,0)/60),0) -> 0 | G26: =IF(ISNUMBER(B26),IF(WEEKDAY(B26,2)<=5,$F$4,0),0) -> 0
A27: =IF(ISNUMBER(B27),CHOOSE(WEEKDAY(B27),"So","Mo","Di","Mi","Do","Fr","Sa"),"") -> Mo | B27: =IF(MONTH($F$3+20)=MONTH($F$3),$F$3+20,"") -> 46286 | F27: =IF(AND(ISNUMBER(C27),ISNUMBER(D27)),MAX(0,(D27-C27+IF(D27<C27,1,0))*24-IF(ISNUMBER(E27),E27,0)/60),0) -> 0 | G27: =IF(ISNUMBER(B27),IF(WEEKDAY(B27,2)<=5,$F$4,0),0) -> 8
A28: =IF(ISNUMBER(B28),CHOOSE(WEEKDAY(B28),"So","Mo","Di","Mi","Do","Fr","Sa"),"") -> Di | B28: =IF(MONTH($F$3+21)=MONTH($F$3),$F$3+21,"") -> 46287 | F28: =IF(AND(ISNUMBER(C28),ISNUMBER(D28)),MAX(0,(D28-C28+IF(D28<C28,1,0))*24-IF(ISNUMBER(E28),E28,0)/60),0) -> 0 | G28: =IF(ISNUMBER(B28),IF(WEEKDAY(B28,2)<=5,$F$4,0),0) -> 8
A29: =IF(ISNUMBER(B29),CHOOSE(WEEKDAY(B29),"So","Mo","Di","Mi","Do","Fr","Sa"),"") -> Mi | B29: =IF(MONTH($F$3+22)=MONTH($F$3),$F$3+22,"") -> 46288 | F29: =IF(AND(ISNUMBER(C29),ISNUMBER(D29)),MAX(0,(D29-C29+IF(D29<C29,1,0))*24-IF(ISNUMBER(E29),E29,0)/60),0) -> 0 | G29: =IF(ISNUMBER(B29),IF(WEEKDAY(B29,2)<=5,$F$4,0),0) -> 8
A30: =IF(ISNUMBER(B30),CHOOSE(WEEKDAY(B30),"So","Mo","Di","Mi","Do","Fr","Sa"),"") -> Do | B30: =IF(MONTH($F$3+23)=MONTH($F$3),$F$3+23,"") -> 46289 | F30: =IF(AND(ISNUMBER(C30),ISNUMBER(D30)),MAX(0,(D30-C30+IF(D30<C30,1,0))*24-IF(ISNUMBER(E30),E30,0)/60),0) -> 0 | G30: =IF(ISNUMBER(B30),IF(WEEKDAY(B30,2)<=5,$F$4,0),0) -> 8
A31: =IF(ISNUMBER(B31),CHOOSE(WEEKDAY(B31),"So","Mo","Di","Mi","Do","Fr","Sa"),"") -> Fr | B31: =IF(MONTH($F$3+24)=MONTH($F$3),$F$3+24,"") -> 46290 | F31: =IF(AND(ISNUMBER(C31),ISNUMBER(D31)),MAX(0,(D31-C31+IF(D31<C31,1,0))*24-IF(ISNUMBER(E31),E31,0)/60),0) -> 0 | G31: =IF(ISNUMBER(B31),IF(WEEKDAY(B31,2)<=5,$F$4,0),0) -> 8
A32: =IF(ISNUMBER(B32),CHOOSE(WEEKDAY(B32),"So","Mo","Di","Mi","Do","Fr","Sa"),"") -> Sa | B32: =IF(MONTH($F$3+25)=MONTH($F$3),$F$3+25,"") -> 46291 | F32: =IF(AND(ISNUMBER(C32),ISNUMBER(D32)),MAX(0,(D32-C32+IF(D32<C32,1,0))*24-IF(ISNUMBER(E32),E32,0)/60),0) -> 0 | G32: =IF(ISNUMBER(B32),IF(WEEKDAY(B32,2)<=5,$F$4,0),0) -> 0
A33: =IF(ISNUMBER(B33),CHOOSE(WEEKDAY(B33),"So","Mo","Di","Mi","Do","Fr","Sa"),"") -> So | B33: =IF(MONTH($F$3+26)=MONTH($F$3),$F$3+26,"") -> 46292 | F33: =IF(AND(ISNUMBER(C33),ISNUMBER(D33)),MAX(0,(D33-C33+IF(D33<C33,1,0))*24-IF(ISNUMBER(E33),E33,0)/60),0) -> 0 | G33: =IF(ISNUMBER(B33),IF(WEEKDAY(B33,2)<=5,$F$4,0),0) -> 0
A34: =IF(ISNUMBER(B34),CHOOSE(WEEKDAY(B34),"So","Mo","Di","Mi","Do","Fr","Sa"),"") -> Mo | B34: =IF(MONTH($F$3+27)=MONTH($F$3),$F$3+27,"") -> 46293 | F34: =IF(AND(ISNUMBER(C34),ISNUMBER(D34)),MAX(0,(D34-C34+IF(D34<C34,1,0))*24-IF(ISNUMBER(E34),E34,0)/60),0) -> 0 | G34: =IF(ISNUMBER(B34),IF(WEEKDAY(B34,2)<=5,$F$4,0),0) -> 8
A35: =IF(ISNUMBER(B35),CHOOSE(WEEKDAY(B35),"So","Mo","Di","Mi","Do","Fr","Sa"),"") -> Di | B35: =IF(MONTH($F$3+28)=MONTH($F$3),$F$3+28,"") -> 46294 | F35: =IF(AND(ISNUMBER(C35),ISNUMBER(D35)),MAX(0,(D35-C35+IF(D35<C35,1,0))*24-IF(ISNUMBER(E35),E35,0)/60),0) -> 0 | G35: =IF(ISNUMBER(B35),IF(WEEKDAY(B35,2)<=5,$F$4,0),0) -> 8
A36: =IF(ISNUMBER(B36),CHOOSE(WEEKDAY(B36),"So","Mo","Di","Mi","Do","Fr","Sa"),"") -> Mi | B36: =IF(MONTH($F$3+29)=MONTH($F$3),$F$3+29,"") -> 46295 | F36: =IF(AND(ISNUMBER(C36),ISNUMBER(D36)),MAX(0,(D36-C36+IF(D36<C36,1,0))*24-IF(ISNUMBER(E36),E36,0)/60),0) -> 0 | G36: =IF(ISNUMBER(B36),IF(WEEKDAY(B36,2)<=5,$F$4,0),0) -> 8
A37: =IF(ISNUMBER(B37),CHOOSE(WEEKDAY(B37),"So","Mo","Di","Mi","Do","Fr","Sa"),"") | B37: =IF(MONTH($F$3+30)=MONTH($F$3),$F$3+30,"") | F37: =IF(AND(ISNUMBER(C37),ISNUMBER(D37)),MAX(0,(D37-C37+IF(D37<C37,1,0))*24-IF(ISNUMBER(E37),E37,0)/60),0) -> 0 | G37: =IF(ISNUMBER(B37),IF(WEEKDAY(B37,2)<=5,$F$4,0),0) -> 0
A39: Summe Arbeitszeit (Ist) | F39: =SUM(F7:F37) -> 0
A40: Summe Soll | F40: =SUM(G7:G37) -> 176
A41: Über- oder Minusstunden | F41: =F39-F40 -> -176
A42: Arbeitstage | F42: =COUNTIF(F7:F37,">0") -> 0
A45: Datum, Unterschrift Mitarbeiter/in | E45: Datum, Unterschrift Vorgesetzte/r
A47: Arbeitszeit ist Ende minus Beginn minus Pause, über Mitternacht wird richtig gerechnet. Die Summen dieses Blatts gehen in die Übersicht.

Sheet Okt
A1: Arbeitszeiterfassung Oktober 2026
A2: Name, Abteilung und Soll pro Tag stehen auf dem Blatt Übersicht. Beginn und Ende im Format 8:00, die Pause in Minuten. Bei Feiertag, Urlaub oder Krankheit das Soll der Zeile auf 0 setzen.
A3: Name | B3: ='Übersicht'!$B$3 | E3: Monat | F3: 46296
A4: Abteilung | B4: ='Übersicht'!$B$4 | E4: Soll pro Tag | F4: ='Übersicht'!$B$5 -> 8 | G4: Std., Mo bis Fr
A6: Tag | B6: Datum | C6: Beginn | D6: Ende | E6: Pause (Min.) | F6: Arbeitszeit (Std.) | G6: Soll (Std.) | H6: Bemerkung
A7: =IF(ISNUMBER(B7),CHOOSE(WEEKDAY(B7),"So","Mo","Di","Mi","Do","Fr","Sa"),"") -> Do | B7: =IF(MONTH($F$3+0)=MONTH($F$3),$F$3+0,"") -> 46296 | F7: =IF(AND(ISNUMBER(C7),ISNUMBER(D7)),MAX(0,(D7-C7+IF(D7<C7,1,0))*24-IF(ISNUMBER(E7),E7,0)/60),0) -> 0 | G7: =IF(ISNUMBER(B7),IF(WEEKDAY(B7,2)<=5,$F$4,0),0) -> 8
A8: =IF(ISNUMBER(B8),CHOOSE(WEEKDAY(B8),"So","Mo","Di","Mi","Do","Fr","Sa"),"") -> Fr | B8: =IF(MONTH($F$3+1)=MONTH($F$3),$F$3+1,"") -> 46297 | F8: =IF(AND(ISNUMBER(C8),ISNUMBER(D8)),MAX(0,(D8-C8+IF(D8<C8,1,0))*24-IF(ISNUMBER(E8),E8,0)/60),0) -> 0 | G8: =IF(ISNUMBER(B8),IF(WEEKDAY(B8,2)<=5,$F$4,0),0) -> 8
A9: =IF(ISNUMBER(B9),CHOOSE(WEEKDAY(B9),"So","Mo","Di","Mi","Do","Fr","Sa"),"") -> Sa | B9: =IF(MONTH($F$3+2)=MONTH($F$3),$F$3+2,"") -> 46298 | F9: =IF(AND(ISNUMBER(C9),ISNUMBER(D9)),MAX(0,(D9-C9+IF(D9<C9,1,0))*24-IF(ISNUMBER(E9),E9,0)/60),0) -> 0 | G9: =IF(ISNUMBER(B9),IF(WEEKDAY(B9,2)<=5,$F$4,0),0) -> 0
A10: =IF(ISNUMBER(B10),CHOOSE(WEEKDAY(B10),"So","Mo","Di","Mi","Do","Fr","Sa"),"") -> So | B10: =IF(MONTH($F$3+3)=MONTH($F$3),$F$3+3,"") -> 46299 | F10: =IF(AND(ISNUMBER(C10),ISNUMBER(D10)),MAX(0,(D10-C10+IF(D10<C10,1,0))*24-IF(ISNUMBER(E10),E10,0)/60),0) -> 0 | G10: =IF(ISNUMBER(B10),IF(WEEKDAY(B10,2)<=5,$F$4,0),0) -> 0
A11: =IF(ISNUMBER(B11),CHOOSE(WEEKDAY(B11),"So","Mo","Di","Mi","Do","Fr","Sa"),"") -> Mo | B11: =IF(MONTH($F$3+4)=MONTH($F$3),$F$3+4,"") -> 46300 | F11: =IF(AND(ISNUMBER(C11),ISNUMBER(D11)),MAX(0,(D11-C11+IF(D11<C11,1,0))*24-IF(ISNUMBER(E11),E11,0)/60),0) -> 0 | G11: =IF(ISNUMBER(B11),IF(WEEKDAY(B11,2)<=5,$F$4,0),0) -> 8
A12: =IF(ISNUMBER(B12),CHOOSE(WEEKDAY(B12),"So","Mo","Di","Mi","Do","Fr","Sa"),"") -> Di | B12: =IF(MONTH($F$3+5)=MONTH($F$3),$F$3+5,"") -> 46301 | F12: =IF(AND(ISNUMBER(C12),ISNUMBER(D12)),MAX(0,(D12-C12+IF(D12<C12,1,0))*24-IF(ISNUMBER(E12),E12,0)/60),0) -> 0 | G12: =IF(ISNUMBER(B12),IF(WEEKDAY(B12,2)<=5,$F$4,0),0) -> 8
A13: =IF(ISNUMBER(B13),CHOOSE(WEEKDAY(B13),"So","Mo","Di","Mi","Do","Fr","Sa"),"") -> Mi | B13: =IF(MONTH($F$3+6)=MONTH($F$3),$F$3+6,"") -> 46302 | F13: =IF(AND(ISNUMBER(C13),ISNUMBER(D13)),MAX(0,(D13-C13+IF(D13<C13,1,0))*24-IF(ISNUMBER(E13),E13,0)/60),0) -> 0 | G13: =IF(ISNUMBER(B13),IF(WEEKDAY(B13,2)<=5,$F$4,0),0) -> 8
A14: =IF(ISNUMBER(B14),CHOOSE(WEEKDAY(B14),"So","Mo","Di","Mi","Do","Fr","Sa"),"") -> Do | B14: =IF(MONTH($F$3+7)=MONTH($F$3),$F$3+7,"") -> 46303 | F14: =IF(AND(ISNUMBER(C14),ISNUMBER(D14)),MAX(0,(D14-C14+IF(D14<C14,1,0))*24-IF(ISNUMBER(E14),E14,0)/60),0) -> 0 | G14: =IF(ISNUMBER(B14),IF(WEEKDAY(B14,2)<=5,$F$4,0),0) -> 8
A15: =IF(ISNUMBER(B15),CHOOSE(WEEKDAY(B15),"So","Mo","Di","Mi","Do","Fr","Sa"),"") -> Fr | B15: =IF(MONTH($F$3+8)=MONTH($F$3),$F$3+8,"") -> 46304 | F15: =IF(AND(ISNUMBER(C15),ISNUMBER(D15)),MAX(0,(D15-C15+IF(D15<C15,1,0))*24-IF(ISNUMBER(E15),E15,0)/60),0) -> 0 | G15: =IF(ISNUMBER(B15),IF(WEEKDAY(B15,2)<=5,$F$4,0),0) -> 8
A16: =IF(ISNUMBER(B16),CHOOSE(WEEKDAY(B16),"So","Mo","Di","Mi","Do","Fr","Sa"),"") -> Sa | B16: =IF(MONTH($F$3+9)=MONTH($F$3),$F$3+9,"") -> 46305 | F16: =IF(AND(ISNUMBER(C16),ISNUMBER(D16)),MAX(0,(D16-C16+IF(D16<C16,1,0))*24-IF(ISNUMBER(E16),E16,0)/60),0) -> 0 | G16: =IF(ISNUMBER(B16),IF(WEEKDAY(B16,2)<=5,$F$4,0),0) -> 0
A17: =IF(ISNUMBER(B17),CHOOSE(WEEKDAY(B17),"So","Mo","Di","Mi","Do","Fr","Sa"),"") -> So | B17: =IF(MONTH($F$3+10)=MONTH($F$3),$F$3+10,"") -> 46306 | F17: =IF(AND(ISNUMBER(C17),ISNUMBER(D17)),MAX(0,(D17-C17+IF(D17<C17,1,0))*24-IF(ISNUMBER(E17),E17,0)/60),0) -> 0 | G17: =IF(ISNUMBER(B17),IF(WEEKDAY(B17,2)<=5,$F$4,0),0) -> 0
A18: =IF(ISNUMBER(B18),CHOOSE(WEEKDAY(B18),"So","Mo","Di","Mi","Do","Fr","Sa"),"") -> Mo | B18: =IF(MONTH($F$3+11)=MONTH($F$3),$F$3+11,"") -> 46307 | F18: =IF(AND(ISNUMBER(C18),ISNUMBER(D18)),MAX(0,(D18-C18+IF(D18<C18,1,0))*24-IF(ISNUMBER(E18),E18,0)/60),0) -> 0 | G18: =IF(ISNUMBER(B18),IF(WEEKDAY(B18,2)<=5,$F$4,0),0) -> 8
A19: =IF(ISNUMBER(B19),CHOOSE(WEEKDAY(B19),"So","Mo","Di","Mi","Do","Fr","Sa"),"") -> Di | B19: =IF(MONTH($F$3+12)=MONTH($F$3),$F$3+12,"") -> 46308 | F19: =IF(AND(ISNUMBER(C19),ISNUMBER(D19)),MAX(0,(D19-C19+IF(D19<C19,1,0))*24-IF(ISNUMBER(E19),E19,0)/60),0) -> 0 | G19: =IF(ISNUMBER(B19),IF(WEEKDAY(B19,2)<=5,$F$4,0),0) -> 8
A20: =IF(ISNUMBER(B20),CHOOSE(WEEKDAY(B20),"So","Mo","Di","Mi","Do","Fr","Sa"),"") -> Mi | B20: =IF(MONTH($F$3+13)=MONTH($F$3),$F$3+13,"") -> 46309 | F20: =IF(AND(ISNUMBER(C20),ISNUMBER(D20)),MAX(0,(D20-C20+IF(D20<C20,1,0))*24-IF(ISNUMBER(E20),E20,0)/60),0) -> 0 | G20: =IF(ISNUMBER(B20),IF(WEEKDAY(B20,2)<=5,$F$4,0),0) -> 8
A21: =IF(ISNUMBER(B21),CHOOSE(WEEKDAY(B21),"So","Mo","Di","Mi","Do","Fr","Sa"),"") -> Do | B21: =IF(MONTH($F$3+14)=MONTH($F$3),$F$3+14,"") -> 46310 | F21: =IF(AND(ISNUMBER(C21),ISNUMBER(D21)),MAX(0,(D21-C21+IF(D21<C21,1,0))*24-IF(ISNUMBER(E21),E21,0)/60),0) -> 0 | G21: =IF(ISNUMBER(B21),IF(WEEKDAY(B21,2)<=5,$F$4,0),0) -> 8
A22: =IF(ISNUMBER(B22),CHOOSE(WEEKDAY(B22),"So","Mo","Di","Mi","Do","Fr","Sa"),"") -> Fr | B22: =IF(MONTH($F$3+15)=MONTH($F$3),$F$3+15,"") -> 46311 | F22: =IF(AND(ISNUMBER(C22),ISNUMBER(D22)),MAX(0,(D22-C22+IF(D22<C22,1,0))*24-IF(ISNUMBER(E22),E22,0)/60),0) -> 0 | G22: =IF(ISNUMBER(B22),IF(WEEKDAY(B22,2)<=5,$F$4,0),0) -> 8
A23: =IF(ISNUMBER(B23),CHOOSE(WEEKDAY(B23),"So","Mo","Di","Mi","Do","Fr","Sa"),"") -> Sa | B23: =IF(MONTH($F$3+16)=MONTH($F$3),$F$3+16,"") -> 46312 | F23: =IF(AND(ISNUMBER(C23),ISNUMBER(D23)),MAX(0,(D23-C23+IF(D23<C23,1,0))*24-IF(ISNUMBER(E23),E23,0)/60),0) -> 0 | G23: =IF(ISNUMBER(B23),IF(WEEKDAY(B23,2)<=5,$F$4,0),0) -> 0
A24: =IF(ISNUMBER(B24),CHOOSE(WEEKDAY(B24),"So","Mo","Di","Mi","Do","Fr","Sa"),"") -> So | B24: =IF(MONTH($F$3+17)=MONTH($F$3),$F$3+17,"") -> 46313 | F24: =IF(AND(ISNUMBER(C24),ISNUMBER(D24)),MAX(0,(D24-C24+IF(D24<C24,1,0))*24-IF(ISNUMBER(E24),E24,0)/60),0) -> 0 | G24: =IF(ISNUMBER(B24),IF(WEEKDAY(B24,2)<=5,$F$4,0),0) -> 0
A25: =IF(ISNUMBER(B25),CHOOSE(WEEKDAY(B25),"So","Mo","Di","Mi","Do","Fr","Sa"),"") -> Mo | B25: =IF(MONTH($F$3+18)=MONTH($F$3),$F$3+18,"") -> 46314 | F25: =IF(AND(ISNUMBER(C25),ISNUMBER(D25)),MAX(0,(D25-C25+IF(D25<C25,1,0))*24-IF(ISNUMBER(E25),E25,0)/60),0) -> 0 | G25: =IF(ISNUMBER(B25),IF(WEEKDAY(B25,2)<=5,$F$4,0),0) -> 8
A26: =IF(ISNUMBER(B26),CHOOSE(WEEKDAY(B26),"So","Mo","Di","Mi","Do","Fr","Sa"),"") -> Di | B26: =IF(MONTH($F$3+19)=MONTH($F$3),$F$3+19,"") -> 46315 | F26: =IF(AND(ISNUMBER(C26),ISNUMBER(D26)),MAX(0,(D26-C26+IF(D26<C26,1,0))*24-IF(ISNUMBER(E26),E26,0)/60),0) -> 0 | G26: =IF(ISNUMBER(B26),IF(WEEKDAY(B26,2)<=5,$F$4,0),0) -> 8
A27: =IF(ISNUMBER(B27),CHOOSE(WEEKDAY(B27),"So","Mo","Di","Mi","Do","Fr","Sa"),"") -> Mi | B27: =IF(MONTH($F$3+20)=MONTH($F$3),$F$3+20,"") -> 46316 | F27: =IF(AND(ISNUMBER(C27),ISNUMBER(D27)),MAX(0,(D27-C27+IF(D27<C27,1,0))*24-IF(ISNUMBER(E27),E27,0)/60),0) -> 0 | G27: =IF(ISNUMBER(B27),IF(WEEKDAY(B27,2)<=5,$F$4,0),0) -> 8
A28: =IF(ISNUMBER(B28),CHOOSE(WEEKDAY(B28),"So","Mo","Di","Mi","Do","Fr","Sa"),"") -> Do | B28: =IF(MONTH($F$3+21)=MONTH($F$3),$F$3+21,"") -> 46317 | F28: =IF(AND(ISNUMBER(C28),ISNUMBER(D28)),MAX(0,(D28-C28+IF(D28<C28,1,0))*24-IF(ISNUMBER(E28),E28,0)/60),0) -> 0 | G28: =IF(ISNUMBER(B28),IF(WEEKDAY(B28,2)<=5,$F$4,0),0) -> 8
A29: =IF(ISNUMBER(B29),CHOOSE(WEEKDAY(B29),"So","Mo","Di","Mi","Do","Fr","Sa"),"") -> Fr | B29: =IF(MONTH($F$3+22)=MONTH($F$3),$F$3+22,"") -> 46318 | F29: =IF(AND(ISNUMBER(C29),ISNUMBER(D29)),MAX(0,(D29-C29+IF(D29<C29,1,0))*24-IF(ISNUMBER(E29),E29,0)/60),0) -> 0 | G29: =IF(ISNUMBER(B29),IF(WEEKDAY(B29,2)<=5,$F$4,0),0) -> 8
A30: =IF(ISNUMBER(B30),CHOOSE(WEEKDAY(B30),"So","Mo","Di","Mi","Do","Fr","Sa"),"") -> Sa | B30: =IF(MONTH($F$3+23)=MONTH($F$3),$F$3+23,"") -> 46319 | F30: =IF(AND(ISNUMBER(C30),ISNUMBER(D30)),MAX(0,(D30-C30+IF(D30<C30,1,0))*24-IF(ISNUMBER(E30),E30,0)/60),0) -> 0 | G30: =IF(ISNUMBER(B30),IF(WEEKDAY(B30,2)<=5,$F$4,0),0) -> 0
A31: =IF(ISNUMBER(B31),CHOOSE(WEEKDAY(B31),"So","Mo","Di","Mi","Do","Fr","Sa"),"") -> So | B31: =IF(MONTH($F$3+24)=MONTH($F$3),$F$3+24,"") -> 46320 | F31: =IF(AND(ISNUMBER(C31),ISNUMBER(D31)),MAX(0,(D31-C31+IF(D31<C31,1,0))*24-IF(ISNUMBER(E31),E31,0)/60),0) -> 0 | G31: =IF(ISNUMBER(B31),IF(WEEKDAY(B31,2)<=5,$F$4,0),0) -> 0
A32: =IF(ISNUMBER(B32),CHOOSE(WEEKDAY(B32),"So","Mo","Di","Mi","Do","Fr","Sa"),"") -> Mo | B32: =IF(MONTH($F$3+25)=MONTH($F$3),$F$3+25,"") -> 46321 | F32: =IF(AND(ISNUMBER(C32),ISNUMBER(D32)),MAX(0,(D32-C32+IF(D32<C32,1,0))*24-IF(ISNUMBER(E32),E32,0)/60),0) -> 0 | G32: =IF(ISNUMBER(B32),IF(WEEKDAY(B32,2)<=5,$F$4,0),0) -> 8
A33: =IF(ISNUMBER(B33),CHOOSE(WEEKDAY(B33),"So","Mo","Di","Mi","Do","Fr","Sa"),"") -> Di | B33: =IF(MONTH($F$3+26)=MONTH($F$3),$F$3+26,"") -> 46322 | F33: =IF(AND(ISNUMBER(C33),ISNUMBER(D33)),MAX(0,(D33-C33+IF(D33<C33,1,0))*24-IF(ISNUMBER(E33),E33,0)/60),0) -> 0 | G33: =IF(ISNUMBER(B33),IF(WEEKDAY(B33,2)<=5,$F$4,0),0) -> 8
A34: =IF(ISNUMBER(B34),CHOOSE(WEEKDAY(B34),"So","Mo","Di","Mi","Do","Fr","Sa"),"") -> Mi | B34: =IF(MONTH($F$3+27)=MONTH($F$3),$F$3+27,"") -> 46323 | F34: =IF(AND(ISNUMBER(C34),ISNUMBER(D34)),MAX(0,(D34-C34+IF(D34<C34,1,0))*24-IF(ISNUMBER(E34),E34,0)/60),0) -> 0 | G34: =IF(ISNUMBER(B34),IF(WEEKDAY(B34,2)<=5,$F$4,0),0) -> 8
A35: =IF(ISNUMBER(B35),CHOOSE(WEEKDAY(B35),"So","Mo","Di","Mi","Do","Fr","Sa"),"") -> Do | B35: =IF(MONTH($F$3+28)=MONTH($F$3),$F$3+28,"") -> 46324 | F35: =IF(AND(ISNUMBER(C35),ISNUMBER(D35)),MAX(0,(D35-C35+IF(D35<C35,1,0))*24-IF(ISNUMBER(E35),E35,0)/60),0) -> 0 | G35: =IF(ISNUMBER(B35),IF(WEEKDAY(B35,2)<=5,$F$4,0),0) -> 8
A36: =IF(ISNUMBER(B36),CHOOSE(WEEKDAY(B36),"So","Mo","Di","Mi","Do","Fr","Sa"),"") -> Fr | B36: =IF(MONTH($F$3+29)=MONTH($F$3),$F$3+29,"") -> 46325 | F36: =IF(AND(ISNUMBER(C36),ISNUMBER(D36)),MAX(0,(D36-C36+IF(D36<C36,1,0))*24-IF(ISNUMBER(E36),E36,0)/60),0) -> 0 | G36: =IF(ISNUMBER(B36),IF(WEEKDAY(B36,2)<=5,$F$4,0),0) -> 8
A37: =IF(ISNUMBER(B37),CHOOSE(WEEKDAY(B37),"So","Mo","Di","Mi","Do","Fr","Sa"),"") -> Sa | B37: =IF(MONTH($F$3+30)=MONTH($F$3),$F$3+30,"") -> 46326 | F37: =IF(AND(ISNUMBER(C37),ISNUMBER(D37)),MAX(0,(D37-C37+IF(D37<C37,1,0))*24-IF(ISNUMBER(E37),E37,0)/60),0) -> 0 | G37: =IF(ISNUMBER(B37),IF(WEEKDAY(B37,2)<=5,$F$4,0),0) -> 0
A39: Summe Arbeitszeit (Ist) | F39: =SUM(F7:F37) -> 0
A40: Summe Soll | F40: =SUM(G7:G37) -> 176
A41: Über- oder Minusstunden | F41: =F39-F40 -> -176
A42: Arbeitstage | F42: =COUNTIF(F7:F37,">0") -> 0
A45: Datum, Unterschrift Mitarbeiter/in | E45: Datum, Unterschrift Vorgesetzte/r
A47: Arbeitszeit ist Ende minus Beginn minus Pause, über Mitternacht wird richtig gerechnet. Die Summen dieses Blatts gehen in die Übersicht.

Sheet Nov
A1: Arbeitszeiterfassung November 2026
A2: Name, Abteilung und Soll pro Tag stehen auf dem Blatt Übersicht. Beginn und Ende im Format 8:00, die Pause in Minuten. Bei Feiertag, Urlaub oder Krankheit das Soll der Zeile auf 0 setzen.
A3: Name | B3: ='Übersicht'!$B$3 | E3: Monat | F3: 46327
A4: Abteilung | B4: ='Übersicht'!$B$4 | E4: Soll pro Tag | F4: ='Übersicht'!$B$5 -> 8 | G4: Std., Mo bis Fr
A6: Tag | B6: Datum | C6: Beginn | D6: Ende | E6: Pause (Min.) | F6: Arbeitszeit (Std.) | G6: Soll (Std.) | H6: Bemerkung
A7: =IF(ISNUMBER(B7),CHOOSE(WEEKDAY(B7),"So","Mo","Di","Mi","Do","Fr","Sa"),"") -> So | B7: =IF(MONTH($F$3+0)=MONTH($F$3),$F$3+0,"") -> 46327 | F7: =IF(AND(ISNUMBER(C7),ISNUMBER(D7)),MAX(0,(D7-C7+IF(D7<C7,1,0))*24-IF(ISNUMBER(E7),E7,0)/60),0) -> 0 | G7: =IF(ISNUMBER(B7),IF(WEEKDAY(B7,2)<=5,$F$4,0),0) -> 0
A8: =IF(ISNUMBER(B8),CHOOSE(WEEKDAY(B8),"So","Mo","Di","Mi","Do","Fr","Sa"),"") -> Mo | B8: =IF(MONTH($F$3+1)=MONTH($F$3),$F$3+1,"") -> 46328 | F8: =IF(AND(ISNUMBER(C8),ISNUMBER(D8)),MAX(0,(D8-C8+IF(D8<C8,1,0))*24-IF(ISNUMBER(E8),E8,0)/60),0) -> 0 | G8: =IF(ISNUMBER(B8),IF(WEEKDAY(B8,2)<=5,$F$4,0),0) -> 8
A9: =IF(ISNUMBER(B9),CHOOSE(WEEKDAY(B9),"So","Mo","Di","Mi","Do","Fr","Sa"),"") -> Di | B9: =IF(MONTH($F$3+2)=MONTH($F$3),$F$3+2,"") -> 46329 | F9: =IF(AND(ISNUMBER(C9),ISNUMBER(D9)),MAX(0,(D9-C9+IF(D9<C9,1,0))*24-IF(ISNUMBER(E9),E9,0)/60),0) -> 0 | G9: =IF(ISNUMBER(B9),IF(WEEKDAY(B9,2)<=5,$F$4,0),0) -> 8
A10: =IF(ISNUMBER(B10),CHOOSE(WEEKDAY(B10),"So","Mo","Di","Mi","Do","Fr","Sa"),"") -> Mi | B10: =IF(MONTH($F$3+3)=MONTH($F$3),$F$3+3,"") -> 46330 | F10: =IF(AND(ISNUMBER(C10),ISNUMBER(D10)),MAX(0,(D10-C10+IF(D10<C10,1,0))*24-IF(ISNUMBER(E10),E10,0)/60),0) -> 0 | G10: =IF(ISNUMBER(B10),IF(WEEKDAY(B10,2)<=5,$F$4,0),0) -> 8
A11: =IF(ISNUMBER(B11),CHOOSE(WEEKDAY(B11),"So","Mo","Di","Mi","Do","Fr","Sa"),"") -> Do | B11: =IF(MONTH($F$3+4)=MONTH($F$3),$F$3+4,"") -> 46331 | F11: =IF(AND(ISNUMBER(C11),ISNUMBER(D11)),MAX(0,(D11-C11+IF(D11<C11,1,0))*24-IF(ISNUMBER(E11),E11,0)/60),0) -> 0 | G11: =IF(ISNUMBER(B11),IF(WEEKDAY(B11,2)<=5,$F$4,0),0) -> 8
A12: =IF(ISNUMBER(B12),CHOOSE(WEEKDAY(B12),"So","Mo","Di","Mi","Do","Fr","Sa"),"") -> Fr | B12: =IF(MONTH($F$3+5)=MONTH($F$3),$F$3+5,"") -> 46332 | F12: =IF(AND(ISNUMBER(C12),ISNUMBER(D12)),MAX(0,(D12-C12+IF(D12<C12,1,0))*24-IF(ISNUMBER(E12),E12,0)/60),0) -> 0 | G12: =IF(ISNUMBER(B12),IF(WEEKDAY(B12,2)<=5,$F$4,0),0) -> 8
A13: =IF(ISNUMBER(B13),CHOOSE(WEEKDAY(B13),"So","Mo","Di","Mi","Do","Fr","Sa"),"") -> Sa | B13: =IF(MONTH($F$3+6)=MONTH($F$3),$F$3+6,"") -> 46333 | F13: =IF(AND(ISNUMBER(C13),ISNUMBER(D13)),MAX(0,(D13-C13+IF(D13<C13,1,0))*24-IF(ISNUMBER(E13),E13,0)/60),0) -> 0 | G13: =IF(ISNUMBER(B13),IF(WEEKDAY(B13,2)<=5,$F$4,0),0) -> 0
A14: =IF(ISNUMBER(B14),CHOOSE(WEEKDAY(B14),"So","Mo","Di","Mi","Do","Fr","Sa"),"") -> So | B14: =IF(MONTH($F$3+7)=MONTH($F$3),$F$3+7,"") -> 46334 | F14: =IF(AND(ISNUMBER(C14),ISNUMBER(D14)),MAX(0,(D14-C14+IF(D14<C14,1,0))*24-IF(ISNUMBER(E14),E14,0)/60),0) -> 0 | G14: =IF(ISNUMBER(B14),IF(WEEKDAY(B14,2)<=5,$F$4,0),0) -> 0
A15: =IF(ISNUMBER(B15),CHOOSE(WEEKDAY(B15),"So","Mo","Di","Mi","Do","Fr","Sa"),"") -> Mo | B15: =IF(MONTH($F$3+8)=MONTH($F$3),$F$3+8,"") -> 46335 | F15: =IF(AND(ISNUMBER(C15),ISNUMBER(D15)),MAX(0,(D15-C15+IF(D15<C15,1,0))*24-IF(ISNUMBER(E15),E15,0)/60),0) -> 0 | G15: =IF(ISNUMBER(B15),IF(WEEKDAY(B15,2)<=5,$F$4,0),0) -> 8
A16: =IF(ISNUMBER(B16),CHOOSE(WEEKDAY(B16),"So","Mo","Di","Mi","Do","Fr","Sa"),"") -> Di | B16: =IF(MONTH($F$3+9)=MONTH($F$3),$F$3+9,"") -> 46336 | F16: =IF(AND(ISNUMBER(C16),ISNUMBER(D16)),MAX(0,(D16-C16+IF(D16<C16,1,0))*24-IF(ISNUMBER(E16),E16,0)/60),0) -> 0 | G16: =IF(ISNUMBER(B16),IF(WEEKDAY(B16,2)<=5,$F$4,0),0) -> 8
A17: =IF(ISNUMBER(B17),CHOOSE(WEEKDAY(B17),"So","Mo","Di","Mi","Do","Fr","Sa"),"") -> Mi | B17: =IF(MONTH($F$3+10)=MONTH($F$3),$F$3+10,"") -> 46337 | F17: =IF(AND(ISNUMBER(C17),ISNUMBER(D17)),MAX(0,(D17-C17+IF(D17<C17,1,0))*24-IF(ISNUMBER(E17),E17,0)/60),0) -> 0 | G17: =IF(ISNUMBER(B17),IF(WEEKDAY(B17,2)<=5,$F$4,0),0) -> 8
A18: =IF(ISNUMBER(B18),CHOOSE(WEEKDAY(B18),"So","Mo","Di","Mi","Do","Fr","Sa"),"") -> Do | B18: =IF(MONTH($F$3+11)=MONTH($F$3),$F$3+11,"") -> 46338 | F18: =IF(AND(ISNUMBER(C18),ISNUMBER(D18)),MAX(0,(D18-C18+IF(D18<C18,1,0))*24-IF(ISNUMBER(E18),E18,0)/60),0) -> 0 | G18: =IF(ISNUMBER(B18),IF(WEEKDAY(B18,2)<=5,$F$4,0),0) -> 8
A19: =IF(ISNUMBER(B19),CHOOSE(WEEKDAY(B19),"So","Mo","Di","Mi","Do","Fr","Sa"),"") -> Fr | B19: =IF(MONTH($F$3+12)=MONTH($F$3),$F$3+12,"") -> 46339 | F19: =IF(AND(ISNUMBER(C19),ISNUMBER(D19)),MAX(0,(D19-C19+IF(D19<C19,1,0))*24-IF(ISNUMBER(E19),E19,0)/60),0) -> 0 | G19: =IF(ISNUMBER(B19),IF(WEEKDAY(B19,2)<=5,$F$4,0),0) -> 8
A20: =IF(ISNUMBER(B20),CHOOSE(WEEKDAY(B20),"So","Mo","Di","Mi","Do","Fr","Sa"),"") -> Sa | B20: =IF(MONTH($F$3+13)=MONTH($F$3),$F$3+13,"") -> 46340 | F20: =IF(AND(ISNUMBER(C20),ISNUMBER(D20)),MAX(0,(D20-C20+IF(D20<C20,1,0))*24-IF(ISNUMBER(E20),E20,0)/60),0) -> 0 | G20: =IF(ISNUMBER(B20),IF(WEEKDAY(B20,2)<=5,$F$4,0),0) -> 0
A21: =IF(ISNUMBER(B21),CHOOSE(WEEKDAY(B21),"So","Mo","Di","Mi","Do","Fr","Sa"),"") -> So | B21: =IF(MONTH($F$3+14)=MONTH($F$3),$F$3+14,"") -> 46341 | F21: =IF(AND(ISNUMBER(C21),ISNUMBER(D21)),MAX(0,(D21-C21+IF(D21<C21,1,0))*24-IF(ISNUMBER(E21),E21,0)/60),0) -> 0 | G21: =IF(ISNUMBER(B21),IF(WEEKDAY(B21,2)<=5,$F$4,0),0) -> 0
A22: =IF(ISNUMBER(B22),CHOOSE(WEEKDAY(B22),"So","Mo","Di","Mi","Do","Fr","Sa"),"") -> Mo | B22: =IF(MONTH($F$3+15)=MONTH($F$3),$F$3+15,"") -> 46342 | F22: =IF(AND(ISNUMBER(C22),ISNUMBER(D22)),MAX(0,(D22-C22+IF(D22<C22,1,0))*24-IF(ISNUMBER(E22),E22,0)/60),0) -> 0 | G22: =IF(ISNUMBER(B22),IF(WEEKDAY(B22,2)<=5,$F$4,0),0) -> 8
A23: =IF(ISNUMBER(B23),CHOOSE(WEEKDAY(B23),"So","Mo","Di","Mi","Do","Fr","Sa"),"") -> Di | B23: =IF(MONTH($F$3+16)=MONTH($F$3),$F$3+16,"") -> 46343 | F23: =IF(AND(ISNUMBER(C23),ISNUMBER(D23)),MAX(0,(D23-C23+IF(D23<C23,1,0))*24-IF(ISNUMBER(E23),E23,0)/60),0) -> 0 | G23: =IF(ISNUMBER(B23),IF(WEEKDAY(B23,2)<=5,$F$4,0),0) -> 8
A24: =IF(ISNUMBER(B24),CHOOSE(WEEKDAY(B24),"So","Mo","Di","Mi","Do","Fr","Sa"),"") -> Mi | B24: =IF(MONTH($F$3+17)=MONTH($F$3),$F$3+17,"") -> 46344 | F24: =IF(AND(ISNUMBER(C24),ISNUMBER(D24)),MAX(0,(D24-C24+IF(D24<C24,1,0))*24-IF(ISNUMBER(E24),E24,0)/60),0) -> 0 | G24: =IF(ISNUMBER(B24),IF(WEEKDAY(B24,2)<=5,$F$4,0),0) -> 8
A25: =IF(ISNUMBER(B25),CHOOSE(WEEKDAY(B25),"So","Mo","Di","Mi","Do","Fr","Sa"),"") -> Do | B25: =IF(MONTH($F$3+18)=MONTH($F$3),$F$3+18,"") -> 46345 | F25: =IF(AND(ISNUMBER(C25),ISNUMBER(D25)),MAX(0,(D25-C25+IF(D25<C25,1,0))*24-IF(ISNUMBER(E25),E25,0)/60),0) -> 0 | G25: =IF(ISNUMBER(B25),IF(WEEKDAY(B25,2)<=5,$F$4,0),0) -> 8
A26: =IF(ISNUMBER(B26),CHOOSE(WEEKDAY(B26),"So","Mo","Di","Mi","Do","Fr","Sa"),"") -> Fr | B26: =IF(MONTH($F$3+19)=MONTH($F$3),$F$3+19,"") -> 46346 | F26: =IF(AND(ISNUMBER(C26),ISNUMBER(D26)),MAX(0,(D26-C26+IF(D26<C26,1,0))*24-IF(ISNUMBER(E26),E26,0)/60),0) -> 0 | G26: =IF(ISNUMBER(B26),IF(WEEKDAY(B26,2)<=5,$F$4,0),0) -> 8
A27: =IF(ISNUMBER(B27),CHOOSE(WEEKDAY(B27),"So","Mo","Di","Mi","Do","Fr","Sa"),"") -> Sa | B27: =IF(MONTH($F$3+20)=MONTH($F$3),$F$3+20,"") -> 46347 | F27: =IF(AND(ISNUMBER(C27),ISNUMBER(D27)),MAX(0,(D27-C27+IF(D27<C27,1,0))*24-IF(ISNUMBER(E27),E27,0)/60),0) -> 0 | G27: =IF(ISNUMBER(B27),IF(WEEKDAY(B27,2)<=5,$F$4,0),0) -> 0
A28: =IF(ISNUMBER(B28),CHOOSE(WEEKDAY(B28),"So","Mo","Di","Mi","Do","Fr","Sa"),"") -> So | B28: =IF(MONTH($F$3+21)=MONTH($F$3),$F$3+21,"") -> 46348 | F28: =IF(AND(ISNUMBER(C28),ISNUMBER(D28)),MAX(0,(D28-C28+IF(D28<C28,1,0))*24-IF(ISNUMBER(E28),E28,0)/60),0) -> 0 | G28: =IF(ISNUMBER(B28),IF(WEEKDAY(B28,2)<=5,$F$4,0),0) -> 0
A29: =IF(ISNUMBER(B29),CHOOSE(WEEKDAY(B29),"So","Mo","Di","Mi","Do","Fr","Sa"),"") -> Mo | B29: =IF(MONTH($F$3+22)=MONTH($F$3),$F$3+22,"") -> 46349 | F29: =IF(AND(ISNUMBER(C29),ISNUMBER(D29)),MAX(0,(D29-C29+IF(D29<C29,1,0))*24-IF(ISNUMBER(E29),E29,0)/60),0) -> 0 | G29: =IF(ISNUMBER(B29),IF(WEEKDAY(B29,2)<=5,$F$4,0),0) -> 8
A30: =IF(ISNUMBER(B30),CHOOSE(WEEKDAY(B30),"So","Mo","Di","Mi","Do","Fr","Sa"),"") -> Di | B30: =IF(MONTH($F$3+23)=MONTH($F$3),$F$3+23,"") -> 46350 | F30: =IF(AND(ISNUMBER(C30),ISNUMBER(D30)),MAX(0,(D30-C30+IF(D30<C30,1,0))*24-IF(ISNUMBER(E30),E30,0)/60),0) -> 0 | G30: =IF(ISNUMBER(B30),IF(WEEKDAY(B30,2)<=5,$F$4,0),0) -> 8
A31: =IF(ISNUMBER(B31),CHOOSE(WEEKDAY(B31),"So","Mo","Di","Mi","Do","Fr","Sa"),"") -> Mi | B31: =IF(MONTH($F$3+24)=MONTH($F$3),$F$3+24,"") -> 46351 | F31: =IF(AND(ISNUMBER(C31),ISNUMBER(D31)),MAX(0,(D31-C31+IF(D31<C31,1,0))*24-IF(ISNUMBER(E31),E31,0)/60),0) -> 0 | G31: =IF(ISNUMBER(B31),IF(WEEKDAY(B31,2)<=5,$F$4,0),0) -> 8
A32: =IF(ISNUMBER(B32),CHOOSE(WEEKDAY(B32),"So","Mo","Di","Mi","Do","Fr","Sa"),"") -> Do | B32: =IF(MONTH($F$3+25)=MONTH($F$3),$F$3+25,"") -> 46352 | F32: =IF(AND(ISNUMBER(C32),ISNUMBER(D32)),MAX(0,(D32-C32+IF(D32<C32,1,0))*24-IF(ISNUMBER(E32),E32,0)/60),0) -> 0 | G32: =IF(ISNUMBER(B32),IF(WEEKDAY(B32,2)<=5,$F$4,0),0) -> 8
A33: =IF(ISNUMBER(B33),CHOOSE(WEEKDAY(B33),"So","Mo","Di","Mi","Do","Fr","Sa"),"") -> Fr | B33: =IF(MONTH($F$3+26)=MONTH($F$3),$F$3+26,"") -> 46353 | F33: =IF(AND(ISNUMBER(C33),ISNUMBER(D33)),MAX(0,(D33-C33+IF(D33<C33,1,0))*24-IF(ISNUMBER(E33),E33,0)/60),0) -> 0 | G33: =IF(ISNUMBER(B33),IF(WEEKDAY(B33,2)<=5,$F$4,0),0) -> 8
A34: =IF(ISNUMBER(B34),CHOOSE(WEEKDAY(B34),"So","Mo","Di","Mi","Do","Fr","Sa"),"") -> Sa | B34: =IF(MONTH($F$3+27)=MONTH($F$3),$F$3+27,"") -> 46354 | F34: =IF(AND(ISNUMBER(C34),ISNUMBER(D34)),MAX(0,(D34-C34+IF(D34<C34,1,0))*24-IF(ISNUMBER(E34),E34,0)/60),0) -> 0 | G34: =IF(ISNUMBER(B34),IF(WEEKDAY(B34,2)<=5,$F$4,0),0) -> 0
A35: =IF(ISNUMBER(B35),CHOOSE(WEEKDAY(B35),"So","Mo","Di","Mi","Do","Fr","Sa"),"") -> So | B35: =IF(MONTH($F$3+28)=MONTH($F$3),$F$3+28,"") -> 46355 | F35: =IF(AND(ISNUMBER(C35),ISNUMBER(D35)),MAX(0,(D35-C35+IF(D35<C35,1,0))*24-IF(ISNUMBER(E35),E35,0)/60),0) -> 0 | G35: =IF(ISNUMBER(B35),IF(WEEKDAY(B35,2)<=5,$F$4,0),0) -> 0
A36: =IF(ISNUMBER(B36),CHOOSE(WEEKDAY(B36),"So","Mo","Di","Mi","Do","Fr","Sa"),"") -> Mo | B36: =IF(MONTH($F$3+29)=MONTH($F$3),$F$3+29,"") -> 46356 | F36: =IF(AND(ISNUMBER(C36),ISNUMBER(D36)),MAX(0,(D36-C36+IF(D36<C36,1,0))*24-IF(ISNUMBER(E36),E36,0)/60),0) -> 0 | G36: =IF(ISNUMBER(B36),IF(WEEKDAY(B36,2)<=5,$F$4,0),0) -> 8
A37: =IF(ISNUMBER(B37),CHOOSE(WEEKDAY(B37),"So","Mo","Di","Mi","Do","Fr","Sa"),"") | B37: =IF(MONTH($F$3+30)=MONTH($F$3),$F$3+30,"") | F37: =IF(AND(ISNUMBER(C37),ISNUMBER(D37)),MAX(0,(D37-C37+IF(D37<C37,1,0))*24-IF(ISNUMBER(E37),E37,0)/60),0) -> 0 | G37: =IF(ISNUMBER(B37),IF(WEEKDAY(B37,2)<=5,$F$4,0),0) -> 0
A39: Summe Arbeitszeit (Ist) | F39: =SUM(F7:F37) -> 0
A40: Summe Soll | F40: =SUM(G7:G37) -> 168
A41: Über- oder Minusstunden | F41: =F39-F40 -> -168
A42: Arbeitstage | F42: =COUNTIF(F7:F37,">0") -> 0
A45: Datum, Unterschrift Mitarbeiter/in | E45: Datum, Unterschrift Vorgesetzte/r
A47: Arbeitszeit ist Ende minus Beginn minus Pause, über Mitternacht wird richtig gerechnet. Die Summen dieses Blatts gehen in die Übersicht.

Sheet Dez
A1: Arbeitszeiterfassung Dezember 2026
A2: Name, Abteilung und Soll pro Tag stehen auf dem Blatt Übersicht. Beginn und Ende im Format 8:00, die Pause in Minuten. Bei Feiertag, Urlaub oder Krankheit das Soll der Zeile auf 0 setzen.
A3: Name | B3: ='Übersicht'!$B$3 | E3: Monat | F3: 46357
A4: Abteilung | B4: ='Übersicht'!$B$4 | E4: Soll pro Tag | F4: ='Übersicht'!$B$5 -> 8 | G4: Std., Mo bis Fr
A6: Tag | B6: Datum | C6: Beginn | D6: Ende | E6: Pause (Min.) | F6: Arbeitszeit (Std.) | G6: Soll (Std.) | H6: Bemerkung
A7: =IF(ISNUMBER(B7),CHOOSE(WEEKDAY(B7),"So","Mo","Di","Mi","Do","Fr","Sa"),"") -> Di | B7: =IF(MONTH($F$3+0)=MONTH($F$3),$F$3+0,"") -> 46357 | F7: =IF(AND(ISNUMBER(C7),ISNUMBER(D7)),MAX(0,(D7-C7+IF(D7<C7,1,0))*24-IF(ISNUMBER(E7),E7,0)/60),0) -> 0 | G7: =IF(ISNUMBER(B7),IF(WEEKDAY(B7,2)<=5,$F$4,0),0) -> 8
A8: =IF(ISNUMBER(B8),CHOOSE(WEEKDAY(B8),"So","Mo","Di","Mi","Do","Fr","Sa"),"") -> Mi | B8: =IF(MONTH($F$3+1)=MONTH($F$3),$F$3+1,"") -> 46358 | F8: =IF(AND(ISNUMBER(C8),ISNUMBER(D8)),MAX(0,(D8-C8+IF(D8<C8,1,0))*24-IF(ISNUMBER(E8),E8,0)/60),0) -> 0 | G8: =IF(ISNUMBER(B8),IF(WEEKDAY(B8,2)<=5,$F$4,0),0) -> 8
A9: =IF(ISNUMBER(B9),CHOOSE(WEEKDAY(B9),"So","Mo","Di","Mi","Do","Fr","Sa"),"") -> Do | B9: =IF(MONTH($F$3+2)=MONTH($F$3),$F$3+2,"") -> 46359 | F9: =IF(AND(ISNUMBER(C9),ISNUMBER(D9)),MAX(0,(D9-C9+IF(D9<C9,1,0))*24-IF(ISNUMBER(E9),E9,0)/60),0) -> 0 | G9: =IF(ISNUMBER(B9),IF(WEEKDAY(B9,2)<=5,$F$4,0),0) -> 8
A10: =IF(ISNUMBER(B10),CHOOSE(WEEKDAY(B10),"So","Mo","Di","Mi","Do","Fr","Sa"),"") -> Fr | B10: =IF(MONTH($F$3+3)=MONTH($F$3),$F$3+3,"") -> 46360 | F10: =IF(AND(ISNUMBER(C10),ISNUMBER(D10)),MAX(0,(D10-C10+IF(D10<C10,1,0))*24-IF(ISNUMBER(E10),E10,0)/60),0) -> 0 | G10: =IF(ISNUMBER(B10),IF(WEEKDAY(B10,2)<=5,$F$4,0),0) -> 8
A11: =IF(ISNUMBER(B11),CHOOSE(WEEKDAY(B11),"So","Mo","Di","Mi","Do","Fr","Sa"),"") -> Sa | B11: =IF(MONTH($F$3+4)=MONTH($F$3),$F$3+4,"") -> 46361 | F11: =IF(AND(ISNUMBER(C11),ISNUMBER(D11)),MAX(0,(D11-C11+IF(D11<C11,1,0))*24-IF(ISNUMBER(E11),E11,0)/60),0) -> 0 | G11: =IF(ISNUMBER(B11),IF(WEEKDAY(B11,2)<=5,$F$4,0),0) -> 0
A12: =IF(ISNUMBER(B12),CHOOSE(WEEKDAY(B12),"So","Mo","Di","Mi","Do","Fr","Sa"),"") -> So | B12: =IF(MONTH($F$3+5)=MONTH($F$3),$F$3+5,"") -> 46362 | F12: =IF(AND(ISNUMBER(C12),ISNUMBER(D12)),MAX(0,(D12-C12+IF(D12<C12,1,0))*24-IF(ISNUMBER(E12),E12,0)/60),0) -> 0 | G12: =IF(ISNUMBER(B12),IF(WEEKDAY(B12,2)<=5,$F$4,0),0) -> 0
A13: =IF(ISNUMBER(B13),CHOOSE(WEEKDAY(B13),"So","Mo","Di","Mi","Do","Fr","Sa"),"") -> Mo | B13: =IF(MONTH($F$3+6)=MONTH($F$3),$F$3+6,"") -> 46363 | F13: =IF(AND(ISNUMBER(C13),ISNUMBER(D13)),MAX(0,(D13-C13+IF(D13<C13,1,0))*24-IF(ISNUMBER(E13),E13,0)/60),0) -> 0 | G13: =IF(ISNUMBER(B13),IF(WEEKDAY(B13,2)<=5,$F$4,0),0) -> 8
A14: =IF(ISNUMBER(B14),CHOOSE(WEEKDAY(B14),"So","Mo","Di","Mi","Do","Fr","Sa"),"") -> Di | B14: =IF(MONTH($F$3+7)=MONTH($F$3),$F$3+7,"") -> 46364 | F14: =IF(AND(ISNUMBER(C14),ISNUMBER(D14)),MAX(0,(D14-C14+IF(D14<C14,1,0))*24-IF(ISNUMBER(E14),E14,0)/60),0) -> 0 | G14: =IF(ISNUMBER(B14),IF(WEEKDAY(B14,2)<=5,$F$4,0),0) -> 8
A15: =IF(ISNUMBER(B15),CHOOSE(WEEKDAY(B15),"So","Mo","Di","Mi","Do","Fr","Sa"),"") -> Mi | B15: =IF(MONTH($F$3+8)=MONTH($F$3),$F$3+8,"") -> 46365 | F15: =IF(AND(ISNUMBER(C15),ISNUMBER(D15)),MAX(0,(D15-C15+IF(D15<C15,1,0))*24-IF(ISNUMBER(E15),E15,0)/60),0) -> 0 | G15: =IF(ISNUMBER(B15),IF(WEEKDAY(B15,2)<=5,$F$4,0),0) -> 8
A16: =IF(ISNUMBER(B16),CHOOSE(WEEKDAY(B16),"So","Mo","Di","Mi","Do","Fr","Sa"),"") -> Do | B16: =IF(MONTH($F$3+9)=MONTH($F$3),$F$3+9,"") -> 46366 | F16: =IF(AND(ISNUMBER(C16),ISNUMBER(D16)),MAX(0,(D16-C16+IF(D16<C16,1,0))*24-IF(ISNUMBER(E16),E16,0)/60),0) -> 0 | G16: =IF(ISNUMBER(B16),IF(WEEKDAY(B16,2)<=5,$F$4,0),0) -> 8
A17: =IF(ISNUMBER(B17),CHOOSE(WEEKDAY(B17),"So","Mo","Di","Mi","Do","Fr","Sa"),"") -> Fr | B17: =IF(MONTH($F$3+10)=MONTH($F$3),$F$3+10,"") -> 46367 | F17: =IF(AND(ISNUMBER(C17),ISNUMBER(D17)),MAX(0,(D17-C17+IF(D17<C17,1,0))*24-IF(ISNUMBER(E17),E17,0)/60),0) -> 0 | G17: =IF(ISNUMBER(B17),IF(WEEKDAY(B17,2)<=5,$F$4,0),0) -> 8
A18: =IF(ISNUMBER(B18),CHOOSE(WEEKDAY(B18),"So","Mo","Di","Mi","Do","Fr","Sa"),"") -> Sa | B18: =IF(MONTH($F$3+11)=MONTH($F$3),$F$3+11,"") -> 46368 | F18: =IF(AND(ISNUMBER(C18),ISNUMBER(D18)),MAX(0,(D18-C18+IF(D18<C18,1,0))*24-IF(ISNUMBER(E18),E18,0)/60),0) -> 0 | G18: =IF(ISNUMBER(B18),IF(WEEKDAY(B18,2)<=5,$F$4,0),0) -> 0
A19: =IF(ISNUMBER(B19),CHOOSE(WEEKDAY(B19),"So","Mo","Di","Mi","Do","Fr","Sa"),"") -> So | B19: =IF(MONTH($F$3+12)=MONTH($F$3),$F$3+12,"") -> 46369 | F19: =IF(AND(ISNUMBER(C19),ISNUMBER(D19)),MAX(0,(D19-C19+IF(D19<C19,1,0))*24-IF(ISNUMBER(E19),E19,0)/60),0) -> 0 | G19: =IF(ISNUMBER(B19),IF(WEEKDAY(B19,2)<=5,$F$4,0),0) -> 0
A20: =IF(ISNUMBER(B20),CHOOSE(WEEKDAY(B20),"So","Mo","Di","Mi","Do","Fr","Sa"),"") -> Mo | B20: =IF(MONTH($F$3+13)=MONTH($F$3),$F$3+13,"") -> 46370 | F20: =IF(AND(ISNUMBER(C20),ISNUMBER(D20)),MAX(0,(D20-C20+IF(D20<C20,1,0))*24-IF(ISNUMBER(E20),E20,0)/60),0) -> 0 | G20: =IF(ISNUMBER(B20),IF(WEEKDAY(B20,2)<=5,$F$4,0),0) -> 8
A21: =IF(ISNUMBER(B21),CHOOSE(WEEKDAY(B21),"So","Mo","Di","Mi","Do","Fr","Sa"),"") -> Di | B21: =IF(MONTH($F$3+14)=MONTH($F$3),$F$3+14,"") -> 46371 | F21: =IF(AND(ISNUMBER(C21),ISNUMBER(D21)),MAX(0,(D21-C21+IF(D21<C21,1,0))*24-IF(ISNUMBER(E21),E21,0)/60),0) -> 0 | G21: =IF(ISNUMBER(B21),IF(WEEKDAY(B21,2)<=5,$F$4,0),0) -> 8
A22: =IF(ISNUMBER(B22),CHOOSE(WEEKDAY(B22),"So","Mo","Di","Mi","Do","Fr","Sa"),"") -> Mi | B22: =IF(MONTH($F$3+15)=MONTH($F$3),$F$3+15,"") -> 46372 | F22: =IF(AND(ISNUMBER(C22),ISNUMBER(D22)),MAX(0,(D22-C22+IF(D22<C22,1,0))*24-IF(ISNUMBER(E22),E22,0)/60),0) -> 0 | G22: =IF(ISNUMBER(B22),IF(WEEKDAY(B22,2)<=5,$F$4,0),0) -> 8
A23: =IF(ISNUMBER(B23),CHOOSE(WEEKDAY(B23),"So","Mo","Di","Mi","Do","Fr","Sa"),"") -> Do | B23: =IF(MONTH($F$3+16)=MONTH($F$3),$F$3+16,"") -> 46373 | F23: =IF(AND(ISNUMBER(C23),ISNUMBER(D23)),MAX(0,(D23-C23+IF(D23<C23,1,0))*24-IF(ISNUMBER(E23),E23,0)/60),0) -> 0 | G23: =IF(ISNUMBER(B23),IF(WEEKDAY(B23,2)<=5,$F$4,0),0) -> 8
A24: =IF(ISNUMBER(B24),CHOOSE(WEEKDAY(B24),"So","Mo","Di","Mi","Do","Fr","Sa"),"") -> Fr | B24: =IF(MONTH($F$3+17)=MONTH($F$3),$F$3+17,"") -> 46374 | F24: =IF(AND(ISNUMBER(C24),ISNUMBER(D24)),MAX(0,(D24-C24+IF(D24<C24,1,0))*24-IF(ISNUMBER(E24),E24,0)/60),0) -> 0 | G24: =IF(ISNUMBER(B24),IF(WEEKDAY(B24,2)<=5,$F$4,0),0) -> 8
A25: =IF(ISNUMBER(B25),CHOOSE(WEEKDAY(B25),"So","Mo","Di","Mi","Do","Fr","Sa"),"") -> Sa | B25: =IF(MONTH($F$3+18)=MONTH($F$3),$F$3+18,"") -> 46375 | F25: =IF(AND(ISNUMBER(C25),ISNUMBER(D25)),MAX(0,(D25-C25+IF(D25<C25,1,0))*24-IF(ISNUMBER(E25),E25,0)/60),0) -> 0 | G25: =IF(ISNUMBER(B25),IF(WEEKDAY(B25,2)<=5,$F$4,0),0) -> 0
A26: =IF(ISNUMBER(B26),CHOOSE(WEEKDAY(B26),"So","Mo","Di","Mi","Do","Fr","Sa"),"") -> So | B26: =IF(MONTH($F$3+19)=MONTH($F$3),$F$3+19,"") -> 46376 | F26: =IF(AND(ISNUMBER(C26),ISNUMBER(D26)),MAX(0,(D26-C26+IF(D26<C26,1,0))*24-IF(ISNUMBER(E26),E26,0)/60),0) -> 0 | G26: =IF(ISNUMBER(B26),IF(WEEKDAY(B26,2)<=5,$F$4,0),0) -> 0
A27: =IF(ISNUMBER(B27),CHOOSE(WEEKDAY(B27),"So","Mo","Di","Mi","Do","Fr","Sa"),"") -> Mo | B27: =IF(MONTH($F$3+20)=MONTH($F$3),$F$3+20,"") -> 46377 | F27: =IF(AND(ISNUMBER(C27),ISNUMBER(D27)),MAX(0,(D27-C27+IF(D27<C27,1,0))*24-IF(ISNUMBER(E27),E27,0)/60),0) -> 0 | G27: =IF(ISNUMBER(B27),IF(WEEKDAY(B27,2)<=5,$F$4,0),0) -> 8
A28: =IF(ISNUMBER(B28),CHOOSE(WEEKDAY(B28),"So","Mo","Di","Mi","Do","Fr","Sa"),"") -> Di | B28: =IF(MONTH($F$3+21)=MONTH($F$3),$F$3+21,"") -> 46378 | F28: =IF(AND(ISNUMBER(C28),ISNUMBER(D28)),MAX(0,(D28-C28+IF(D28<C28,1,0))*24-IF(ISNUMBER(E28),E28,0)/60),0) -> 0 | G28: =IF(ISNUMBER(B28),IF(WEEKDAY(B28,2)<=5,$F$4,0),0) -> 8
A29: =IF(ISNUMBER(B29),CHOOSE(WEEKDAY(B29),"So","Mo","Di","Mi","Do","Fr","Sa"),"") -> Mi | B29: =IF(MONTH($F$3+22)=MONTH($F$3),$F$3+22,"") -> 46379 | F29: =IF(AND(ISNUMBER(C29),ISNUMBER(D29)),MAX(0,(D29-C29+IF(D29<C29,1,0))*24-IF(ISNUMBER(E29),E29,0)/60),0) -> 0 | G29: =IF(ISNUMBER(B29),IF(WEEKDAY(B29,2)<=5,$F$4,0),0) -> 8
A30: =IF(ISNUMBER(B30),CHOOSE(WEEKDAY(B30),"So","Mo","Di","Mi","Do","Fr","Sa"),"") -> Do | B30: =IF(MONTH($F$3+23)=MONTH($F$3),$F$3+23,"") -> 46380 | F30: =IF(AND(ISNUMBER(C30),ISNUMBER(D30)),MAX(0,(D30-C30+IF(D30<C30,1,0))*24-IF(ISNUMBER(E30),E30,0)/60),0) -> 0 | G30: =IF(ISNUMBER(B30),IF(WEEKDAY(B30,2)<=5,$F$4,0),0) -> 8
A31: =IF(ISNUMBER(B31),CHOOSE(WEEKDAY(B31),"So","Mo","Di","Mi","Do","Fr","Sa"),"") -> Fr | B31: =IF(MONTH($F$3+24)=MONTH($F$3),$F$3+24,"") -> 46381 | F31: =IF(AND(ISNUMBER(C31),ISNUMBER(D31)),MAX(0,(D31-C31+IF(D31<C31,1,0))*24-IF(ISNUMBER(E31),E31,0)/60),0) -> 0 | G31: =IF(ISNUMBER(B31),IF(WEEKDAY(B31,2)<=5,$F$4,0),0) -> 8
A32: =IF(ISNUMBER(B32),CHOOSE(WEEKDAY(B32),"So","Mo","Di","Mi","Do","Fr","Sa"),"") -> Sa | B32: =IF(MONTH($F$3+25)=MONTH($F$3),$F$3+25,"") -> 46382 | F32: =IF(AND(ISNUMBER(C32),ISNUMBER(D32)),MAX(0,(D32-C32+IF(D32<C32,1,0))*24-IF(ISNUMBER(E32),E32,0)/60),0) -> 0 | G32: =IF(ISNUMBER(B32),IF(WEEKDAY(B32,2)<=5,$F$4,0),0) -> 0
A33: =IF(ISNUMBER(B33),CHOOSE(WEEKDAY(B33),"So","Mo","Di","Mi","Do","Fr","Sa"),"") -> So | B33: =IF(MONTH($F$3+26)=MONTH($F$3),$F$3+26,"") -> 46383 | F33: =IF(AND(ISNUMBER(C33),ISNUMBER(D33)),MAX(0,(D33-C33+IF(D33<C33,1,0))*24-IF(ISNUMBER(E33),E33,0)/60),0) -> 0 | G33: =IF(ISNUMBER(B33),IF(WEEKDAY(B33,2)<=5,$F$4,0),0) -> 0
A34: =IF(ISNUMBER(B34),CHOOSE(WEEKDAY(B34),"So","Mo","Di","Mi","Do","Fr","Sa"),"") -> Mo | B34: =IF(MONTH($F$3+27)=MONTH($F$3),$F$3+27,"") -> 46384 | F34: =IF(AND(ISNUMBER(C34),ISNUMBER(D34)),MAX(0,(D34-C34+IF(D34<C34,1,0))*24-IF(ISNUMBER(E34),E34,0)/60),0) -> 0 | G34: =IF(ISNUMBER(B34),IF(WEEKDAY(B34,2)<=5,$F$4,0),0) -> 8
A35: =IF(ISNUMBER(B35),CHOOSE(WEEKDAY(B35),"So","Mo","Di","Mi","Do","Fr","Sa"),"") -> Di | B35: =IF(MONTH($F$3+28)=MONTH($F$3),$F$3+28,"") -> 46385 | F35: =IF(AND(ISNUMBER(C35),ISNUMBER(D35)),MAX(0,(D35-C35+IF(D35<C35,1,0))*24-IF(ISNUMBER(E35),E35,0)/60),0) -> 0 | G35: =IF(ISNUMBER(B35),IF(WEEKDAY(B35,2)<=5,$F$4,0),0) -> 8
A36: =IF(ISNUMBER(B36),CHOOSE(WEEKDAY(B36),"So","Mo","Di","Mi","Do","Fr","Sa"),"") -> Mi | B36: =IF(MONTH($F$3+29)=MONTH($F$3),$F$3+29,"") -> 46386 | F36: =IF(AND(ISNUMBER(C36),ISNUMBER(D36)),MAX(0,(D36-C36+IF(D36<C36,1,0))*24-IF(ISNUMBER(E36),E36,0)/60),0) -> 0 | G36: =IF(ISNUMBER(B36),IF(WEEKDAY(B36,2)<=5,$F$4,0),0) -> 8
A37: =IF(ISNUMBER(B37),CHOOSE(WEEKDAY(B37),"So","Mo","Di","Mi","Do","Fr","Sa"),"") -> Do | B37: =IF(MONTH($F$3+30)=MONTH($F$3),$F$3+30,"") -> 46387 | F37: =IF(AND(ISNUMBER(C37),ISNUMBER(D37)),MAX(0,(D37-C37+IF(D37<C37,1,0))*24-IF(ISNUMBER(E37),E37,0)/60),0) -> 0 | G37: =IF(ISNUMBER(B37),IF(WEEKDAY(B37,2)<=5,$F$4,0),0) -> 8
A39: Summe Arbeitszeit (Ist) | F39: =SUM(F7:F37) -> 0
A40: Summe Soll | F40: =SUM(G7:G37) -> 184
A41: Über- oder Minusstunden | F41: =F39-F40 -> -184
A42: Arbeitstage | F42: =COUNTIF(F7:F37,">0") -> 0
A45: Datum, Unterschrift Mitarbeiter/in | E45: Datum, Unterschrift Vorgesetzte/r
A47: Arbeitszeit ist Ende minus Beginn minus Pause, über Mitternacht wird richtig gerechnet. Die Summen dieses Blatts gehen in die Übersicht.
