Workbook

Sheet Erfassung
A1: Arbeitszeiterfassung
A2: Eine Zeile je Person und Arbeitstag. Name aus der Liste wählen, Beginn und Ende als Uhrzeit, Pause in Minuten. Kürzel: U Urlaub, K krank, F Feiertag, dann ohne Uhrzeit. Stunden dezimal: 8,50 sind 8 Stunden 30 Minuten.
A4: Datum | B4: Tag | C4: Name | D4: Beginn | E4: Ende | F4: Pause (Min.) | G4: Stunden | H4: Kürzel | I4: Bemerkung
A5: 46328 | B5: =IF(ISNUMBER(A5),CHOOSE(WEEKDAY(A5),"So","Mo","Di","Mi","Do","Fr","Sa"),"") -> Mo | C5: Becker, Laura | D5: 0.33333333 | E5: 0.6875 | F5: 30 | G5: =IF(AND(ISNUMBER(D5),ISNUMBER(E5)),ROUND((E5-D5+IF(E5<D5,1,0))*24-IF(ISNUMBER(F5),F5,0)/60,2),"") -> 8
A6: 46328 | B6: =IF(ISNUMBER(A6),CHOOSE(WEEKDAY(A6),"So","Mo","Di","Mi","Do","Fr","Sa"),"") -> Mo | C6: Schulz, Tim | D6: 0.29166667 | E6: 0.64583333 | F6: 30 | G6: =IF(AND(ISNUMBER(D6),ISNUMBER(E6)),ROUND((E6-D6+IF(E6<D6,1,0))*24-IF(ISNUMBER(F6),F6,0)/60,2),"") -> 8
A7: 46328 | B7: =IF(ISNUMBER(A7),CHOOSE(WEEKDAY(A7),"So","Mo","Di","Mi","Do","Fr","Sa"),"") -> Mo | C7: Yilmaz, Elif | D7: 0.41666667 | E7: 0.6875 | F7: 30 | G7: =IF(AND(ISNUMBER(D7),ISNUMBER(E7)),ROUND((E7-D7+IF(E7<D7,1,0))*24-IF(ISNUMBER(F7),F7,0)/60,2),"") -> 6
A8: 46328 | B8: =IF(ISNUMBER(A8),CHOOSE(WEEKDAY(A8),"So","Mo","Di","Mi","Do","Fr","Sa"),"") -> Mo | C8: Wagner, Jonas | D8: 0.64583333 | E8: 0 | F8: 30 | G8: =IF(AND(ISNUMBER(D8),ISNUMBER(E8)),ROUND((E8-D8+IF(E8<D8,1,0))*24-IF(ISNUMBER(F8),F8,0)/60,2),"") -> 8
A9: 46329 | B9: =IF(ISNUMBER(A9),CHOOSE(WEEKDAY(A9),"So","Mo","Di","Mi","Do","Fr","Sa"),"") -> Di | C9: Becker, Laura | D9: 0.33333333 | E9: 0.6875 | F9: 30 | G9: =IF(AND(ISNUMBER(D9),ISNUMBER(E9)),ROUND((E9-D9+IF(E9<D9,1,0))*24-IF(ISNUMBER(F9),F9,0)/60,2),"") -> 8
A10: 46329 | B10: =IF(ISNUMBER(A10),CHOOSE(WEEKDAY(A10),"So","Mo","Di","Mi","Do","Fr","Sa"),"") -> Di | C10: Schulz, Tim | D10: 0.29166667 | E10: 0.64583333 | F10: 30 | G10: =IF(AND(ISNUMBER(D10),ISNUMBER(E10)),ROUND((E10-D10+IF(E10<D10,1,0))*24-IF(ISNUMBER(F10),F10,0)/60,2),"") -> 8
A11: 46329 | B11: =IF(ISNUMBER(A11),CHOOSE(WEEKDAY(A11),"So","Mo","Di","Mi","Do","Fr","Sa"),"") -> Di | C11: Yilmaz, Elif | D11: 0.41666667 | E11: 0.6875 | F11: 30 | G11: =IF(AND(ISNUMBER(D11),ISNUMBER(E11)),ROUND((E11-D11+IF(E11<D11,1,0))*24-IF(ISNUMBER(F11),F11,0)/60,2),"") -> 6
A12: 46329 | B12: =IF(ISNUMBER(A12),CHOOSE(WEEKDAY(A12),"So","Mo","Di","Mi","Do","Fr","Sa"),"") -> Di | C12: Wagner, Jonas | D12: 0.64583333 | E12: 0 | F12: 30 | G12: =IF(AND(ISNUMBER(D12),ISNUMBER(E12)),ROUND((E12-D12+IF(E12<D12,1,0))*24-IF(ISNUMBER(F12),F12,0)/60,2),"") -> 8
A13: 46330 | B13: =IF(ISNUMBER(A13),CHOOSE(WEEKDAY(A13),"So","Mo","Di","Mi","Do","Fr","Sa"),"") -> Mi | C13: Becker, Laura | D13: 0.33333333 | E13: 0.6875 | F13: 30 | G13: =IF(AND(ISNUMBER(D13),ISNUMBER(E13)),ROUND((E13-D13+IF(E13<D13,1,0))*24-IF(ISNUMBER(F13),F13,0)/60,2),"") -> 8
A14: 46330 | B14: =IF(ISNUMBER(A14),CHOOSE(WEEKDAY(A14),"So","Mo","Di","Mi","Do","Fr","Sa"),"") -> Mi | C14: Schulz, Tim | D14: 0.29166667 | E14: 0.64583333 | F14: 30 | G14: =IF(AND(ISNUMBER(D14),ISNUMBER(E14)),ROUND((E14-D14+IF(E14<D14,1,0))*24-IF(ISNUMBER(F14),F14,0)/60,2),"") -> 8
A15: 46330 | B15: =IF(ISNUMBER(A15),CHOOSE(WEEKDAY(A15),"So","Mo","Di","Mi","Do","Fr","Sa"),"") -> Mi | C15: Yilmaz, Elif | D15: 0.41666667 | E15: 0.6875 | F15: 30 | G15: =IF(AND(ISNUMBER(D15),ISNUMBER(E15)),ROUND((E15-D15+IF(E15<D15,1,0))*24-IF(ISNUMBER(F15),F15,0)/60,2),"") -> 6
A16: 46330 | B16: =IF(ISNUMBER(A16),CHOOSE(WEEKDAY(A16),"So","Mo","Di","Mi","Do","Fr","Sa"),"") -> Mi | C16: Wagner, Jonas | D16: 0.64583333 | E16: 0 | F16: 30 | G16: =IF(AND(ISNUMBER(D16),ISNUMBER(E16)),ROUND((E16-D16+IF(E16<D16,1,0))*24-IF(ISNUMBER(F16),F16,0)/60,2),"") -> 8
... A20: 46331 | B20: =IF(ISNUMBER(A20),CHOOSE(WEEKDAY(A20),"So","Mo","Di","Mi","Do","Fr","Sa"),"") -> Do | C20: Wagner, Jonas | D20: 0.64583333 | E20: 0 | F20: 30 | G20: =IF(AND(ISNUMBER(D20),ISNUMBER(E20)),ROUND((E20-D20+IF(E20<D20,1,0))*24-IF(ISNUMBER(F20),F20,0)/60,2),"") -> 8
A21: 46332 | B21: =IF(ISNUMBER(A21),CHOOSE(WEEKDAY(A21),"So","Mo","Di","Mi","Do","Fr","Sa"),"") -> Fr | C21: Becker, Laura | D21: 0.33333333 | E21: 0.75 | F21: 45 | G21: =IF(AND(ISNUMBER(D21),ISNUMBER(E21)),ROUND((E21-D21+IF(E21<D21,1,0))*24-IF(ISNUMBER(F21),F21,0)/60,2),"") -> 9.25 | I21: Inventur
A22: 46332 | B22: =IF(ISNUMBER(A22),CHOOSE(WEEKDAY(A22),"So","Mo","Di","Mi","Do","Fr","Sa"),"") -> Fr | C22: Schulz, Tim | D22: 0.29166667 | E22: 0.64583333 | F22: 30 | G22: =IF(AND(ISNUMBER(D22),ISNUMBER(E22)),ROUND((E22-D22+IF(E22<D22,1,0))*24-IF(ISNUMBER(F22),F22,0)/60,2),"") -> 8
A23: 46332 | B23: =IF(ISNUMBER(A23),CHOOSE(WEEKDAY(A23),"So","Mo","Di","Mi","Do","Fr","Sa"),"") -> Fr | C23: Yilmaz, Elif | D23: 0.41666667 | E23: 0.6875 | F23: 30 | G23: =IF(AND(ISNUMBER(D23),ISNUMBER(E23)),ROUND((E23-D23+IF(E23<D23,1,0))*24-IF(ISNUMBER(F23),F23,0)/60,2),"") -> 6
A24: 46332 | B24: =IF(ISNUMBER(A24),CHOOSE(WEEKDAY(A24),"So","Mo","Di","Mi","Do","Fr","Sa"),"") -> Fr | C24: Wagner, Jonas | D24: 0.64583333 | E24: 0 | F24: 30 | G24: =IF(AND(ISNUMBER(D24),ISNUMBER(E24)),ROUND((E24-D24+IF(E24<D24,1,0))*24-IF(ISNUMBER(F24),F24,0)/60,2),"") -> 8
A25: 46335 | B25: =IF(ISNUMBER(A25),CHOOSE(WEEKDAY(A25),"So","Mo","Di","Mi","Do","Fr","Sa"),"") -> Mo | C25: Becker, Laura | D25: 0.33333333 | E25: 0.6875 | F25: 30 | G25: =IF(AND(ISNUMBER(D25),ISNUMBER(E25)),ROUND((E25-D25+IF(E25<D25,1,0))*24-IF(ISNUMBER(F25),F25,0)/60,2),"") -> 8
A26: 46335 | B26: =IF(ISNUMBER(A26),CHOOSE(WEEKDAY(A26),"So","Mo","Di","Mi","Do","Fr","Sa"),"") -> Mo | C26: Schulz, Tim | D26: 0.29166667 | E26: 0.64583333 | F26: 30 | G26: =IF(AND(ISNUMBER(D26),ISNUMBER(E26)),ROUND((E26-D26+IF(E26<D26,1,0))*24-IF(ISNUMBER(F26),F26,0)/60,2),"") -> 8
A27: 46335 | B27: =IF(ISNUMBER(A27),CHOOSE(WEEKDAY(A27),"So","Mo","Di","Mi","Do","Fr","Sa"),"") -> Mo | C27: Yilmaz, Elif | D27: 0.41666667 | E27: 0.6875 | F27: 30 | G27: =IF(AND(ISNUMBER(D27),ISNUMBER(E27)),ROUND((E27-D27+IF(E27<D27,1,0))*24-IF(ISNUMBER(F27),F27,0)/60,2),"") -> 6
A28: 46335 | B28: =IF(ISNUMBER(A28),CHOOSE(WEEKDAY(A28),"So","Mo","Di","Mi","Do","Fr","Sa"),"") -> Mo | C28: Wagner, Jonas | D28: 0.64583333 | E28: 0 | F28: 30 | G28: =IF(AND(ISNUMBER(D28),ISNUMBER(E28)),ROUND((E28-D28+IF(E28<D28,1,0))*24-IF(ISNUMBER(F28),F28,0)/60,2),"") -> 8
A29: 46336 | B29: =IF(ISNUMBER(A29),CHOOSE(WEEKDAY(A29),"So","Mo","Di","Mi","Do","Fr","Sa"),"") -> Di | C29: Becker, Laura | D29: 0.33333333 | E29: 0.6875 | F29: 30 | G29: =IF(AND(ISNUMBER(D29),ISNUMBER(E29)),ROUND((E29-D29+IF(E29<D29,1,0))*24-IF(ISNUMBER(F29),F29,0)/60,2),"") -> 8
A30: 46336 | B30: =IF(ISNUMBER(A30),CHOOSE(WEEKDAY(A30),"So","Mo","Di","Mi","Do","Fr","Sa"),"") -> Di | C30: Schulz, Tim | D30: 0.29166667 | E30: 0.64583333 | F30: 30 | G30: =IF(AND(ISNUMBER(D30),ISNUMBER(E30)),ROUND((E30-D30+IF(E30<D30,1,0))*24-IF(ISNUMBER(F30),F30,0)/60,2),"") -> 8
A31: 46336 | B31: =IF(ISNUMBER(A31),CHOOSE(WEEKDAY(A31),"So","Mo","Di","Mi","Do","Fr","Sa"),"") -> Di | C31: Yilmaz, Elif | D31: 0.41666667 | E31: 0.6875 | F31: 30 | G31: =IF(AND(ISNUMBER(D31),ISNUMBER(E31)),ROUND((E31-D31+IF(E31<D31,1,0))*24-IF(ISNUMBER(F31),F31,0)/60,2),"") -> 6
A32: 46336 | B32: =IF(ISNUMBER(A32),CHOOSE(WEEKDAY(A32),"So","Mo","Di","Mi","Do","Fr","Sa"),"") -> Di | C32: Wagner, Jonas | D32: 0.64583333 | E32: 0 | F32: 30 | G32: =IF(AND(ISNUMBER(D32),ISNUMBER(E32)),ROUND((E32-D32+IF(E32<D32,1,0))*24-IF(ISNUMBER(F32),F32,0)/60,2),"") -> 8
A33: 46337 | B33: =IF(ISNUMBER(A33),CHOOSE(WEEKDAY(A33),"So","Mo","Di","Mi","Do","Fr","Sa"),"") -> Mi | C33: Becker, Laura | D33: 0.33333333 | E33: 0.6875 | F33: 30 | G33: =IF(AND(ISNUMBER(D33),ISNUMBER(E33)),ROUND((E33-D33+IF(E33<D33,1,0))*24-IF(ISNUMBER(F33),F33,0)/60,2),"") -> 8
... A43: 46339 | B43: =IF(ISNUMBER(A43),CHOOSE(WEEKDAY(A43),"So","Mo","Di","Mi","Do","Fr","Sa"),"") -> Fr | C43: Yilmaz, Elif | D43: 0.41666667 | E43: 0.6875 | F43: 30 | G43: =IF(AND(ISNUMBER(D43),ISNUMBER(E43)),ROUND((E43-D43+IF(E43<D43,1,0))*24-IF(ISNUMBER(F43),F43,0)/60,2),"") -> 6
A44: 46339 | B44: =IF(ISNUMBER(A44),CHOOSE(WEEKDAY(A44),"So","Mo","Di","Mi","Do","Fr","Sa"),"") -> Fr | C44: Wagner, Jonas | D44: 0.64583333 | E44: 0.0625 | F44: 30 | G44: =IF(AND(ISNUMBER(D44),ISNUMBER(E44)),ROUND((E44-D44+IF(E44<D44,1,0))*24-IF(ISNUMBER(F44),F44,0)/60,2),"") -> 9.5 | I44: Firmenfeier
A45: 46342 | B45: =IF(ISNUMBER(A45),CHOOSE(WEEKDAY(A45),"So","Mo","Di","Mi","Do","Fr","Sa"),"") -> Mo | C45: Becker, Laura | D45: 0.33333333 | E45: 0.6875 | F45: 30 | G45: =IF(AND(ISNUMBER(D45),ISNUMBER(E45)),ROUND((E45-D45+IF(E45<D45,1,0))*24-IF(ISNUMBER(F45),F45,0)/60,2),"") -> 8
A46: 46342 | B46: =IF(ISNUMBER(A46),CHOOSE(WEEKDAY(A46),"So","Mo","Di","Mi","Do","Fr","Sa"),"") -> Mo | C46: Schulz, Tim | G46: =IF(AND(ISNUMBER(D46),ISNUMBER(E46)),ROUND((E46-D46+IF(E46<D46,1,0))*24-IF(ISNUMBER(F46),F46,0)/60,2),"") | H46: U
A47: 46342 | B47: =IF(ISNUMBER(A47),CHOOSE(WEEKDAY(A47),"So","Mo","Di","Mi","Do","Fr","Sa"),"") -> Mo | C47: Yilmaz, Elif | D47: 0.41666667 | E47: 0.6875 | F47: 30 | G47: =IF(AND(ISNUMBER(D47),ISNUMBER(E47)),ROUND((E47-D47+IF(E47<D47,1,0))*24-IF(ISNUMBER(F47),F47,0)/60,2),"") -> 6
A48: 46342 | B48: =IF(ISNUMBER(A48),CHOOSE(WEEKDAY(A48),"So","Mo","Di","Mi","Do","Fr","Sa"),"") -> Mo | C48: Wagner, Jonas | D48: 0.64583333 | E48: 0 | F48: 30 | G48: =IF(AND(ISNUMBER(D48),ISNUMBER(E48)),ROUND((E48-D48+IF(E48<D48,1,0))*24-IF(ISNUMBER(F48),F48,0)/60,2),"") -> 8
A49: 46343 | B49: =IF(ISNUMBER(A49),CHOOSE(WEEKDAY(A49),"So","Mo","Di","Mi","Do","Fr","Sa"),"") -> Di | C49: Becker, Laura | D49: 0.33333333 | E49: 0.6875 | F49: 30 | G49: =IF(AND(ISNUMBER(D49),ISNUMBER(E49)),ROUND((E49-D49+IF(E49<D49,1,0))*24-IF(ISNUMBER(F49),F49,0)/60,2),"") -> 8
A50: 46343 | B50: =IF(ISNUMBER(A50),CHOOSE(WEEKDAY(A50),"So","Mo","Di","Mi","Do","Fr","Sa"),"") -> Di | C50: Schulz, Tim | G50: =IF(AND(ISNUMBER(D50),ISNUMBER(E50)),ROUND((E50-D50+IF(E50<D50,1,0))*24-IF(ISNUMBER(F50),F50,0)/60,2),"") | H50: U
A51: 46343 | B51: =IF(ISNUMBER(A51),CHOOSE(WEEKDAY(A51),"So","Mo","Di","Mi","Do","Fr","Sa"),"") -> Di | C51: Yilmaz, Elif | D51: 0.41666667 | E51: 0.6875 | F51: 30 | G51: =IF(AND(ISNUMBER(D51),ISNUMBER(E51)),ROUND((E51-D51+IF(E51<D51,1,0))*24-IF(ISNUMBER(F51),F51,0)/60,2),"") -> 6
A52: 46343 | B52: =IF(ISNUMBER(A52),CHOOSE(WEEKDAY(A52),"So","Mo","Di","Mi","Do","Fr","Sa"),"") -> Di | C52: Wagner, Jonas | D52: 0.64583333 | E52: 0 | F52: 30 | G52: =IF(AND(ISNUMBER(D52),ISNUMBER(E52)),ROUND((E52-D52+IF(E52<D52,1,0))*24-IF(ISNUMBER(F52),F52,0)/60,2),"") -> 8
A53: 46344 | B53: =IF(ISNUMBER(A53),CHOOSE(WEEKDAY(A53),"So","Mo","Di","Mi","Do","Fr","Sa"),"") -> Mi | C53: Becker, Laura | D53: 0.33333333 | E53: 0.6875 | F53: 30 | G53: =IF(AND(ISNUMBER(D53),ISNUMBER(E53)),ROUND((E53-D53+IF(E53<D53,1,0))*24-IF(ISNUMBER(F53),F53,0)/60,2),"") -> 8
A54: 46344 | B54: =IF(ISNUMBER(A54),CHOOSE(WEEKDAY(A54),"So","Mo","Di","Mi","Do","Fr","Sa"),"") -> Mi | C54: Schulz, Tim | G54: =IF(AND(ISNUMBER(D54),ISNUMBER(E54)),ROUND((E54-D54+IF(E54<D54,1,0))*24-IF(ISNUMBER(F54),F54,0)/60,2),"") | H54: U
A55: 46344 | B55: =IF(ISNUMBER(A55),CHOOSE(WEEKDAY(A55),"So","Mo","Di","Mi","Do","Fr","Sa"),"") -> Mi | C55: Yilmaz, Elif | D55: 0.41666667 | E55: 0.6875 | F55: 30 | G55: =IF(AND(ISNUMBER(D55),ISNUMBER(E55)),ROUND((E55-D55+IF(E55<D55,1,0))*24-IF(ISNUMBER(F55),F55,0)/60,2),"") -> 6
A56: 46344 | B56: =IF(ISNUMBER(A56),CHOOSE(WEEKDAY(A56),"So","Mo","Di","Mi","Do","Fr","Sa"),"") -> Mi | C56: Wagner, Jonas | D56: 0.64583333 | E56: 0 | F56: 30 | G56: =IF(AND(ISNUMBER(D56),ISNUMBER(E56)),ROUND((E56-D56+IF(E56<D56,1,0))*24-IF(ISNUMBER(F56),F56,0)/60,2),"") -> 8
A57: 46345 | B57: =IF(ISNUMBER(A57),CHOOSE(WEEKDAY(A57),"So","Mo","Di","Mi","Do","Fr","Sa"),"") -> Do | C57: Becker, Laura | D57: 0.33333333 | E57: 0.6875 | F57: 30 | G57: =IF(AND(ISNUMBER(D57),ISNUMBER(E57)),ROUND((E57-D57+IF(E57<D57,1,0))*24-IF(ISNUMBER(F57),F57,0)/60,2),"") -> 8
A58: 46345 | B58: =IF(ISNUMBER(A58),CHOOSE(WEEKDAY(A58),"So","Mo","Di","Mi","Do","Fr","Sa"),"") -> Do | C58: Schulz, Tim | G58: =IF(AND(ISNUMBER(D58),ISNUMBER(E58)),ROUND((E58-D58+IF(E58<D58,1,0))*24-IF(ISNUMBER(F58),F58,0)/60,2),"") | H58: U
A59: 46345 | B59: =IF(ISNUMBER(A59),CHOOSE(WEEKDAY(A59),"So","Mo","Di","Mi","Do","Fr","Sa"),"") -> Do | C59: Yilmaz, Elif | D59: 0.41666667 | E59: 0.6875 | F59: 30 | G59: =IF(AND(ISNUMBER(D59),ISNUMBER(E59)),ROUND((E59-D59+IF(E59<D59,1,0))*24-IF(ISNUMBER(F59),F59,0)/60,2),"") -> 6
A60: 46345 | B60: =IF(ISNUMBER(A60),CHOOSE(WEEKDAY(A60),"So","Mo","Di","Mi","Do","Fr","Sa"),"") -> Do | C60: Wagner, Jonas | D60: 0.64583333 | E60: 0 | F60: 30 | G60: =IF(AND(ISNUMBER(D60),ISNUMBER(E60)),ROUND((E60-D60+IF(E60<D60,1,0))*24-IF(ISNUMBER(F60),F60,0)/60,2),"") -> 8
A61: 46346 | B61: =IF(ISNUMBER(A61),CHOOSE(WEEKDAY(A61),"So","Mo","Di","Mi","Do","Fr","Sa"),"") -> Fr | C61: Becker, Laura | D61: 0.33333333 | E61: 0.6875 | F61: 30 | G61: =IF(AND(ISNUMBER(D61),ISNUMBER(E61)),ROUND((E61-D61+IF(E61<D61,1,0))*24-IF(ISNUMBER(F61),F61,0)/60,2),"") -> 8
A62: 46346 | B62: =IF(ISNUMBER(A62),CHOOSE(WEEKDAY(A62),"So","Mo","Di","Mi","Do","Fr","Sa"),"") -> Fr | C62: Schulz, Tim | G62: =IF(AND(ISNUMBER(D62),ISNUMBER(E62)),ROUND((E62-D62+IF(E62<D62,1,0))*24-IF(ISNUMBER(F62),F62,0)/60,2),"") | H62: U
A63: 46346 | B63: =IF(ISNUMBER(A63),CHOOSE(WEEKDAY(A63),"So","Mo","Di","Mi","Do","Fr","Sa"),"") -> Fr | C63: Yilmaz, Elif | D63: 0.41666667 | E63: 0.6875 | F63: 30 | G63: =IF(AND(ISNUMBER(D63),ISNUMBER(E63)),ROUND((E63-D63+IF(E63<D63,1,0))*24-IF(ISNUMBER(F63),F63,0)/60,2),"") -> 6
A64: 46346 | B64: =IF(ISNUMBER(A64),CHOOSE(WEEKDAY(A64),"So","Mo","Di","Mi","Do","Fr","Sa"),"") -> Fr | C64: Wagner, Jonas | D64: 0.64583333 | E64: 0 | F64: 30 | G64: =IF(AND(ISNUMBER(D64),ISNUMBER(E64)),ROUND((E64-D64+IF(E64<D64,1,0))*24-IF(ISNUMBER(F64),F64,0)/60,2),"") -> 8
A65: 46349 | B65: =IF(ISNUMBER(A65),CHOOSE(WEEKDAY(A65),"So","Mo","Di","Mi","Do","Fr","Sa"),"") -> Mo | C65: Becker, Laura | D65: 0.33333333 | E65: 0.6875 | F65: 30 | G65: =IF(AND(ISNUMBER(D65),ISNUMBER(E65)),ROUND((E65-D65+IF(E65<D65,1,0))*24-IF(ISNUMBER(F65),F65,0)/60,2),"") -> 8
A66: 46349 | B66: =IF(ISNUMBER(A66),CHOOSE(WEEKDAY(A66),"So","Mo","Di","Mi","Do","Fr","Sa"),"") -> Mo | C66: Schulz, Tim | D66: 0.29166667 | E66: 0.64583333 | F66: 30 | G66: =IF(AND(ISNUMBER(D66),ISNUMBER(E66)),ROUND((E66-D66+IF(E66<D66,1,0))*24-IF(ISNUMBER(F66),F66,0)/60,2),"") -> 8
A67: 46349 | B67: =IF(ISNUMBER(A67),CHOOSE(WEEKDAY(A67),"So","Mo","Di","Mi","Do","Fr","Sa"),"") -> Mo | C67: Yilmaz, Elif | D67: 0.41666667 | E67: 0.6875 | F67: 30 | G67: =IF(AND(ISNUMBER(D67),ISNUMBER(E67)),ROUND((E67-D67+IF(E67<D67,1,0))*24-IF(ISNUMBER(F67),F67,0)/60,2),"") -> 6
A68: 46349 | B68: =IF(ISNUMBER(A68),CHOOSE(WEEKDAY(A68),"So","Mo","Di","Mi","Do","Fr","Sa"),"") -> Mo | C68: Wagner, Jonas | D68: 0.64583333 | E68: 0 | F68: 30 | G68: =IF(AND(ISNUMBER(D68),ISNUMBER(E68)),ROUND((E68-D68+IF(E68<D68,1,0))*24-IF(ISNUMBER(F68),F68,0)/60,2),"") -> 8
A69: 46350 | B69: =IF(ISNUMBER(A69),CHOOSE(WEEKDAY(A69),"So","Mo","Di","Mi","Do","Fr","Sa"),"") -> Di | C69: Becker, Laura | D69: 0.33333333 | E69: 0.6875 | F69: 30 | G69: =IF(AND(ISNUMBER(D69),ISNUMBER(E69)),ROUND((E69-D69+IF(E69<D69,1,0))*24-IF(ISNUMBER(F69),F69,0)/60,2),"") -> 8
A70: 46350 | B70: =IF(ISNUMBER(A70),CHOOSE(WEEKDAY(A70),"So","Mo","Di","Mi","Do","Fr","Sa"),"") -> Di | C70: Schulz, Tim | D70: 0.29166667 | E70: 0.64583333 | F70: 30 | G70: =IF(AND(ISNUMBER(D70),ISNUMBER(E70)),ROUND((E70-D70+IF(E70<D70,1,0))*24-IF(ISNUMBER(F70),F70,0)/60,2),"") -> 8
A71: 46350 | B71: =IF(ISNUMBER(A71),CHOOSE(WEEKDAY(A71),"So","Mo","Di","Mi","Do","Fr","Sa"),"") -> Di | C71: Yilmaz, Elif | G71: =IF(AND(ISNUMBER(D71),ISNUMBER(E71)),ROUND((E71-D71+IF(E71<D71,1,0))*24-IF(ISNUMBER(F71),F71,0)/60,2),"") | H71: K
A72: 46350 | B72: =IF(ISNUMBER(A72),CHOOSE(WEEKDAY(A72),"So","Mo","Di","Mi","Do","Fr","Sa"),"") -> Di | C72: Wagner, Jonas | D72: 0.64583333 | E72: 0 | F72: 30 | G72: =IF(AND(ISNUMBER(D72),ISNUMBER(E72)),ROUND((E72-D72+IF(E72<D72,1,0))*24-IF(ISNUMBER(F72),F72,0)/60,2),"") -> 8
A73: 46351 | B73: =IF(ISNUMBER(A73),CHOOSE(WEEKDAY(A73),"So","Mo","Di","Mi","Do","Fr","Sa"),"") -> Mi | C73: Becker, Laura | D73: 0.33333333 | E73: 0.6875 | F73: 30 | G73: =IF(AND(ISNUMBER(D73),ISNUMBER(E73)),ROUND((E73-D73+IF(E73<D73,1,0))*24-IF(ISNUMBER(F73),F73,0)/60,2),"") -> 8
A74: 46351 | B74: =IF(ISNUMBER(A74),CHOOSE(WEEKDAY(A74),"So","Mo","Di","Mi","Do","Fr","Sa"),"") -> Mi | C74: Schulz, Tim | D74: 0.29166667 | E74: 0.64583333 | F74: 30 | G74: =IF(AND(ISNUMBER(D74),ISNUMBER(E74)),ROUND((E74-D74+IF(E74<D74,1,0))*24-IF(ISNUMBER(F74),F74,0)/60,2),"") -> 8
A75: 46351 | B75: =IF(ISNUMBER(A75),CHOOSE(WEEKDAY(A75),"So","Mo","Di","Mi","Do","Fr","Sa"),"") -> Mi | C75: Yilmaz, Elif | D75: 0.41666667 | E75: 0.6875 | F75: 30 | G75: =IF(AND(ISNUMBER(D75),ISNUMBER(E75)),ROUND((E75-D75+IF(E75<D75,1,0))*24-IF(ISNUMBER(F75),F75,0)/60,2),"") -> 6
A76: 46351 | B76: =IF(ISNUMBER(A76),CHOOSE(WEEKDAY(A76),"So","Mo","Di","Mi","Do","Fr","Sa"),"") -> Mi | C76: Wagner, Jonas | D76: 0.64583333 | E76: 0 | F76: 30 | G76: =IF(AND(ISNUMBER(D76),ISNUMBER(E76)),ROUND((E76-D76+IF(E76<D76,1,0))*24-IF(ISNUMBER(F76),F76,0)/60,2),"") -> 8
A77: 46352 | B77: =IF(ISNUMBER(A77),CHOOSE(WEEKDAY(A77),"So","Mo","Di","Mi","Do","Fr","Sa"),"") -> Do | C77: Becker, Laura | D77: 0.33333333 | E77: 0.6875 | F77: 30 | G77: =IF(AND(ISNUMBER(D77),ISNUMBER(E77)),ROUND((E77-D77+IF(E77<D77,1,0))*24-IF(ISNUMBER(F77),F77,0)/60,2),"") -> 8
A78: 46352 | B78: =IF(ISNUMBER(A78),CHOOSE(WEEKDAY(A78),"So","Mo","Di","Mi","Do","Fr","Sa"),"") -> Do | C78: Schulz, Tim | D78: 0.29166667 | E78: 0.64583333 | F78: 30 | G78: =IF(AND(ISNUMBER(D78),ISNUMBER(E78)),ROUND((E78-D78+IF(E78<D78,1,0))*24-IF(ISNUMBER(F78),F78,0)/60,2),"") -> 8
A79: 46352 | B79: =IF(ISNUMBER(A79),CHOOSE(WEEKDAY(A79),"So","Mo","Di","Mi","Do","Fr","Sa"),"") -> Do | C79: Yilmaz, Elif | D79: 0.41666667 | E79: 0.6875 | F79: 30 | G79: =IF(AND(ISNUMBER(D79),ISNUMBER(E79)),ROUND((E79-D79+IF(E79<D79,1,0))*24-IF(ISNUMBER(F79),F79,0)/60,2),"") -> 6
A80: 46352 | B80: =IF(ISNUMBER(A80),CHOOSE(WEEKDAY(A80),"So","Mo","Di","Mi","Do","Fr","Sa"),"") -> Do | C80: Wagner, Jonas | D80: 0.64583333 | E80: 0 | F80: 30 | G80: =IF(AND(ISNUMBER(D80),ISNUMBER(E80)),ROUND((E80-D80+IF(E80<D80,1,0))*24-IF(ISNUMBER(F80),F80,0)/60,2),"") -> 8
A81: 46353 | B81: =IF(ISNUMBER(A81),CHOOSE(WEEKDAY(A81),"So","Mo","Di","Mi","Do","Fr","Sa"),"") -> Fr | C81: Becker, Laura | D81: 0.33333333 | E81: 0.75 | F81: 45 | G81: =IF(AND(ISNUMBER(D81),ISNUMBER(E81)),ROUND((E81-D81+IF(E81<D81,1,0))*24-IF(ISNUMBER(F81),F81,0)/60,2),"") -> 9.25 | I81: Inventur
A82: 46353 | B82: =IF(ISNUMBER(A82),CHOOSE(WEEKDAY(A82),"So","Mo","Di","Mi","Do","Fr","Sa"),"") -> Fr | C82: Schulz, Tim | D82: 0.29166667 | E82: 0.64583333 | F82: 30 | G82: =IF(AND(ISNUMBER(D82),ISNUMBER(E82)),ROUND((E82-D82+IF(E82<D82,1,0))*24-IF(ISNUMBER(F82),F82,0)/60,2),"") -> 8
A83: 46353 | B83: =IF(ISNUMBER(A83),CHOOSE(WEEKDAY(A83),"So","Mo","Di","Mi","Do","Fr","Sa"),"") -> Fr | C83: Yilmaz, Elif | D83: 0.41666667 | E83: 0.6875 | F83: 30 | G83: =IF(AND(ISNUMBER(D83),ISNUMBER(E83)),ROUND((E83-D83+IF(E83<D83,1,0))*24-IF(ISNUMBER(F83),F83,0)/60,2),"") -> 6
A84: 46353 | B84: =IF(ISNUMBER(A84),CHOOSE(WEEKDAY(A84),"So","Mo","Di","Mi","Do","Fr","Sa"),"") -> Fr | C84: Wagner, Jonas | D84: 0.64583333 | E84: 0 | F84: 30 | G84: =IF(AND(ISNUMBER(D84),ISNUMBER(E84)),ROUND((E84-D84+IF(E84<D84,1,0))*24-IF(ISNUMBER(F84),F84,0)/60,2),"") -> 8
A85: 46356 | B85: =IF(ISNUMBER(A85),CHOOSE(WEEKDAY(A85),"So","Mo","Di","Mi","Do","Fr","Sa"),"") -> Mo | C85: Becker, Laura | D85: 0.33333333 | E85: 0.6875 | F85: 30 | G85: =IF(AND(ISNUMBER(D85),ISNUMBER(E85)),ROUND((E85-D85+IF(E85<D85,1,0))*24-IF(ISNUMBER(F85),F85,0)/60,2),"") -> 8
A86: 46356 | B86: =IF(ISNUMBER(A86),CHOOSE(WEEKDAY(A86),"So","Mo","Di","Mi","Do","Fr","Sa"),"") -> Mo | C86: Schulz, Tim | D86: 0.29166667 | E86: 0.64583333 | F86: 30 | G86: =IF(AND(ISNUMBER(D86),ISNUMBER(E86)),ROUND((E86-D86+IF(E86<D86,1,0))*24-IF(ISNUMBER(F86),F86,0)/60,2),"") -> 8
A87: 46356 | B87: =IF(ISNUMBER(A87),CHOOSE(WEEKDAY(A87),"So","Mo","Di","Mi","Do","Fr","Sa"),"") -> Mo | C87: Yilmaz, Elif | D87: 0.41666667 | E87: 0.6875 | F87: 30 | G87: =IF(AND(ISNUMBER(D87),ISNUMBER(E87)),ROUND((E87-D87+IF(E87<D87,1,0))*24-IF(ISNUMBER(F87),F87,0)/60,2),"") -> 6
A88: 46356 | B88: =IF(ISNUMBER(A88),CHOOSE(WEEKDAY(A88),"So","Mo","Di","Mi","Do","Fr","Sa"),"") -> Mo | C88: Wagner, Jonas | D88: 0.64583333 | E88: 0 | F88: 30 | G88: =IF(AND(ISNUMBER(D88),ISNUMBER(E88)),ROUND((E88-D88+IF(E88<D88,1,0))*24-IF(ISNUMBER(F88),F88,0)/60,2),"") -> 8
B89: =IF(ISNUMBER(A89),CHOOSE(WEEKDAY(A89),"So","Mo","Di","Mi","Do","Fr","Sa"),"") | G89: =IF(AND(ISNUMBER(D89),ISNUMBER(E89)),ROUND((E89-D89+IF(E89<D89,1,0))*24-IF(ISNUMBER(F89),F89,0)/60,2),"")
B90: =IF(ISNUMBER(A90),CHOOSE(WEEKDAY(A90),"So","Mo","Di","Mi","Do","Fr","Sa"),"") | G90: =IF(AND(ISNUMBER(D90),ISNUMBER(E90)),ROUND((E90-D90+IF(E90<D90,1,0))*24-IF(ISNUMBER(F90),F90,0)/60,2),"")
B91: =IF(ISNUMBER(A91),CHOOSE(WEEKDAY(A91),"So","Mo","Di","Mi","Do","Fr","Sa"),"") | G91: =IF(AND(ISNUMBER(D91),ISNUMBER(E91)),ROUND((E91-D91+IF(E91<D91,1,0))*24-IF(ISNUMBER(F91),F91,0)/60,2),"")
B92: =IF(ISNUMBER(A92),CHOOSE(WEEKDAY(A92),"So","Mo","Di","Mi","Do","Fr","Sa"),"") | G92: =IF(AND(ISNUMBER(D92),ISNUMBER(E92)),ROUND((E92-D92+IF(E92<D92,1,0))*24-IF(ISNUMBER(F92),F92,0)/60,2),"")
B93: =IF(ISNUMBER(A93),CHOOSE(WEEKDAY(A93),"So","Mo","Di","Mi","Do","Fr","Sa"),"") | G93: =IF(AND(ISNUMBER(D93),ISNUMBER(E93)),ROUND((E93-D93+IF(E93<D93,1,0))*24-IF(ISNUMBER(F93),F93,0)/60,2),"")
B94: =IF(ISNUMBER(A94),CHOOSE(WEEKDAY(A94),"So","Mo","Di","Mi","Do","Fr","Sa"),"") | G94: =IF(AND(ISNUMBER(D94),ISNUMBER(E94)),ROUND((E94-D94+IF(E94<D94,1,0))*24-IF(ISNUMBER(F94),F94,0)/60,2),"")
B95: =IF(ISNUMBER(A95),CHOOSE(WEEKDAY(A95),"So","Mo","Di","Mi","Do","Fr","Sa"),"") | G95: =IF(AND(ISNUMBER(D95),ISNUMBER(E95)),ROUND((E95-D95+IF(E95<D95,1,0))*24-IF(ISNUMBER(F95),F95,0)/60,2),"")
B96: =IF(ISNUMBER(A96),CHOOSE(WEEKDAY(A96),"So","Mo","Di","Mi","Do","Fr","Sa"),"") | G96: =IF(AND(ISNUMBER(D96),ISNUMBER(E96)),ROUND((E96-D96+IF(E96<D96,1,0))*24-IF(ISNUMBER(F96),F96,0)/60,2),"")
B97: =IF(ISNUMBER(A97),CHOOSE(WEEKDAY(A97),"So","Mo","Di","Mi","Do","Fr","Sa"),"") | G97: =IF(AND(ISNUMBER(D97),ISNUMBER(E97)),ROUND((E97-D97+IF(E97<D97,1,0))*24-IF(ISNUMBER(F97),F97,0)/60,2),"")
B98: =IF(ISNUMBER(A98),CHOOSE(WEEKDAY(A98),"So","Mo","Di","Mi","Do","Fr","Sa"),"") | G98: =IF(AND(ISNUMBER(D98),ISNUMBER(E98)),ROUND((E98-D98+IF(E98<D98,1,0))*24-IF(ISNUMBER(F98),F98,0)/60,2),"")
B99: =IF(ISNUMBER(A99),CHOOSE(WEEKDAY(A99),"So","Mo","Di","Mi","Do","Fr","Sa"),"") | G99: =IF(AND(ISNUMBER(D99),ISNUMBER(E99)),ROUND((E99-D99+IF(E99<D99,1,0))*24-IF(ISNUMBER(F99),F99,0)/60,2),"")
B100: =IF(ISNUMBER(A100),CHOOSE(WEEKDAY(A100),"So","Mo","Di","Mi","Do","Fr","Sa"),"") | G100: =IF(AND(ISNUMBER(D100),ISNUMBER(E100)),ROUND((E100-D100+IF(E100<D100,1,0))*24-IF(ISNUMBER(F100),F100,0)/60,2),"")
... B604: =IF(ISNUMBER(A604),CHOOSE(WEEKDAY(A604),"So","Mo","Di","Mi","Do","Fr","Sa"),"") | G604: =IF(AND(ISNUMBER(D604),ISNUMBER(E604)),ROUND((E604-D604+IF(E604<D604,1,0))*24-IF(ISNUMBER(F604),F604,0)/60,2),"")

Sheet Auswertung
A1: Auswertung
A2: Monat im gelben Feld wählen (erster Tag des Monats). Soll ist Soll pro Arbeitstag mal Montag bis Freitag des Monats, abzüglich Tage mit U, K oder F. Saldo ist Ist minus Soll.
A4: Monat (erster Tag) | B4: 46327
A6: Name | B6: Arbeitstage | C6: Ist (Std.) | D6: Abwesend (U, K, F) | E6: Soll (Std.) | F6: Saldo
A7: =IF(Team!A5="","",Team!A5) -> Becker, Laura | B7: =IF(A7="","",COUNTIFS(Erfassung!$C$5:$C$604,A7,Erfassung!$A$5:$A$604,">="&$B$4,Erfassung!$A$5:$A$604,"<="&EOMONTH($B$4,0),Erfassung!$G$5:$G$604,">0")) -> 21 | C7: =IF(A7="","",SUMIFS(Erfassung!$G$5:$G$604,Erfassung!$C$5:$C$604,A7,Erfassung!$A$5:$A$604,">="&$B$4,Erfassung!$A$5:$A$604,"<="&EOMONTH($B$4,0))) -> 170.5 | D7: =IF(A7="","",COUNTIFS(Erfassung!$C$5:$C$604,A7,Erfassung!$A$5:$A$604,">="&$B$4,Erfassung!$A$5:$A$604,"<="&EOMONTH($B$4,0),Erfassung!$H$5:$H$604,"U")+COUNTIFS(Erfassung!$C$5:$C$604,A7,Erfassung!$A$5:$A$604,">="&$B$4,Erfassung!$A$5:$A$604,"<="&EOMONTH($B$4,0),Erfassung!$H$5:$H$604,"K")+COUNTIFS(Erfassung!$C$5:$C$604,A7,Erfassung!$A$5:$A$604,">="&$B$4,Erfassung!$A$5:$A$604,"<="&EOMONTH($B$4,0),Erfassung!$H$5:$H$604,"F")) -> 0 | E7: =IF(A7="","",Team!D5*(NETWORKDAYS($B$4,EOMONTH($B$4,0))-D7)) -> 168 | F7: =IF(A7="","",C7-E7) -> 2.5
A8: =IF(Team!A6="","",Team!A6) -> Schulz, Tim | B8: =IF(A8="","",COUNTIFS(Erfassung!$C$5:$C$604,A8,Erfassung!$A$5:$A$604,">="&$B$4,Erfassung!$A$5:$A$604,"<="&EOMONTH($B$4,0),Erfassung!$G$5:$G$604,">0")) -> 16 | C8: =IF(A8="","",SUMIFS(Erfassung!$G$5:$G$604,Erfassung!$C$5:$C$604,A8,Erfassung!$A$5:$A$604,">="&$B$4,Erfassung!$A$5:$A$604,"<="&EOMONTH($B$4,0))) -> 128 | D8: =IF(A8="","",COUNTIFS(Erfassung!$C$5:$C$604,A8,Erfassung!$A$5:$A$604,">="&$B$4,Erfassung!$A$5:$A$604,"<="&EOMONTH($B$4,0),Erfassung!$H$5:$H$604,"U")+COUNTIFS(Erfassung!$C$5:$C$604,A8,Erfassung!$A$5:$A$604,">="&$B$4,Erfassung!$A$5:$A$604,"<="&EOMONTH($B$4,0),Erfassung!$H$5:$H$604,"K")+COUNTIFS(Erfassung!$C$5:$C$604,A8,Erfassung!$A$5:$A$604,">="&$B$4,Erfassung!$A$5:$A$604,"<="&EOMONTH($B$4,0),Erfassung!$H$5:$H$604,"F")) -> 5 | E8: =IF(A8="","",Team!D6*(NETWORKDAYS($B$4,EOMONTH($B$4,0))-D8)) -> 128 | F8: =IF(A8="","",C8-E8) -> 0
A9: =IF(Team!A7="","",Team!A7) -> Yilmaz, Elif | B9: =IF(A9="","",COUNTIFS(Erfassung!$C$5:$C$604,A9,Erfassung!$A$5:$A$604,">="&$B$4,Erfassung!$A$5:$A$604,"<="&EOMONTH($B$4,0),Erfassung!$G$5:$G$604,">0")) -> 20 | C9: =IF(A9="","",SUMIFS(Erfassung!$G$5:$G$604,Erfassung!$C$5:$C$604,A9,Erfassung!$A$5:$A$604,">="&$B$4,Erfassung!$A$5:$A$604,"<="&EOMONTH($B$4,0))) -> 120 | D9: =IF(A9="","",COUNTIFS(Erfassung!$C$5:$C$604,A9,Erfassung!$A$5:$A$604,">="&$B$4,Erfassung!$A$5:$A$604,"<="&EOMONTH($B$4,0),Erfassung!$H$5:$H$604,"U")+COUNTIFS(Erfassung!$C$5:$C$604,A9,Erfassung!$A$5:$A$604,">="&$B$4,Erfassung!$A$5:$A$604,"<="&EOMONTH($B$4,0),Erfassung!$H$5:$H$604,"K")+COUNTIFS(Erfassung!$C$5:$C$604,A9,Erfassung!$A$5:$A$604,">="&$B$4,Erfassung!$A$5:$A$604,"<="&EOMONTH($B$4,0),Erfassung!$H$5:$H$604,"F")) -> 1 | E9: =IF(A9="","",Team!D7*(NETWORKDAYS($B$4,EOMONTH($B$4,0))-D9)) -> 120 | F9: =IF(A9="","",C9-E9) -> 0
A10: =IF(Team!A8="","",Team!A8) -> Wagner, Jonas | B10: =IF(A10="","",COUNTIFS(Erfassung!$C$5:$C$604,A10,Erfassung!$A$5:$A$604,">="&$B$4,Erfassung!$A$5:$A$604,"<="&EOMONTH($B$4,0),Erfassung!$G$5:$G$604,">0")) -> 21 | C10: =IF(A10="","",SUMIFS(Erfassung!$G$5:$G$604,Erfassung!$C$5:$C$604,A10,Erfassung!$A$5:$A$604,">="&$B$4,Erfassung!$A$5:$A$604,"<="&EOMONTH($B$4,0))) -> 169.5 | D10: =IF(A10="","",COUNTIFS(Erfassung!$C$5:$C$604,A10,Erfassung!$A$5:$A$604,">="&$B$4,Erfassung!$A$5:$A$604,"<="&EOMONTH($B$4,0),Erfassung!$H$5:$H$604,"U")+COUNTIFS(Erfassung!$C$5:$C$604,A10,Erfassung!$A$5:$A$604,">="&$B$4,Erfassung!$A$5:$A$604,"<="&EOMONTH($B$4,0),Erfassung!$H$5:$H$604,"K")+COUNTIFS(Erfassung!$C$5:$C$604,A10,Erfassung!$A$5:$A$604,">="&$B$4,Erfassung!$A$5:$A$604,"<="&EOMONTH($B$4,0),Erfassung!$H$5:$H$604,"F")) -> 0 | E10: =IF(A10="","",Team!D8*(NETWORKDAYS($B$4,EOMONTH($B$4,0))-D10)) -> 168 | F10: =IF(A10="","",C10-E10) -> 1.5
A11: =IF(Team!A9="","",Team!A9) | B11: =IF(A11="","",COUNTIFS(Erfassung!$C$5:$C$604,A11,Erfassung!$A$5:$A$604,">="&$B$4,Erfassung!$A$5:$A$604,"<="&EOMONTH($B$4,0),Erfassung!$G$5:$G$604,">0")) | C11: =IF(A11="","",SUMIFS(Erfassung!$G$5:$G$604,Erfassung!$C$5:$C$604,A11,Erfassung!$A$5:$A$604,">="&$B$4,Erfassung!$A$5:$A$604,"<="&EOMONTH($B$4,0))) | D11: =IF(A11="","",COUNTIFS(Erfassung!$C$5:$C$604,A11,Erfassung!$A$5:$A$604,">="&$B$4,Erfassung!$A$5:$A$604,"<="&EOMONTH($B$4,0),Erfassung!$H$5:$H$604,"U")+COUNTIFS(Erfassung!$C$5:$C$604,A11,Erfassung!$A$5:$A$604,">="&$B$4,Erfassung!$A$5:$A$604,"<="&EOMONTH($B$4,0),Erfassung!$H$5:$H$604,"K")+COUNTIFS(Erfassung!$C$5:$C$604,A11,Erfassung!$A$5:$A$604,">="&$B$4,Erfassung!$A$5:$A$604,"<="&EOMONTH($B$4,0),Erfassung!$H$5:$H$604,"F")) | E11: =IF(A11="","",Team!D9*(NETWORKDAYS($B$4,EOMONTH($B$4,0))-D11)) | F11: =IF(A11="","",C11-E11)
A12: =IF(Team!A10="","",Team!A10) | B12: =IF(A12="","",COUNTIFS(Erfassung!$C$5:$C$604,A12,Erfassung!$A$5:$A$604,">="&$B$4,Erfassung!$A$5:$A$604,"<="&EOMONTH($B$4,0),Erfassung!$G$5:$G$604,">0")) | C12: =IF(A12="","",SUMIFS(Erfassung!$G$5:$G$604,Erfassung!$C$5:$C$604,A12,Erfassung!$A$5:$A$604,">="&$B$4,Erfassung!$A$5:$A$604,"<="&EOMONTH($B$4,0))) | D12: =IF(A12="","",COUNTIFS(Erfassung!$C$5:$C$604,A12,Erfassung!$A$5:$A$604,">="&$B$4,Erfassung!$A$5:$A$604,"<="&EOMONTH($B$4,0),Erfassung!$H$5:$H$604,"U")+COUNTIFS(Erfassung!$C$5:$C$604,A12,Erfassung!$A$5:$A$604,">="&$B$4,Erfassung!$A$5:$A$604,"<="&EOMONTH($B$4,0),Erfassung!$H$5:$H$604,"K")+COUNTIFS(Erfassung!$C$5:$C$604,A12,Erfassung!$A$5:$A$604,">="&$B$4,Erfassung!$A$5:$A$604,"<="&EOMONTH($B$4,0),Erfassung!$H$5:$H$604,"F")) | E12: =IF(A12="","",Team!D10*(NETWORKDAYS($B$4,EOMONTH($B$4,0))-D12)) | F12: =IF(A12="","",C12-E12)
A13: =IF(Team!A11="","",Team!A11) | B13: =IF(A13="","",COUNTIFS(Erfassung!$C$5:$C$604,A13,Erfassung!$A$5:$A$604,">="&$B$4,Erfassung!$A$5:$A$604,"<="&EOMONTH($B$4,0),Erfassung!$G$5:$G$604,">0")) | C13: =IF(A13="","",SUMIFS(Erfassung!$G$5:$G$604,Erfassung!$C$5:$C$604,A13,Erfassung!$A$5:$A$604,">="&$B$4,Erfassung!$A$5:$A$604,"<="&EOMONTH($B$4,0))) | D13: =IF(A13="","",COUNTIFS(Erfassung!$C$5:$C$604,A13,Erfassung!$A$5:$A$604,">="&$B$4,Erfassung!$A$5:$A$604,"<="&EOMONTH($B$4,0),Erfassung!$H$5:$H$604,"U")+COUNTIFS(Erfassung!$C$5:$C$604,A13,Erfassung!$A$5:$A$604,">="&$B$4,Erfassung!$A$5:$A$604,"<="&EOMONTH($B$4,0),Erfassung!$H$5:$H$604,"K")+COUNTIFS(Erfassung!$C$5:$C$604,A13,Erfassung!$A$5:$A$604,">="&$B$4,Erfassung!$A$5:$A$604,"<="&EOMONTH($B$4,0),Erfassung!$H$5:$H$604,"F")) | E13: =IF(A13="","",Team!D11*(NETWORKDAYS($B$4,EOMONTH($B$4,0))-D13)) | F13: =IF(A13="","",C13-E13)
A14: =IF(Team!A12="","",Team!A12) | B14: =IF(A14="","",COUNTIFS(Erfassung!$C$5:$C$604,A14,Erfassung!$A$5:$A$604,">="&$B$4,Erfassung!$A$5:$A$604,"<="&EOMONTH($B$4,0),Erfassung!$G$5:$G$604,">0")) | C14: =IF(A14="","",SUMIFS(Erfassung!$G$5:$G$604,Erfassung!$C$5:$C$604,A14,Erfassung!$A$5:$A$604,">="&$B$4,Erfassung!$A$5:$A$604,"<="&EOMONTH($B$4,0))) | D14: =IF(A14="","",COUNTIFS(Erfassung!$C$5:$C$604,A14,Erfassung!$A$5:$A$604,">="&$B$4,Erfassung!$A$5:$A$604,"<="&EOMONTH($B$4,0),Erfassung!$H$5:$H$604,"U")+COUNTIFS(Erfassung!$C$5:$C$604,A14,Erfassung!$A$5:$A$604,">="&$B$4,Erfassung!$A$5:$A$604,"<="&EOMONTH($B$4,0),Erfassung!$H$5:$H$604,"K")+COUNTIFS(Erfassung!$C$5:$C$604,A14,Erfassung!$A$5:$A$604,">="&$B$4,Erfassung!$A$5:$A$604,"<="&EOMONTH($B$4,0),Erfassung!$H$5:$H$604,"F")) | E14: =IF(A14="","",Team!D12*(NETWORKDAYS($B$4,EOMONTH($B$4,0))-D14)) | F14: =IF(A14="","",C14-E14)
A15: =IF(Team!A13="","",Team!A13) | B15: =IF(A15="","",COUNTIFS(Erfassung!$C$5:$C$604,A15,Erfassung!$A$5:$A$604,">="&$B$4,Erfassung!$A$5:$A$604,"<="&EOMONTH($B$4,0),Erfassung!$G$5:$G$604,">0")) | C15: =IF(A15="","",SUMIFS(Erfassung!$G$5:$G$604,Erfassung!$C$5:$C$604,A15,Erfassung!$A$5:$A$604,">="&$B$4,Erfassung!$A$5:$A$604,"<="&EOMONTH($B$4,0))) | D15: =IF(A15="","",COUNTIFS(Erfassung!$C$5:$C$604,A15,Erfassung!$A$5:$A$604,">="&$B$4,Erfassung!$A$5:$A$604,"<="&EOMONTH($B$4,0),Erfassung!$H$5:$H$604,"U")+COUNTIFS(Erfassung!$C$5:$C$604,A15,Erfassung!$A$5:$A$604,">="&$B$4,Erfassung!$A$5:$A$604,"<="&EOMONTH($B$4,0),Erfassung!$H$5:$H$604,"K")+COUNTIFS(Erfassung!$C$5:$C$604,A15,Erfassung!$A$5:$A$604,">="&$B$4,Erfassung!$A$5:$A$604,"<="&EOMONTH($B$4,0),Erfassung!$H$5:$H$604,"F")) | E15: =IF(A15="","",Team!D13*(NETWORKDAYS($B$4,EOMONTH($B$4,0))-D15)) | F15: =IF(A15="","",C15-E15)
A16: =IF(Team!A14="","",Team!A14) | B16: =IF(A16="","",COUNTIFS(Erfassung!$C$5:$C$604,A16,Erfassung!$A$5:$A$604,">="&$B$4,Erfassung!$A$5:$A$604,"<="&EOMONTH($B$4,0),Erfassung!$G$5:$G$604,">0")) | C16: =IF(A16="","",SUMIFS(Erfassung!$G$5:$G$604,Erfassung!$C$5:$C$604,A16,Erfassung!$A$5:$A$604,">="&$B$4,Erfassung!$A$5:$A$604,"<="&EOMONTH($B$4,0))) | D16: =IF(A16="","",COUNTIFS(Erfassung!$C$5:$C$604,A16,Erfassung!$A$5:$A$604,">="&$B$4,Erfassung!$A$5:$A$604,"<="&EOMONTH($B$4,0),Erfassung!$H$5:$H$604,"U")+COUNTIFS(Erfassung!$C$5:$C$604,A16,Erfassung!$A$5:$A$604,">="&$B$4,Erfassung!$A$5:$A$604,"<="&EOMONTH($B$4,0),Erfassung!$H$5:$H$604,"K")+COUNTIFS(Erfassung!$C$5:$C$604,A16,Erfassung!$A$5:$A$604,">="&$B$4,Erfassung!$A$5:$A$604,"<="&EOMONTH($B$4,0),Erfassung!$H$5:$H$604,"F")) | E16: =IF(A16="","",Team!D14*(NETWORKDAYS($B$4,EOMONTH($B$4,0))-D16)) | F16: =IF(A16="","",C16-E16)
A17: =IF(Team!A15="","",Team!A15) | B17: =IF(A17="","",COUNTIFS(Erfassung!$C$5:$C$604,A17,Erfassung!$A$5:$A$604,">="&$B$4,Erfassung!$A$5:$A$604,"<="&EOMONTH($B$4,0),Erfassung!$G$5:$G$604,">0")) | C17: =IF(A17="","",SUMIFS(Erfassung!$G$5:$G$604,Erfassung!$C$5:$C$604,A17,Erfassung!$A$5:$A$604,">="&$B$4,Erfassung!$A$5:$A$604,"<="&EOMONTH($B$4,0))) | D17: =IF(A17="","",COUNTIFS(Erfassung!$C$5:$C$604,A17,Erfassung!$A$5:$A$604,">="&$B$4,Erfassung!$A$5:$A$604,"<="&EOMONTH($B$4,0),Erfassung!$H$5:$H$604,"U")+COUNTIFS(Erfassung!$C$5:$C$604,A17,Erfassung!$A$5:$A$604,">="&$B$4,Erfassung!$A$5:$A$604,"<="&EOMONTH($B$4,0),Erfassung!$H$5:$H$604,"K")+COUNTIFS(Erfassung!$C$5:$C$604,A17,Erfassung!$A$5:$A$604,">="&$B$4,Erfassung!$A$5:$A$604,"<="&EOMONTH($B$4,0),Erfassung!$H$5:$H$604,"F")) | E17: =IF(A17="","",Team!D15*(NETWORKDAYS($B$4,EOMONTH($B$4,0))-D17)) | F17: =IF(A17="","",C17-E17)
A18: =IF(Team!A16="","",Team!A16) | B18: =IF(A18="","",COUNTIFS(Erfassung!$C$5:$C$604,A18,Erfassung!$A$5:$A$604,">="&$B$4,Erfassung!$A$5:$A$604,"<="&EOMONTH($B$4,0),Erfassung!$G$5:$G$604,">0")) | C18: =IF(A18="","",SUMIFS(Erfassung!$G$5:$G$604,Erfassung!$C$5:$C$604,A18,Erfassung!$A$5:$A$604,">="&$B$4,Erfassung!$A$5:$A$604,"<="&EOMONTH($B$4,0))) | D18: =IF(A18="","",COUNTIFS(Erfassung!$C$5:$C$604,A18,Erfassung!$A$5:$A$604,">="&$B$4,Erfassung!$A$5:$A$604,"<="&EOMONTH($B$4,0),Erfassung!$H$5:$H$604,"U")+COUNTIFS(Erfassung!$C$5:$C$604,A18,Erfassung!$A$5:$A$604,">="&$B$4,Erfassung!$A$5:$A$604,"<="&EOMONTH($B$4,0),Erfassung!$H$5:$H$604,"K")+COUNTIFS(Erfassung!$C$5:$C$604,A18,Erfassung!$A$5:$A$604,">="&$B$4,Erfassung!$A$5:$A$604,"<="&EOMONTH($B$4,0),Erfassung!$H$5:$H$604,"F")) | E18: =IF(A18="","",Team!D16*(NETWORKDAYS($B$4,EOMONTH($B$4,0))-D18)) | F18: =IF(A18="","",C18-E18)
... A21: =IF(Team!A19="","",Team!A19) | B21: =IF(A21="","",COUNTIFS(Erfassung!$C$5:$C$604,A21,Erfassung!$A$5:$A$604,">="&$B$4,Erfassung!$A$5:$A$604,"<="&EOMONTH($B$4,0),Erfassung!$G$5:$G$604,">0")) | C21: =IF(A21="","",SUMIFS(Erfassung!$G$5:$G$604,Erfassung!$C$5:$C$604,A21,Erfassung!$A$5:$A$604,">="&$B$4,Erfassung!$A$5:$A$604,"<="&EOMONTH($B$4,0))) | D21: =IF(A21="","",COUNTIFS(Erfassung!$C$5:$C$604,A21,Erfassung!$A$5:$A$604,">="&$B$4,Erfassung!$A$5:$A$604,"<="&EOMONTH($B$4,0),Erfassung!$H$5:$H$604,"U")+COUNTIFS(Erfassung!$C$5:$C$604,A21,Erfassung!$A$5:$A$604,">="&$B$4,Erfassung!$A$5:$A$604,"<="&EOMONTH($B$4,0),Erfassung!$H$5:$H$604,"K")+COUNTIFS(Erfassung!$C$5:$C$604,A21,Erfassung!$A$5:$A$604,">="&$B$4,Erfassung!$A$5:$A$604,"<="&EOMONTH($B$4,0),Erfassung!$H$5:$H$604,"F")) | E21: =IF(A21="","",Team!D19*(NETWORKDAYS($B$4,EOMONTH($B$4,0))-D21)) | F21: =IF(A21="","",C21-E21)
A22: Summe | C22: =SUM(C7:C21) -> 588
A25: ="Stunden je Monat "&YEAR($B$4) -> Stunden je Monat 2026
A26: Name | B26: Jan | C26: Feb | D26: Mär | E26: Apr | F26: Mai | G26: Jun | H26: Jul | I26: Aug | J26: Sep | K26: Okt | L26: Nov | M26: Dez | N26: Jahr
A27: =IF(Team!A5="","",Team!A5) -> Becker, Laura | B27: =IF($A27="","",SUMIFS(Erfassung!$G$5:$G$604,Erfassung!$C$5:$C$604,$A27,Erfassung!$A$5:$A$604,">="&DATE(YEAR($B$4),1,1),Erfassung!$A$5:$A$604,"<="&EOMONTH(DATE(YEAR($B$4),1,1),0))) -> 0 | C27: =IF($A27="","",SUMIFS(Erfassung!$G$5:$G$604,Erfassung!$C$5:$C$604,$A27,Erfassung!$A$5:$A$604,">="&DATE(YEAR($B$4),2,1),Erfassung!$A$5:$A$604,"<="&EOMONTH(DATE(YEAR($B$4),2,1),0))) -> 0 | D27: =IF($A27="","",SUMIFS(Erfassung!$G$5:$G$604,Erfassung!$C$5:$C$604,$A27,Erfassung!$A$5:$A$604,">="&DATE(YEAR($B$4),3,1),Erfassung!$A$5:$A$604,"<="&EOMONTH(DATE(YEAR($B$4),3,1),0))) -> 0 | E27: =IF($A27="","",SUMIFS(Erfassung!$G$5:$G$604,Erfassung!$C$5:$C$604,$A27,Erfassung!$A$5:$A$604,">="&DATE(YEAR($B$4),4,1),Erfassung!$A$5:$A$604,"<="&EOMONTH(DATE(YEAR($B$4),4,1),0))) -> 0 | F27: =IF($A27="","",SUMIFS(Erfassung!$G$5:$G$604,Erfassung!$C$5:$C$604,$A27,Erfassung!$A$5:$A$604,">="&DATE(YEAR($B$4),5,1),Erfassung!$A$5:$A$604,"<="&EOMONTH(DATE(YEAR($B$4),5,1),0))) -> 0 | G27: =IF($A27="","",SUMIFS(Erfassung!$G$5:$G$604,Erfassung!$C$5:$C$604,$A27,Erfassung!$A$5:$A$604,">="&DATE(YEAR($B$4),6,1),Erfassung!$A$5:$A$604,"<="&EOMONTH(DATE(YEAR($B$4),6,1),0))) -> 0 | H27: =IF($A27="","",SUMIFS(Erfassung!$G$5:$G$604,Erfassung!$C$5:$C$604,$A27,Erfassung!$A$5:$A$604,">="&DATE(YEAR($B$4),7,1),Erfassung!$A$5:$A$604,"<="&EOMONTH(DATE(YEAR($B$4),7,1),0))) -> 0 | I27: =IF($A27="","",SUMIFS(Erfassung!$G$5:$G$604,Erfassung!$C$5:$C$604,$A27,Erfassung!$A$5:$A$604,">="&DATE(YEAR($B$4),8,1),Erfassung!$A$5:$A$604,"<="&EOMONTH(DATE(YEAR($B$4),8,1),0))) -> 0 | J27: =IF($A27="","",SUMIFS(Erfassung!$G$5:$G$604,Erfassung!$C$5:$C$604,$A27,Erfassung!$A$5:$A$604,">="&DATE(YEAR($B$4),9,1),Erfassung!$A$5:$A$604,"<="&EOMONTH(DATE(YEAR($B$4),9,1),0))) -> 0 | K27: =IF($A27="","",SUMIFS(Erfassung!$G$5:$G$604,Erfassung!$C$5:$C$604,$A27,Erfassung!$A$5:$A$604,">="&DATE(YEAR($B$4),10,1),Erfassung!$A$5:$A$604,"<="&EOMONTH(DATE(YEAR($B$4),10,1),0))) -> 0 | L27: =IF($A27="","",SUMIFS(Erfassung!$G$5:$G$604,Erfassung!$C$5:$C$604,$A27,Erfassung!$A$5:$A$604,">="&DATE(YEAR($B$4),11,1),Erfassung!$A$5:$A$604,"<="&EOMONTH(DATE(YEAR($B$4),11,1),0))) -> 170.5 | M27: =IF($A27="","",SUMIFS(Erfassung!$G$5:$G$604,Erfassung!$C$5:$C$604,$A27,Erfassung!$A$5:$A$604,">="&DATE(YEAR($B$4),12,1),Erfassung!$A$5:$A$604,"<="&EOMONTH(DATE(YEAR($B$4),12,1),0))) -> 0 | N27: =IF($A27="","",SUM(B27:M27)) -> 170.5
A28: =IF(Team!A6="","",Team!A6) -> Schulz, Tim | B28: =IF($A28="","",SUMIFS(Erfassung!$G$5:$G$604,Erfassung!$C$5:$C$604,$A28,Erfassung!$A$5:$A$604,">="&DATE(YEAR($B$4),1,1),Erfassung!$A$5:$A$604,"<="&EOMONTH(DATE(YEAR($B$4),1,1),0))) -> 0 | C28: =IF($A28="","",SUMIFS(Erfassung!$G$5:$G$604,Erfassung!$C$5:$C$604,$A28,Erfassung!$A$5:$A$604,">="&DATE(YEAR($B$4),2,1),Erfassung!$A$5:$A$604,"<="&EOMONTH(DATE(YEAR($B$4),2,1),0))) -> 0 | D28: =IF($A28="","",SUMIFS(Erfassung!$G$5:$G$604,Erfassung!$C$5:$C$604,$A28,Erfassung!$A$5:$A$604,">="&DATE(YEAR($B$4),3,1),Erfassung!$A$5:$A$604,"<="&EOMONTH(DATE(YEAR($B$4),3,1),0))) -> 0 | E28: =IF($A28="","",SUMIFS(Erfassung!$G$5:$G$604,Erfassung!$C$5:$C$604,$A28,Erfassung!$A$5:$A$604,">="&DATE(YEAR($B$4),4,1),Erfassung!$A$5:$A$604,"<="&EOMONTH(DATE(YEAR($B$4),4,1),0))) -> 0 | F28: =IF($A28="","",SUMIFS(Erfassung!$G$5:$G$604,Erfassung!$C$5:$C$604,$A28,Erfassung!$A$5:$A$604,">="&DATE(YEAR($B$4),5,1),Erfassung!$A$5:$A$604,"<="&EOMONTH(DATE(YEAR($B$4),5,1),0))) -> 0 | G28: =IF($A28="","",SUMIFS(Erfassung!$G$5:$G$604,Erfassung!$C$5:$C$604,$A28,Erfassung!$A$5:$A$604,">="&DATE(YEAR($B$4),6,1),Erfassung!$A$5:$A$604,"<="&EOMONTH(DATE(YEAR($B$4),6,1),0))) -> 0 | H28: =IF($A28="","",SUMIFS(Erfassung!$G$5:$G$604,Erfassung!$C$5:$C$604,$A28,Erfassung!$A$5:$A$604,">="&DATE(YEAR($B$4),7,1),Erfassung!$A$5:$A$604,"<="&EOMONTH(DATE(YEAR($B$4),7,1),0))) -> 0 | I28: =IF($A28="","",SUMIFS(Erfassung!$G$5:$G$604,Erfassung!$C$5:$C$604,$A28,Erfassung!$A$5:$A$604,">="&DATE(YEAR($B$4),8,1),Erfassung!$A$5:$A$604,"<="&EOMONTH(DATE(YEAR($B$4),8,1),0))) -> 0 | J28: =IF($A28="","",SUMIFS(Erfassung!$G$5:$G$604,Erfassung!$C$5:$C$604,$A28,Erfassung!$A$5:$A$604,">="&DATE(YEAR($B$4),9,1),Erfassung!$A$5:$A$604,"<="&EOMONTH(DATE(YEAR($B$4),9,1),0))) -> 0 | K28: =IF($A28="","",SUMIFS(Erfassung!$G$5:$G$604,Erfassung!$C$5:$C$604,$A28,Erfassung!$A$5:$A$604,">="&DATE(YEAR($B$4),10,1),Erfassung!$A$5:$A$604,"<="&EOMONTH(DATE(YEAR($B$4),10,1),0))) -> 0 | L28: =IF($A28="","",SUMIFS(Erfassung!$G$5:$G$604,Erfassung!$C$5:$C$604,$A28,Erfassung!$A$5:$A$604,">="&DATE(YEAR($B$4),11,1),Erfassung!$A$5:$A$604,"<="&EOMONTH(DATE(YEAR($B$4),11,1),0))) -> 128 | M28: =IF($A28="","",SUMIFS(Erfassung!$G$5:$G$604,Erfassung!$C$5:$C$604,$A28,Erfassung!$A$5:$A$604,">="&DATE(YEAR($B$4),12,1),Erfassung!$A$5:$A$604,"<="&EOMONTH(DATE(YEAR($B$4),12,1),0))) -> 0 | N28: =IF($A28="","",SUM(B28:M28)) -> 128
A29: =IF(Team!A7="","",Team!A7) -> Yilmaz, Elif | B29: =IF($A29="","",SUMIFS(Erfassung!$G$5:$G$604,Erfassung!$C$5:$C$604,$A29,Erfassung!$A$5:$A$604,">="&DATE(YEAR($B$4),1,1),Erfassung!$A$5:$A$604,"<="&EOMONTH(DATE(YEAR($B$4),1,1),0))) -> 0 | C29: =IF($A29="","",SUMIFS(Erfassung!$G$5:$G$604,Erfassung!$C$5:$C$604,$A29,Erfassung!$A$5:$A$604,">="&DATE(YEAR($B$4),2,1),Erfassung!$A$5:$A$604,"<="&EOMONTH(DATE(YEAR($B$4),2,1),0))) -> 0 | D29: =IF($A29="","",SUMIFS(Erfassung!$G$5:$G$604,Erfassung!$C$5:$C$604,$A29,Erfassung!$A$5:$A$604,">="&DATE(YEAR($B$4),3,1),Erfassung!$A$5:$A$604,"<="&EOMONTH(DATE(YEAR($B$4),3,1),0))) -> 0 | E29: =IF($A29="","",SUMIFS(Erfassung!$G$5:$G$604,Erfassung!$C$5:$C$604,$A29,Erfassung!$A$5:$A$604,">="&DATE(YEAR($B$4),4,1),Erfassung!$A$5:$A$604,"<="&EOMONTH(DATE(YEAR($B$4),4,1),0))) -> 0 | F29: =IF($A29="","",SUMIFS(Erfassung!$G$5:$G$604,Erfassung!$C$5:$C$604,$A29,Erfassung!$A$5:$A$604,">="&DATE(YEAR($B$4),5,1),Erfassung!$A$5:$A$604,"<="&EOMONTH(DATE(YEAR($B$4),5,1),0))) -> 0 | G29: =IF($A29="","",SUMIFS(Erfassung!$G$5:$G$604,Erfassung!$C$5:$C$604,$A29,Erfassung!$A$5:$A$604,">="&DATE(YEAR($B$4),6,1),Erfassung!$A$5:$A$604,"<="&EOMONTH(DATE(YEAR($B$4),6,1),0))) -> 0 | H29: =IF($A29="","",SUMIFS(Erfassung!$G$5:$G$604,Erfassung!$C$5:$C$604,$A29,Erfassung!$A$5:$A$604,">="&DATE(YEAR($B$4),7,1),Erfassung!$A$5:$A$604,"<="&EOMONTH(DATE(YEAR($B$4),7,1),0))) -> 0 | I29: =IF($A29="","",SUMIFS(Erfassung!$G$5:$G$604,Erfassung!$C$5:$C$604,$A29,Erfassung!$A$5:$A$604,">="&DATE(YEAR($B$4),8,1),Erfassung!$A$5:$A$604,"<="&EOMONTH(DATE(YEAR($B$4),8,1),0))) -> 0 | J29: =IF($A29="","",SUMIFS(Erfassung!$G$5:$G$604,Erfassung!$C$5:$C$604,$A29,Erfassung!$A$5:$A$604,">="&DATE(YEAR($B$4),9,1),Erfassung!$A$5:$A$604,"<="&EOMONTH(DATE(YEAR($B$4),9,1),0))) -> 0 | K29: =IF($A29="","",SUMIFS(Erfassung!$G$5:$G$604,Erfassung!$C$5:$C$604,$A29,Erfassung!$A$5:$A$604,">="&DATE(YEAR($B$4),10,1),Erfassung!$A$5:$A$604,"<="&EOMONTH(DATE(YEAR($B$4),10,1),0))) -> 0 | L29: =IF($A29="","",SUMIFS(Erfassung!$G$5:$G$604,Erfassung!$C$5:$C$604,$A29,Erfassung!$A$5:$A$604,">="&DATE(YEAR($B$4),11,1),Erfassung!$A$5:$A$604,"<="&EOMONTH(DATE(YEAR($B$4),11,1),0))) -> 120 | M29: =IF($A29="","",SUMIFS(Erfassung!$G$5:$G$604,Erfassung!$C$5:$C$604,$A29,Erfassung!$A$5:$A$604,">="&DATE(YEAR($B$4),12,1),Erfassung!$A$5:$A$604,"<="&EOMONTH(DATE(YEAR($B$4),12,1),0))) -> 0 | N29: =IF($A29="","",SUM(B29:M29)) -> 120
A30: =IF(Team!A8="","",Team!A8) -> Wagner, Jonas | B30: =IF($A30="","",SUMIFS(Erfassung!$G$5:$G$604,Erfassung!$C$5:$C$604,$A30,Erfassung!$A$5:$A$604,">="&DATE(YEAR($B$4),1,1),Erfassung!$A$5:$A$604,"<="&EOMONTH(DATE(YEAR($B$4),1,1),0))) -> 0 | C30: =IF($A30="","",SUMIFS(Erfassung!$G$5:$G$604,Erfassung!$C$5:$C$604,$A30,Erfassung!$A$5:$A$604,">="&DATE(YEAR($B$4),2,1),Erfassung!$A$5:$A$604,"<="&EOMONTH(DATE(YEAR($B$4),2,1),0))) -> 0 | D30: =IF($A30="","",SUMIFS(Erfassung!$G$5:$G$604,Erfassung!$C$5:$C$604,$A30,Erfassung!$A$5:$A$604,">="&DATE(YEAR($B$4),3,1),Erfassung!$A$5:$A$604,"<="&EOMONTH(DATE(YEAR($B$4),3,1),0))) -> 0 | E30: =IF($A30="","",SUMIFS(Erfassung!$G$5:$G$604,Erfassung!$C$5:$C$604,$A30,Erfassung!$A$5:$A$604,">="&DATE(YEAR($B$4),4,1),Erfassung!$A$5:$A$604,"<="&EOMONTH(DATE(YEAR($B$4),4,1),0))) -> 0 | F30: =IF($A30="","",SUMIFS(Erfassung!$G$5:$G$604,Erfassung!$C$5:$C$604,$A30,Erfassung!$A$5:$A$604,">="&DATE(YEAR($B$4),5,1),Erfassung!$A$5:$A$604,"<="&EOMONTH(DATE(YEAR($B$4),5,1),0))) -> 0 | G30: =IF($A30="","",SUMIFS(Erfassung!$G$5:$G$604,Erfassung!$C$5:$C$604,$A30,Erfassung!$A$5:$A$604,">="&DATE(YEAR($B$4),6,1),Erfassung!$A$5:$A$604,"<="&EOMONTH(DATE(YEAR($B$4),6,1),0))) -> 0 | H30: =IF($A30="","",SUMIFS(Erfassung!$G$5:$G$604,Erfassung!$C$5:$C$604,$A30,Erfassung!$A$5:$A$604,">="&DATE(YEAR($B$4),7,1),Erfassung!$A$5:$A$604,"<="&EOMONTH(DATE(YEAR($B$4),7,1),0))) -> 0 | I30: =IF($A30="","",SUMIFS(Erfassung!$G$5:$G$604,Erfassung!$C$5:$C$604,$A30,Erfassung!$A$5:$A$604,">="&DATE(YEAR($B$4),8,1),Erfassung!$A$5:$A$604,"<="&EOMONTH(DATE(YEAR($B$4),8,1),0))) -> 0 | J30: =IF($A30="","",SUMIFS(Erfassung!$G$5:$G$604,Erfassung!$C$5:$C$604,$A30,Erfassung!$A$5:$A$604,">="&DATE(YEAR($B$4),9,1),Erfassung!$A$5:$A$604,"<="&EOMONTH(DATE(YEAR($B$4),9,1),0))) -> 0 | K30: =IF($A30="","",SUMIFS(Erfassung!$G$5:$G$604,Erfassung!$C$5:$C$604,$A30,Erfassung!$A$5:$A$604,">="&DATE(YEAR($B$4),10,1),Erfassung!$A$5:$A$604,"<="&EOMONTH(DATE(YEAR($B$4),10,1),0))) -> 0 | L30: =IF($A30="","",SUMIFS(Erfassung!$G$5:$G$604,Erfassung!$C$5:$C$604,$A30,Erfassung!$A$5:$A$604,">="&DATE(YEAR($B$4),11,1),Erfassung!$A$5:$A$604,"<="&EOMONTH(DATE(YEAR($B$4),11,1),0))) -> 169.5 | M30: =IF($A30="","",SUMIFS(Erfassung!$G$5:$G$604,Erfassung!$C$5:$C$604,$A30,Erfassung!$A$5:$A$604,">="&DATE(YEAR($B$4),12,1),Erfassung!$A$5:$A$604,"<="&EOMONTH(DATE(YEAR($B$4),12,1),0))) -> 0 | N30: =IF($A30="","",SUM(B30:M30)) -> 169.5
A31: =IF(Team!A9="","",Team!A9) | B31: =IF($A31="","",SUMIFS(Erfassung!$G$5:$G$604,Erfassung!$C$5:$C$604,$A31,Erfassung!$A$5:$A$604,">="&DATE(YEAR($B$4),1,1),Erfassung!$A$5:$A$604,"<="&EOMONTH(DATE(YEAR($B$4),1,1),0))) | C31: =IF($A31="","",SUMIFS(Erfassung!$G$5:$G$604,Erfassung!$C$5:$C$604,$A31,Erfassung!$A$5:$A$604,">="&DATE(YEAR($B$4),2,1),Erfassung!$A$5:$A$604,"<="&EOMONTH(DATE(YEAR($B$4),2,1),0))) | D31: =IF($A31="","",SUMIFS(Erfassung!$G$5:$G$604,Erfassung!$C$5:$C$604,$A31,Erfassung!$A$5:$A$604,">="&DATE(YEAR($B$4),3,1),Erfassung!$A$5:$A$604,"<="&EOMONTH(DATE(YEAR($B$4),3,1),0))) | E31: =IF($A31="","",SUMIFS(Erfassung!$G$5:$G$604,Erfassung!$C$5:$C$604,$A31,Erfassung!$A$5:$A$604,">="&DATE(YEAR($B$4),4,1),Erfassung!$A$5:$A$604,"<="&EOMONTH(DATE(YEAR($B$4),4,1),0))) | F31: =IF($A31="","",SUMIFS(Erfassung!$G$5:$G$604,Erfassung!$C$5:$C$604,$A31,Erfassung!$A$5:$A$604,">="&DATE(YEAR($B$4),5,1),Erfassung!$A$5:$A$604,"<="&EOMONTH(DATE(YEAR($B$4),5,1),0))) | G31: =IF($A31="","",SUMIFS(Erfassung!$G$5:$G$604,Erfassung!$C$5:$C$604,$A31,Erfassung!$A$5:$A$604,">="&DATE(YEAR($B$4),6,1),Erfassung!$A$5:$A$604,"<="&EOMONTH(DATE(YEAR($B$4),6,1),0))) | H31: =IF($A31="","",SUMIFS(Erfassung!$G$5:$G$604,Erfassung!$C$5:$C$604,$A31,Erfassung!$A$5:$A$604,">="&DATE(YEAR($B$4),7,1),Erfassung!$A$5:$A$604,"<="&EOMONTH(DATE(YEAR($B$4),7,1),0))) | I31: =IF($A31="","",SUMIFS(Erfassung!$G$5:$G$604,Erfassung!$C$5:$C$604,$A31,Erfassung!$A$5:$A$604,">="&DATE(YEAR($B$4),8,1),Erfassung!$A$5:$A$604,"<="&EOMONTH(DATE(YEAR($B$4),8,1),0))) | J31: =IF($A31="","",SUMIFS(Erfassung!$G$5:$G$604,Erfassung!$C$5:$C$604,$A31,Erfassung!$A$5:$A$604,">="&DATE(YEAR($B$4),9,1),Erfassung!$A$5:$A$604,"<="&EOMONTH(DATE(YEAR($B$4),9,1),0))) | K31: =IF($A31="","",SUMIFS(Erfassung!$G$5:$G$604,Erfassung!$C$5:$C$604,$A31,Erfassung!$A$5:$A$604,">="&DATE(YEAR($B$4),10,1),Erfassung!$A$5:$A$604,"<="&EOMONTH(DATE(YEAR($B$4),10,1),0))) | L31: =IF($A31="","",SUMIFS(Erfassung!$G$5:$G$604,Erfassung!$C$5:$C$604,$A31,Erfassung!$A$5:$A$604,">="&DATE(YEAR($B$4),11,1),Erfassung!$A$5:$A$604,"<="&EOMONTH(DATE(YEAR($B$4),11,1),0))) | M31: =IF($A31="","",SUMIFS(Erfassung!$G$5:$G$604,Erfassung!$C$5:$C$604,$A31,Erfassung!$A$5:$A$604,">="&DATE(YEAR($B$4),12,1),Erfassung!$A$5:$A$604,"<="&EOMONTH(DATE(YEAR($B$4),12,1),0))) | N31: =IF($A31="","",SUM(B31:M31))
A32: =IF(Team!A10="","",Team!A10) | B32: =IF($A32="","",SUMIFS(Erfassung!$G$5:$G$604,Erfassung!$C$5:$C$604,$A32,Erfassung!$A$5:$A$604,">="&DATE(YEAR($B$4),1,1),Erfassung!$A$5:$A$604,"<="&EOMONTH(DATE(YEAR($B$4),1,1),0))) | C32: =IF($A32="","",SUMIFS(Erfassung!$G$5:$G$604,Erfassung!$C$5:$C$604,$A32,Erfassung!$A$5:$A$604,">="&DATE(YEAR($B$4),2,1),Erfassung!$A$5:$A$604,"<="&EOMONTH(DATE(YEAR($B$4),2,1),0))) | D32: =IF($A32="","",SUMIFS(Erfassung!$G$5:$G$604,Erfassung!$C$5:$C$604,$A32,Erfassung!$A$5:$A$604,">="&DATE(YEAR($B$4),3,1),Erfassung!$A$5:$A$604,"<="&EOMONTH(DATE(YEAR($B$4),3,1),0))) | E32: =IF($A32="","",SUMIFS(Erfassung!$G$5:$G$604,Erfassung!$C$5:$C$604,$A32,Erfassung!$A$5:$A$604,">="&DATE(YEAR($B$4),4,1),Erfassung!$A$5:$A$604,"<="&EOMONTH(DATE(YEAR($B$4),4,1),0))) | F32: =IF($A32="","",SUMIFS(Erfassung!$G$5:$G$604,Erfassung!$C$5:$C$604,$A32,Erfassung!$A$5:$A$604,">="&DATE(YEAR($B$4),5,1),Erfassung!$A$5:$A$604,"<="&EOMONTH(DATE(YEAR($B$4),5,1),0))) | G32: =IF($A32="","",SUMIFS(Erfassung!$G$5:$G$604,Erfassung!$C$5:$C$604,$A32,Erfassung!$A$5:$A$604,">="&DATE(YEAR($B$4),6,1),Erfassung!$A$5:$A$604,"<="&EOMONTH(DATE(YEAR($B$4),6,1),0))) | H32: =IF($A32="","",SUMIFS(Erfassung!$G$5:$G$604,Erfassung!$C$5:$C$604,$A32,Erfassung!$A$5:$A$604,">="&DATE(YEAR($B$4),7,1),Erfassung!$A$5:$A$604,"<="&EOMONTH(DATE(YEAR($B$4),7,1),0))) | I32: =IF($A32="","",SUMIFS(Erfassung!$G$5:$G$604,Erfassung!$C$5:$C$604,$A32,Erfassung!$A$5:$A$604,">="&DATE(YEAR($B$4),8,1),Erfassung!$A$5:$A$604,"<="&EOMONTH(DATE(YEAR($B$4),8,1),0))) | J32: =IF($A32="","",SUMIFS(Erfassung!$G$5:$G$604,Erfassung!$C$5:$C$604,$A32,Erfassung!$A$5:$A$604,">="&DATE(YEAR($B$4),9,1),Erfassung!$A$5:$A$604,"<="&EOMONTH(DATE(YEAR($B$4),9,1),0))) | K32: =IF($A32="","",SUMIFS(Erfassung!$G$5:$G$604,Erfassung!$C$5:$C$604,$A32,Erfassung!$A$5:$A$604,">="&DATE(YEAR($B$4),10,1),Erfassung!$A$5:$A$604,"<="&EOMONTH(DATE(YEAR($B$4),10,1),0))) | L32: =IF($A32="","",SUMIFS(Erfassung!$G$5:$G$604,Erfassung!$C$5:$C$604,$A32,Erfassung!$A$5:$A$604,">="&DATE(YEAR($B$4),11,1),Erfassung!$A$5:$A$604,"<="&EOMONTH(DATE(YEAR($B$4),11,1),0))) | M32: =IF($A32="","",SUMIFS(Erfassung!$G$5:$G$604,Erfassung!$C$5:$C$604,$A32,Erfassung!$A$5:$A$604,">="&DATE(YEAR($B$4),12,1),Erfassung!$A$5:$A$604,"<="&EOMONTH(DATE(YEAR($B$4),12,1),0))) | N32: =IF($A32="","",SUM(B32:M32))
A33: =IF(Team!A11="","",Team!A11) | B33: =IF($A33="","",SUMIFS(Erfassung!$G$5:$G$604,Erfassung!$C$5:$C$604,$A33,Erfassung!$A$5:$A$604,">="&DATE(YEAR($B$4),1,1),Erfassung!$A$5:$A$604,"<="&EOMONTH(DATE(YEAR($B$4),1,1),0))) | C33: =IF($A33="","",SUMIFS(Erfassung!$G$5:$G$604,Erfassung!$C$5:$C$604,$A33,Erfassung!$A$5:$A$604,">="&DATE(YEAR($B$4),2,1),Erfassung!$A$5:$A$604,"<="&EOMONTH(DATE(YEAR($B$4),2,1),0))) | D33: =IF($A33="","",SUMIFS(Erfassung!$G$5:$G$604,Erfassung!$C$5:$C$604,$A33,Erfassung!$A$5:$A$604,">="&DATE(YEAR($B$4),3,1),Erfassung!$A$5:$A$604,"<="&EOMONTH(DATE(YEAR($B$4),3,1),0))) | E33: =IF($A33="","",SUMIFS(Erfassung!$G$5:$G$604,Erfassung!$C$5:$C$604,$A33,Erfassung!$A$5:$A$604,">="&DATE(YEAR($B$4),4,1),Erfassung!$A$5:$A$604,"<="&EOMONTH(DATE(YEAR($B$4),4,1),0))) | F33: =IF($A33="","",SUMIFS(Erfassung!$G$5:$G$604,Erfassung!$C$5:$C$604,$A33,Erfassung!$A$5:$A$604,">="&DATE(YEAR($B$4),5,1),Erfassung!$A$5:$A$604,"<="&EOMONTH(DATE(YEAR($B$4),5,1),0))) | G33: =IF($A33="","",SUMIFS(Erfassung!$G$5:$G$604,Erfassung!$C$5:$C$604,$A33,Erfassung!$A$5:$A$604,">="&DATE(YEAR($B$4),6,1),Erfassung!$A$5:$A$604,"<="&EOMONTH(DATE(YEAR($B$4),6,1),0))) | H33: =IF($A33="","",SUMIFS(Erfassung!$G$5:$G$604,Erfassung!$C$5:$C$604,$A33,Erfassung!$A$5:$A$604,">="&DATE(YEAR($B$4),7,1),Erfassung!$A$5:$A$604,"<="&EOMONTH(DATE(YEAR($B$4),7,1),0))) | I33: =IF($A33="","",SUMIFS(Erfassung!$G$5:$G$604,Erfassung!$C$5:$C$604,$A33,Erfassung!$A$5:$A$604,">="&DATE(YEAR($B$4),8,1),Erfassung!$A$5:$A$604,"<="&EOMONTH(DATE(YEAR($B$4),8,1),0))) | J33: =IF($A33="","",SUMIFS(Erfassung!$G$5:$G$604,Erfassung!$C$5:$C$604,$A33,Erfassung!$A$5:$A$604,">="&DATE(YEAR($B$4),9,1),Erfassung!$A$5:$A$604,"<="&EOMONTH(DATE(YEAR($B$4),9,1),0))) | K33: =IF($A33="","",SUMIFS(Erfassung!$G$5:$G$604,Erfassung!$C$5:$C$604,$A33,Erfassung!$A$5:$A$604,">="&DATE(YEAR($B$4),10,1),Erfassung!$A$5:$A$604,"<="&EOMONTH(DATE(YEAR($B$4),10,1),0))) | L33: =IF($A33="","",SUMIFS(Erfassung!$G$5:$G$604,Erfassung!$C$5:$C$604,$A33,Erfassung!$A$5:$A$604,">="&DATE(YEAR($B$4),11,1),Erfassung!$A$5:$A$604,"<="&EOMONTH(DATE(YEAR($B$4),11,1),0))) | M33: =IF($A33="","",SUMIFS(Erfassung!$G$5:$G$604,Erfassung!$C$5:$C$604,$A33,Erfassung!$A$5:$A$604,">="&DATE(YEAR($B$4),12,1),Erfassung!$A$5:$A$604,"<="&EOMONTH(DATE(YEAR($B$4),12,1),0))) | N33: =IF($A33="","",SUM(B33:M33))
A34: =IF(Team!A12="","",Team!A12) | B34: =IF($A34="","",SUMIFS(Erfassung!$G$5:$G$604,Erfassung!$C$5:$C$604,$A34,Erfassung!$A$5:$A$604,">="&DATE(YEAR($B$4),1,1),Erfassung!$A$5:$A$604,"<="&EOMONTH(DATE(YEAR($B$4),1,1),0))) | C34: =IF($A34="","",SUMIFS(Erfassung!$G$5:$G$604,Erfassung!$C$5:$C$604,$A34,Erfassung!$A$5:$A$604,">="&DATE(YEAR($B$4),2,1),Erfassung!$A$5:$A$604,"<="&EOMONTH(DATE(YEAR($B$4),2,1),0))) | D34: =IF($A34="","",SUMIFS(Erfassung!$G$5:$G$604,Erfassung!$C$5:$C$604,$A34,Erfassung!$A$5:$A$604,">="&DATE(YEAR($B$4),3,1),Erfassung!$A$5:$A$604,"<="&EOMONTH(DATE(YEAR($B$4),3,1),0))) | E34: =IF($A34="","",SUMIFS(Erfassung!$G$5:$G$604,Erfassung!$C$5:$C$604,$A34,Erfassung!$A$5:$A$604,">="&DATE(YEAR($B$4),4,1),Erfassung!$A$5:$A$604,"<="&EOMONTH(DATE(YEAR($B$4),4,1),0))) | F34: =IF($A34="","",SUMIFS(Erfassung!$G$5:$G$604,Erfassung!$C$5:$C$604,$A34,Erfassung!$A$5:$A$604,">="&DATE(YEAR($B$4),5,1),Erfassung!$A$5:$A$604,"<="&EOMONTH(DATE(YEAR($B$4),5,1),0))) | G34: =IF($A34="","",SUMIFS(Erfassung!$G$5:$G$604,Erfassung!$C$5:$C$604,$A34,Erfassung!$A$5:$A$604,">="&DATE(YEAR($B$4),6,1),Erfassung!$A$5:$A$604,"<="&EOMONTH(DATE(YEAR($B$4),6,1),0))) | H34: =IF($A34="","",SUMIFS(Erfassung!$G$5:$G$604,Erfassung!$C$5:$C$604,$A34,Erfassung!$A$5:$A$604,">="&DATE(YEAR($B$4),7,1),Erfassung!$A$5:$A$604,"<="&EOMONTH(DATE(YEAR($B$4),7,1),0))) | I34: =IF($A34="","",SUMIFS(Erfassung!$G$5:$G$604,Erfassung!$C$5:$C$604,$A34,Erfassung!$A$5:$A$604,">="&DATE(YEAR($B$4),8,1),Erfassung!$A$5:$A$604,"<="&EOMONTH(DATE(YEAR($B$4),8,1),0))) | J34: =IF($A34="","",SUMIFS(Erfassung!$G$5:$G$604,Erfassung!$C$5:$C$604,$A34,Erfassung!$A$5:$A$604,">="&DATE(YEAR($B$4),9,1),Erfassung!$A$5:$A$604,"<="&EOMONTH(DATE(YEAR($B$4),9,1),0))) | K34: =IF($A34="","",SUMIFS(Erfassung!$G$5:$G$604,Erfassung!$C$5:$C$604,$A34,Erfassung!$A$5:$A$604,">="&DATE(YEAR($B$4),10,1),Erfassung!$A$5:$A$604,"<="&EOMONTH(DATE(YEAR($B$4),10,1),0))) | L34: =IF($A34="","",SUMIFS(Erfassung!$G$5:$G$604,Erfassung!$C$5:$C$604,$A34,Erfassung!$A$5:$A$604,">="&DATE(YEAR($B$4),11,1),Erfassung!$A$5:$A$604,"<="&EOMONTH(DATE(YEAR($B$4),11,1),0))) | M34: =IF($A34="","",SUMIFS(Erfassung!$G$5:$G$604,Erfassung!$C$5:$C$604,$A34,Erfassung!$A$5:$A$604,">="&DATE(YEAR($B$4),12,1),Erfassung!$A$5:$A$604,"<="&EOMONTH(DATE(YEAR($B$4),12,1),0))) | N34: =IF($A34="","",SUM(B34:M34))
A35: =IF(Team!A13="","",Team!A13) | B35: =IF($A35="","",SUMIFS(Erfassung!$G$5:$G$604,Erfassung!$C$5:$C$604,$A35,Erfassung!$A$5:$A$604,">="&DATE(YEAR($B$4),1,1),Erfassung!$A$5:$A$604,"<="&EOMONTH(DATE(YEAR($B$4),1,1),0))) | C35: =IF($A35="","",SUMIFS(Erfassung!$G$5:$G$604,Erfassung!$C$5:$C$604,$A35,Erfassung!$A$5:$A$604,">="&DATE(YEAR($B$4),2,1),Erfassung!$A$5:$A$604,"<="&EOMONTH(DATE(YEAR($B$4),2,1),0))) | D35: =IF($A35="","",SUMIFS(Erfassung!$G$5:$G$604,Erfassung!$C$5:$C$604,$A35,Erfassung!$A$5:$A$604,">="&DATE(YEAR($B$4),3,1),Erfassung!$A$5:$A$604,"<="&EOMONTH(DATE(YEAR($B$4),3,1),0))) | E35: =IF($A35="","",SUMIFS(Erfassung!$G$5:$G$604,Erfassung!$C$5:$C$604,$A35,Erfassung!$A$5:$A$604,">="&DATE(YEAR($B$4),4,1),Erfassung!$A$5:$A$604,"<="&EOMONTH(DATE(YEAR($B$4),4,1),0))) | F35: =IF($A35="","",SUMIFS(Erfassung!$G$5:$G$604,Erfassung!$C$5:$C$604,$A35,Erfassung!$A$5:$A$604,">="&DATE(YEAR($B$4),5,1),Erfassung!$A$5:$A$604,"<="&EOMONTH(DATE(YEAR($B$4),5,1),0))) | G35: =IF($A35="","",SUMIFS(Erfassung!$G$5:$G$604,Erfassung!$C$5:$C$604,$A35,Erfassung!$A$5:$A$604,">="&DATE(YEAR($B$4),6,1),Erfassung!$A$5:$A$604,"<="&EOMONTH(DATE(YEAR($B$4),6,1),0))) | H35: =IF($A35="","",SUMIFS(Erfassung!$G$5:$G$604,Erfassung!$C$5:$C$604,$A35,Erfassung!$A$5:$A$604,">="&DATE(YEAR($B$4),7,1),Erfassung!$A$5:$A$604,"<="&EOMONTH(DATE(YEAR($B$4),7,1),0))) | I35: =IF($A35="","",SUMIFS(Erfassung!$G$5:$G$604,Erfassung!$C$5:$C$604,$A35,Erfassung!$A$5:$A$604,">="&DATE(YEAR($B$4),8,1),Erfassung!$A$5:$A$604,"<="&EOMONTH(DATE(YEAR($B$4),8,1),0))) | J35: =IF($A35="","",SUMIFS(Erfassung!$G$5:$G$604,Erfassung!$C$5:$C$604,$A35,Erfassung!$A$5:$A$604,">="&DATE(YEAR($B$4),9,1),Erfassung!$A$5:$A$604,"<="&EOMONTH(DATE(YEAR($B$4),9,1),0))) | K35: =IF($A35="","",SUMIFS(Erfassung!$G$5:$G$604,Erfassung!$C$5:$C$604,$A35,Erfassung!$A$5:$A$604,">="&DATE(YEAR($B$4),10,1),Erfassung!$A$5:$A$604,"<="&EOMONTH(DATE(YEAR($B$4),10,1),0))) | L35: =IF($A35="","",SUMIFS(Erfassung!$G$5:$G$604,Erfassung!$C$5:$C$604,$A35,Erfassung!$A$5:$A$604,">="&DATE(YEAR($B$4),11,1),Erfassung!$A$5:$A$604,"<="&EOMONTH(DATE(YEAR($B$4),11,1),0))) | M35: =IF($A35="","",SUMIFS(Erfassung!$G$5:$G$604,Erfassung!$C$5:$C$604,$A35,Erfassung!$A$5:$A$604,">="&DATE(YEAR($B$4),12,1),Erfassung!$A$5:$A$604,"<="&EOMONTH(DATE(YEAR($B$4),12,1),0))) | N35: =IF($A35="","",SUM(B35:M35))
A36: =IF(Team!A14="","",Team!A14) | B36: =IF($A36="","",SUMIFS(Erfassung!$G$5:$G$604,Erfassung!$C$5:$C$604,$A36,Erfassung!$A$5:$A$604,">="&DATE(YEAR($B$4),1,1),Erfassung!$A$5:$A$604,"<="&EOMONTH(DATE(YEAR($B$4),1,1),0))) | C36: =IF($A36="","",SUMIFS(Erfassung!$G$5:$G$604,Erfassung!$C$5:$C$604,$A36,Erfassung!$A$5:$A$604,">="&DATE(YEAR($B$4),2,1),Erfassung!$A$5:$A$604,"<="&EOMONTH(DATE(YEAR($B$4),2,1),0))) | D36: =IF($A36="","",SUMIFS(Erfassung!$G$5:$G$604,Erfassung!$C$5:$C$604,$A36,Erfassung!$A$5:$A$604,">="&DATE(YEAR($B$4),3,1),Erfassung!$A$5:$A$604,"<="&EOMONTH(DATE(YEAR($B$4),3,1),0))) | E36: =IF($A36="","",SUMIFS(Erfassung!$G$5:$G$604,Erfassung!$C$5:$C$604,$A36,Erfassung!$A$5:$A$604,">="&DATE(YEAR($B$4),4,1),Erfassung!$A$5:$A$604,"<="&EOMONTH(DATE(YEAR($B$4),4,1),0))) | F36: =IF($A36="","",SUMIFS(Erfassung!$G$5:$G$604,Erfassung!$C$5:$C$604,$A36,Erfassung!$A$5:$A$604,">="&DATE(YEAR($B$4),5,1),Erfassung!$A$5:$A$604,"<="&EOMONTH(DATE(YEAR($B$4),5,1),0))) | G36: =IF($A36="","",SUMIFS(Erfassung!$G$5:$G$604,Erfassung!$C$5:$C$604,$A36,Erfassung!$A$5:$A$604,">="&DATE(YEAR($B$4),6,1),Erfassung!$A$5:$A$604,"<="&EOMONTH(DATE(YEAR($B$4),6,1),0))) | H36: =IF($A36="","",SUMIFS(Erfassung!$G$5:$G$604,Erfassung!$C$5:$C$604,$A36,Erfassung!$A$5:$A$604,">="&DATE(YEAR($B$4),7,1),Erfassung!$A$5:$A$604,"<="&EOMONTH(DATE(YEAR($B$4),7,1),0))) | I36: =IF($A36="","",SUMIFS(Erfassung!$G$5:$G$604,Erfassung!$C$5:$C$604,$A36,Erfassung!$A$5:$A$604,">="&DATE(YEAR($B$4),8,1),Erfassung!$A$5:$A$604,"<="&EOMONTH(DATE(YEAR($B$4),8,1),0))) | J36: =IF($A36="","",SUMIFS(Erfassung!$G$5:$G$604,Erfassung!$C$5:$C$604,$A36,Erfassung!$A$5:$A$604,">="&DATE(YEAR($B$4),9,1),Erfassung!$A$5:$A$604,"<="&EOMONTH(DATE(YEAR($B$4),9,1),0))) | K36: =IF($A36="","",SUMIFS(Erfassung!$G$5:$G$604,Erfassung!$C$5:$C$604,$A36,Erfassung!$A$5:$A$604,">="&DATE(YEAR($B$4),10,1),Erfassung!$A$5:$A$604,"<="&EOMONTH(DATE(YEAR($B$4),10,1),0))) | L36: =IF($A36="","",SUMIFS(Erfassung!$G$5:$G$604,Erfassung!$C$5:$C$604,$A36,Erfassung!$A$5:$A$604,">="&DATE(YEAR($B$4),11,1),Erfassung!$A$5:$A$604,"<="&EOMONTH(DATE(YEAR($B$4),11,1),0))) | M36: =IF($A36="","",SUMIFS(Erfassung!$G$5:$G$604,Erfassung!$C$5:$C$604,$A36,Erfassung!$A$5:$A$604,">="&DATE(YEAR($B$4),12,1),Erfassung!$A$5:$A$604,"<="&EOMONTH(DATE(YEAR($B$4),12,1),0))) | N36: =IF($A36="","",SUM(B36:M36))
A37: =IF(Team!A15="","",Team!A15) | B37: =IF($A37="","",SUMIFS(Erfassung!$G$5:$G$604,Erfassung!$C$5:$C$604,$A37,Erfassung!$A$5:$A$604,">="&DATE(YEAR($B$4),1,1),Erfassung!$A$5:$A$604,"<="&EOMONTH(DATE(YEAR($B$4),1,1),0))) | C37: =IF($A37="","",SUMIFS(Erfassung!$G$5:$G$604,Erfassung!$C$5:$C$604,$A37,Erfassung!$A$5:$A$604,">="&DATE(YEAR($B$4),2,1),Erfassung!$A$5:$A$604,"<="&EOMONTH(DATE(YEAR($B$4),2,1),0))) | D37: =IF($A37="","",SUMIFS(Erfassung!$G$5:$G$604,Erfassung!$C$5:$C$604,$A37,Erfassung!$A$5:$A$604,">="&DATE(YEAR($B$4),3,1),Erfassung!$A$5:$A$604,"<="&EOMONTH(DATE(YEAR($B$4),3,1),0))) | E37: =IF($A37="","",SUMIFS(Erfassung!$G$5:$G$604,Erfassung!$C$5:$C$604,$A37,Erfassung!$A$5:$A$604,">="&DATE(YEAR($B$4),4,1),Erfassung!$A$5:$A$604,"<="&EOMONTH(DATE(YEAR($B$4),4,1),0))) | F37: =IF($A37="","",SUMIFS(Erfassung!$G$5:$G$604,Erfassung!$C$5:$C$604,$A37,Erfassung!$A$5:$A$604,">="&DATE(YEAR($B$4),5,1),Erfassung!$A$5:$A$604,"<="&EOMONTH(DATE(YEAR($B$4),5,1),0))) | G37: =IF($A37="","",SUMIFS(Erfassung!$G$5:$G$604,Erfassung!$C$5:$C$604,$A37,Erfassung!$A$5:$A$604,">="&DATE(YEAR($B$4),6,1),Erfassung!$A$5:$A$604,"<="&EOMONTH(DATE(YEAR($B$4),6,1),0))) | H37: =IF($A37="","",SUMIFS(Erfassung!$G$5:$G$604,Erfassung!$C$5:$C$604,$A37,Erfassung!$A$5:$A$604,">="&DATE(YEAR($B$4),7,1),Erfassung!$A$5:$A$604,"<="&EOMONTH(DATE(YEAR($B$4),7,1),0))) | I37: =IF($A37="","",SUMIFS(Erfassung!$G$5:$G$604,Erfassung!$C$5:$C$604,$A37,Erfassung!$A$5:$A$604,">="&DATE(YEAR($B$4),8,1),Erfassung!$A$5:$A$604,"<="&EOMONTH(DATE(YEAR($B$4),8,1),0))) | J37: =IF($A37="","",SUMIFS(Erfassung!$G$5:$G$604,Erfassung!$C$5:$C$604,$A37,Erfassung!$A$5:$A$604,">="&DATE(YEAR($B$4),9,1),Erfassung!$A$5:$A$604,"<="&EOMONTH(DATE(YEAR($B$4),9,1),0))) | K37: =IF($A37="","",SUMIFS(Erfassung!$G$5:$G$604,Erfassung!$C$5:$C$604,$A37,Erfassung!$A$5:$A$604,">="&DATE(YEAR($B$4),10,1),Erfassung!$A$5:$A$604,"<="&EOMONTH(DATE(YEAR($B$4),10,1),0))) | L37: =IF($A37="","",SUMIFS(Erfassung!$G$5:$G$604,Erfassung!$C$5:$C$604,$A37,Erfassung!$A$5:$A$604,">="&DATE(YEAR($B$4),11,1),Erfassung!$A$5:$A$604,"<="&EOMONTH(DATE(YEAR($B$4),11,1),0))) | M37: =IF($A37="","",SUMIFS(Erfassung!$G$5:$G$604,Erfassung!$C$5:$C$604,$A37,Erfassung!$A$5:$A$604,">="&DATE(YEAR($B$4),12,1),Erfassung!$A$5:$A$604,"<="&EOMONTH(DATE(YEAR($B$4),12,1),0))) | N37: =IF($A37="","",SUM(B37:M37))
A38: =IF(Team!A16="","",Team!A16) | B38: =IF($A38="","",SUMIFS(Erfassung!$G$5:$G$604,Erfassung!$C$5:$C$604,$A38,Erfassung!$A$5:$A$604,">="&DATE(YEAR($B$4),1,1),Erfassung!$A$5:$A$604,"<="&EOMONTH(DATE(YEAR($B$4),1,1),0))) | C38: =IF($A38="","",SUMIFS(Erfassung!$G$5:$G$604,Erfassung!$C$5:$C$604,$A38,Erfassung!$A$5:$A$604,">="&DATE(YEAR($B$4),2,1),Erfassung!$A$5:$A$604,"<="&EOMONTH(DATE(YEAR($B$4),2,1),0))) | D38: =IF($A38="","",SUMIFS(Erfassung!$G$5:$G$604,Erfassung!$C$5:$C$604,$A38,Erfassung!$A$5:$A$604,">="&DATE(YEAR($B$4),3,1),Erfassung!$A$5:$A$604,"<="&EOMONTH(DATE(YEAR($B$4),3,1),0))) | E38: =IF($A38="","",SUMIFS(Erfassung!$G$5:$G$604,Erfassung!$C$5:$C$604,$A38,Erfassung!$A$5:$A$604,">="&DATE(YEAR($B$4),4,1),Erfassung!$A$5:$A$604,"<="&EOMONTH(DATE(YEAR($B$4),4,1),0))) | F38: =IF($A38="","",SUMIFS(Erfassung!$G$5:$G$604,Erfassung!$C$5:$C$604,$A38,Erfassung!$A$5:$A$604,">="&DATE(YEAR($B$4),5,1),Erfassung!$A$5:$A$604,"<="&EOMONTH(DATE(YEAR($B$4),5,1),0))) | G38: =IF($A38="","",SUMIFS(Erfassung!$G$5:$G$604,Erfassung!$C$5:$C$604,$A38,Erfassung!$A$5:$A$604,">="&DATE(YEAR($B$4),6,1),Erfassung!$A$5:$A$604,"<="&EOMONTH(DATE(YEAR($B$4),6,1),0))) | H38: =IF($A38="","",SUMIFS(Erfassung!$G$5:$G$604,Erfassung!$C$5:$C$604,$A38,Erfassung!$A$5:$A$604,">="&DATE(YEAR($B$4),7,1),Erfassung!$A$5:$A$604,"<="&EOMONTH(DATE(YEAR($B$4),7,1),0))) | I38: =IF($A38="","",SUMIFS(Erfassung!$G$5:$G$604,Erfassung!$C$5:$C$604,$A38,Erfassung!$A$5:$A$604,">="&DATE(YEAR($B$4),8,1),Erfassung!$A$5:$A$604,"<="&EOMONTH(DATE(YEAR($B$4),8,1),0))) | J38: =IF($A38="","",SUMIFS(Erfassung!$G$5:$G$604,Erfassung!$C$5:$C$604,$A38,Erfassung!$A$5:$A$604,">="&DATE(YEAR($B$4),9,1),Erfassung!$A$5:$A$604,"<="&EOMONTH(DATE(YEAR($B$4),9,1),0))) | K38: =IF($A38="","",SUMIFS(Erfassung!$G$5:$G$604,Erfassung!$C$5:$C$604,$A38,Erfassung!$A$5:$A$604,">="&DATE(YEAR($B$4),10,1),Erfassung!$A$5:$A$604,"<="&EOMONTH(DATE(YEAR($B$4),10,1),0))) | L38: =IF($A38="","",SUMIFS(Erfassung!$G$5:$G$604,Erfassung!$C$5:$C$604,$A38,Erfassung!$A$5:$A$604,">="&DATE(YEAR($B$4),11,1),Erfassung!$A$5:$A$604,"<="&EOMONTH(DATE(YEAR($B$4),11,1),0))) | M38: =IF($A38="","",SUMIFS(Erfassung!$G$5:$G$604,Erfassung!$C$5:$C$604,$A38,Erfassung!$A$5:$A$604,">="&DATE(YEAR($B$4),12,1),Erfassung!$A$5:$A$604,"<="&EOMONTH(DATE(YEAR($B$4),12,1),0))) | N38: =IF($A38="","",SUM(B38:M38))
... A41: =IF(Team!A19="","",Team!A19) | B41: =IF($A41="","",SUMIFS(Erfassung!$G$5:$G$604,Erfassung!$C$5:$C$604,$A41,Erfassung!$A$5:$A$604,">="&DATE(YEAR($B$4),1,1),Erfassung!$A$5:$A$604,"<="&EOMONTH(DATE(YEAR($B$4),1,1),0))) | C41: =IF($A41="","",SUMIFS(Erfassung!$G$5:$G$604,Erfassung!$C$5:$C$604,$A41,Erfassung!$A$5:$A$604,">="&DATE(YEAR($B$4),2,1),Erfassung!$A$5:$A$604,"<="&EOMONTH(DATE(YEAR($B$4),2,1),0))) | D41: =IF($A41="","",SUMIFS(Erfassung!$G$5:$G$604,Erfassung!$C$5:$C$604,$A41,Erfassung!$A$5:$A$604,">="&DATE(YEAR($B$4),3,1),Erfassung!$A$5:$A$604,"<="&EOMONTH(DATE(YEAR($B$4),3,1),0))) | E41: =IF($A41="","",SUMIFS(Erfassung!$G$5:$G$604,Erfassung!$C$5:$C$604,$A41,Erfassung!$A$5:$A$604,">="&DATE(YEAR($B$4),4,1),Erfassung!$A$5:$A$604,"<="&EOMONTH(DATE(YEAR($B$4),4,1),0))) | F41: =IF($A41="","",SUMIFS(Erfassung!$G$5:$G$604,Erfassung!$C$5:$C$604,$A41,Erfassung!$A$5:$A$604,">="&DATE(YEAR($B$4),5,1),Erfassung!$A$5:$A$604,"<="&EOMONTH(DATE(YEAR($B$4),5,1),0))) | G41: =IF($A41="","",SUMIFS(Erfassung!$G$5:$G$604,Erfassung!$C$5:$C$604,$A41,Erfassung!$A$5:$A$604,">="&DATE(YEAR($B$4),6,1),Erfassung!$A$5:$A$604,"<="&EOMONTH(DATE(YEAR($B$4),6,1),0))) | H41: =IF($A41="","",SUMIFS(Erfassung!$G$5:$G$604,Erfassung!$C$5:$C$604,$A41,Erfassung!$A$5:$A$604,">="&DATE(YEAR($B$4),7,1),Erfassung!$A$5:$A$604,"<="&EOMONTH(DATE(YEAR($B$4),7,1),0))) | I41: =IF($A41="","",SUMIFS(Erfassung!$G$5:$G$604,Erfassung!$C$5:$C$604,$A41,Erfassung!$A$5:$A$604,">="&DATE(YEAR($B$4),8,1),Erfassung!$A$5:$A$604,"<="&EOMONTH(DATE(YEAR($B$4),8,1),0))) | J41: =IF($A41="","",SUMIFS(Erfassung!$G$5:$G$604,Erfassung!$C$5:$C$604,$A41,Erfassung!$A$5:$A$604,">="&DATE(YEAR($B$4),9,1),Erfassung!$A$5:$A$604,"<="&EOMONTH(DATE(YEAR($B$4),9,1),0))) | K41: =IF($A41="","",SUMIFS(Erfassung!$G$5:$G$604,Erfassung!$C$5:$C$604,$A41,Erfassung!$A$5:$A$604,">="&DATE(YEAR($B$4),10,1),Erfassung!$A$5:$A$604,"<="&EOMONTH(DATE(YEAR($B$4),10,1),0))) | L41: =IF($A41="","",SUMIFS(Erfassung!$G$5:$G$604,Erfassung!$C$5:$C$604,$A41,Erfassung!$A$5:$A$604,">="&DATE(YEAR($B$4),11,1),Erfassung!$A$5:$A$604,"<="&EOMONTH(DATE(YEAR($B$4),11,1),0))) | M41: =IF($A41="","",SUMIFS(Erfassung!$G$5:$G$604,Erfassung!$C$5:$C$604,$A41,Erfassung!$A$5:$A$604,">="&DATE(YEAR($B$4),12,1),Erfassung!$A$5:$A$604,"<="&EOMONTH(DATE(YEAR($B$4),12,1),0))) | N41: =IF($A41="","",SUM(B41:M41))
A43: Beispiel: November 2026 in einem Restaurant mit vier Personen, eine davon in Teilzeit, eine mit Spätdienst bis Mitternacht. Feiertage tragen Sie im Blatt Erfassung mit F ein, sie senken das Soll des Tages.
A45: Stunden ohne Abtippen: Stempeluhr und Dienstplan in einer App: inshift.app/de/

Sheet Team
A1: Team
A2: Namen, Personalnummer und Soll pro Arbeitstag in die gelben Felder. Die Namen erscheinen im Blatt Erfassung als Auswahlliste.
A4: Name | B4: Personalnummer | C4: Abteilung | D4: Soll pro Arbeitstag (Std.)
A5: Becker, Laura | B5: 1001 | C5: Service | D5: 8
A6: Schulz, Tim | B6: 1002 | C6: Küche | D6: 8
A7: Yilmaz, Elif | B7: 1003 | C7: Küche | D7: 6
A8: Wagner, Jonas | B8: 1004 | C8: Theke | D8: 8
