Workbook

Sheet Übersicht
A1: Urlaubsplaner 2027: Übersicht
A2: Jahr, Team und Urlaubsanspruch hier eintragen, die Monatsblätter übernehmen Namen und Jahr. Genommene Tage und Resturlaub werden aus den Monatsblättern berechnet.
A3: Jahr | B3: 2027
A4: Höchstens gleichzeitig abwesend | B4: 2
A7: Mitarbeiter/in | B7: Abteilung | C7: Anspruch (Tage) | D7: Übertrag Vorjahr | E7: Urlaub genommen und geplant | F7: Resturlaub | G7: Krank (Tage)
A8: Anna Becker | B8: Service | C8: 30 | D8: 2 | E8: ='Jan'!$AH$8+'Feb'!$AH$8+'Mär'!$AH$8+'Apr'!$AH$8+'Mai'!$AH$8+'Jun'!$AH$8+'Jul'!$AH$8+'Aug'!$AH$8+'Sep'!$AH$8+'Okt'!$AH$8+'Nov'!$AH$8+'Dez'!$AH$8 -> 16 | F8: =IF(A8="","",IF(ISNUMBER(C8),C8,0)+IF(ISNUMBER(D8),D8,0)-E8) -> 16 | G8: ='Jan'!$AI$8+'Feb'!$AI$8+'Mär'!$AI$8+'Apr'!$AI$8+'Mai'!$AI$8+'Jun'!$AI$8+'Jul'!$AI$8+'Aug'!$AI$8+'Sep'!$AI$8+'Okt'!$AI$8+'Nov'!$AI$8+'Dez'!$AI$8 -> 0
A9: Jonas Klein | B9: Service | C9: 30 | D9: 0 | E9: ='Jan'!$AH$9+'Feb'!$AH$9+'Mär'!$AH$9+'Apr'!$AH$9+'Mai'!$AH$9+'Jun'!$AH$9+'Jul'!$AH$9+'Aug'!$AH$9+'Sep'!$AH$9+'Okt'!$AH$9+'Nov'!$AH$9+'Dez'!$AH$9 -> 13 | F9: =IF(A9="","",IF(ISNUMBER(C9),C9,0)+IF(ISNUMBER(D9),D9,0)-E9) -> 17 | G9: ='Jan'!$AI$9+'Feb'!$AI$9+'Mär'!$AI$9+'Apr'!$AI$9+'Mai'!$AI$9+'Jun'!$AI$9+'Jul'!$AI$9+'Aug'!$AI$9+'Sep'!$AI$9+'Okt'!$AI$9+'Nov'!$AI$9+'Dez'!$AI$9 -> 2
A10: Lea Schmidt | B10: Küche | C10: 28 | D10: 3 | E10: ='Jan'!$AH$10+'Feb'!$AH$10+'Mär'!$AH$10+'Apr'!$AH$10+'Mai'!$AH$10+'Jun'!$AH$10+'Jul'!$AH$10+'Aug'!$AH$10+'Sep'!$AH$10+'Okt'!$AH$10+'Nov'!$AH$10+'Dez'!$AH$10 -> 21 | F10: =IF(A10="","",IF(ISNUMBER(C10),C10,0)+IF(ISNUMBER(D10),D10,0)-E10) -> 10 | G10: ='Jan'!$AI$10+'Feb'!$AI$10+'Mär'!$AI$10+'Apr'!$AI$10+'Mai'!$AI$10+'Jun'!$AI$10+'Jul'!$AI$10+'Aug'!$AI$10+'Sep'!$AI$10+'Okt'!$AI$10+'Nov'!$AI$10+'Dez'!$AI$10 -> 0
A11: David Meyer | B11: Küche | C11: 28 | D11: 0 | E11: ='Jan'!$AH$11+'Feb'!$AH$11+'Mär'!$AH$11+'Apr'!$AH$11+'Mai'!$AH$11+'Jun'!$AH$11+'Jul'!$AH$11+'Aug'!$AH$11+'Sep'!$AH$11+'Okt'!$AH$11+'Nov'!$AH$11+'Dez'!$AH$11 -> 13 | F11: =IF(A11="","",IF(ISNUMBER(C11),C11,0)+IF(ISNUMBER(D11),D11,0)-E11) -> 15 | G11: ='Jan'!$AI$11+'Feb'!$AI$11+'Mär'!$AI$11+'Apr'!$AI$11+'Mai'!$AI$11+'Jun'!$AI$11+'Jul'!$AI$11+'Aug'!$AI$11+'Sep'!$AI$11+'Okt'!$AI$11+'Nov'!$AI$11+'Dez'!$AI$11 -> 3
A12: Sophie Wagner | B12: Theke | C12: 25 | D12: 0 | E12: ='Jan'!$AH$12+'Feb'!$AH$12+'Mär'!$AH$12+'Apr'!$AH$12+'Mai'!$AH$12+'Jun'!$AH$12+'Jul'!$AH$12+'Aug'!$AH$12+'Sep'!$AH$12+'Okt'!$AH$12+'Nov'!$AH$12+'Dez'!$AH$12 -> 9.5 | F12: =IF(A12="","",IF(ISNUMBER(C12),C12,0)+IF(ISNUMBER(D12),D12,0)-E12) -> 15.5 | G12: ='Jan'!$AI$12+'Feb'!$AI$12+'Mär'!$AI$12+'Apr'!$AI$12+'Mai'!$AI$12+'Jun'!$AI$12+'Jul'!$AI$12+'Aug'!$AI$12+'Sep'!$AI$12+'Okt'!$AI$12+'Nov'!$AI$12+'Dez'!$AI$12 -> 0
A13: Ben Fischer | B13: Aushilfe | C13: 20 | D13: 0 | E13: ='Jan'!$AH$13+'Feb'!$AH$13+'Mär'!$AH$13+'Apr'!$AH$13+'Mai'!$AH$13+'Jun'!$AH$13+'Jul'!$AH$13+'Aug'!$AH$13+'Sep'!$AH$13+'Okt'!$AH$13+'Nov'!$AH$13+'Dez'!$AH$13 -> 4 | F13: =IF(A13="","",IF(ISNUMBER(C13),C13,0)+IF(ISNUMBER(D13),D13,0)-E13) -> 16 | G13: ='Jan'!$AI$13+'Feb'!$AI$13+'Mär'!$AI$13+'Apr'!$AI$13+'Mai'!$AI$13+'Jun'!$AI$13+'Jul'!$AI$13+'Aug'!$AI$13+'Sep'!$AI$13+'Okt'!$AI$13+'Nov'!$AI$13+'Dez'!$AI$13 -> 0
E14: ='Jan'!$AH$14+'Feb'!$AH$14+'Mär'!$AH$14+'Apr'!$AH$14+'Mai'!$AH$14+'Jun'!$AH$14+'Jul'!$AH$14+'Aug'!$AH$14+'Sep'!$AH$14+'Okt'!$AH$14+'Nov'!$AH$14+'Dez'!$AH$14 -> 0 | F14: =IF(A14="","",IF(ISNUMBER(C14),C14,0)+IF(ISNUMBER(D14),D14,0)-E14) | G14: ='Jan'!$AI$14+'Feb'!$AI$14+'Mär'!$AI$14+'Apr'!$AI$14+'Mai'!$AI$14+'Jun'!$AI$14+'Jul'!$AI$14+'Aug'!$AI$14+'Sep'!$AI$14+'Okt'!$AI$14+'Nov'!$AI$14+'Dez'!$AI$14 -> 0
E15: ='Jan'!$AH$15+'Feb'!$AH$15+'Mär'!$AH$15+'Apr'!$AH$15+'Mai'!$AH$15+'Jun'!$AH$15+'Jul'!$AH$15+'Aug'!$AH$15+'Sep'!$AH$15+'Okt'!$AH$15+'Nov'!$AH$15+'Dez'!$AH$15 -> 0 | F15: =IF(A15="","",IF(ISNUMBER(C15),C15,0)+IF(ISNUMBER(D15),D15,0)-E15) | G15: ='Jan'!$AI$15+'Feb'!$AI$15+'Mär'!$AI$15+'Apr'!$AI$15+'Mai'!$AI$15+'Jun'!$AI$15+'Jul'!$AI$15+'Aug'!$AI$15+'Sep'!$AI$15+'Okt'!$AI$15+'Nov'!$AI$15+'Dez'!$AI$15 -> 0
E16: ='Jan'!$AH$16+'Feb'!$AH$16+'Mär'!$AH$16+'Apr'!$AH$16+'Mai'!$AH$16+'Jun'!$AH$16+'Jul'!$AH$16+'Aug'!$AH$16+'Sep'!$AH$16+'Okt'!$AH$16+'Nov'!$AH$16+'Dez'!$AH$16 -> 0 | F16: =IF(A16="","",IF(ISNUMBER(C16),C16,0)+IF(ISNUMBER(D16),D16,0)-E16) | G16: ='Jan'!$AI$16+'Feb'!$AI$16+'Mär'!$AI$16+'Apr'!$AI$16+'Mai'!$AI$16+'Jun'!$AI$16+'Jul'!$AI$16+'Aug'!$AI$16+'Sep'!$AI$16+'Okt'!$AI$16+'Nov'!$AI$16+'Dez'!$AI$16 -> 0
E17: ='Jan'!$AH$17+'Feb'!$AH$17+'Mär'!$AH$17+'Apr'!$AH$17+'Mai'!$AH$17+'Jun'!$AH$17+'Jul'!$AH$17+'Aug'!$AH$17+'Sep'!$AH$17+'Okt'!$AH$17+'Nov'!$AH$17+'Dez'!$AH$17 -> 0 | F17: =IF(A17="","",IF(ISNUMBER(C17),C17,0)+IF(ISNUMBER(D17),D17,0)-E17) | G17: ='Jan'!$AI$17+'Feb'!$AI$17+'Mär'!$AI$17+'Apr'!$AI$17+'Mai'!$AI$17+'Jun'!$AI$17+'Jul'!$AI$17+'Aug'!$AI$17+'Sep'!$AI$17+'Okt'!$AI$17+'Nov'!$AI$17+'Dez'!$AI$17 -> 0
E18: ='Jan'!$AH$18+'Feb'!$AH$18+'Mär'!$AH$18+'Apr'!$AH$18+'Mai'!$AH$18+'Jun'!$AH$18+'Jul'!$AH$18+'Aug'!$AH$18+'Sep'!$AH$18+'Okt'!$AH$18+'Nov'!$AH$18+'Dez'!$AH$18 -> 0 | F18: =IF(A18="","",IF(ISNUMBER(C18),C18,0)+IF(ISNUMBER(D18),D18,0)-E18) | G18: ='Jan'!$AI$18+'Feb'!$AI$18+'Mär'!$AI$18+'Apr'!$AI$18+'Mai'!$AI$18+'Jun'!$AI$18+'Jul'!$AI$18+'Aug'!$AI$18+'Sep'!$AI$18+'Okt'!$AI$18+'Nov'!$AI$18+'Dez'!$AI$18 -> 0
E19: ='Jan'!$AH$19+'Feb'!$AH$19+'Mär'!$AH$19+'Apr'!$AH$19+'Mai'!$AH$19+'Jun'!$AH$19+'Jul'!$AH$19+'Aug'!$AH$19+'Sep'!$AH$19+'Okt'!$AH$19+'Nov'!$AH$19+'Dez'!$AH$19 -> 0 | F19: =IF(A19="","",IF(ISNUMBER(C19),C19,0)+IF(ISNUMBER(D19),D19,0)-E19) | G19: ='Jan'!$AI$19+'Feb'!$AI$19+'Mär'!$AI$19+'Apr'!$AI$19+'Mai'!$AI$19+'Jun'!$AI$19+'Jul'!$AI$19+'Aug'!$AI$19+'Sep'!$AI$19+'Okt'!$AI$19+'Nov'!$AI$19+'Dez'!$AI$19 -> 0
A21: Beispiel: ein Team aus sechs Personen mit eigenem Anspruch. Resturlaub ist Anspruch plus Übertrag minus genommen und geplant; wird er negativ, färbt er sich rot. Wie viele Urlaubstage jemand hat, steht im Arbeitsvertrag: Tragen Sie die Zahl in Gelb ein.
A23: Urlaub per App beantragen und mit einem Tipp genehmigen? In InShift zeigt der Dienstplan, wer fehlt: inshift.app/de/

Sheet Jan
A1: Urlaubsplaner Januar 2027
A2: Kürzel je Tag: U Urlaub, H halber Urlaubstag, K krank. Feiertage und Betriebsruhe in der gelben Zeile oben mit x markieren. Namen und Jahr stehen auf dem Blatt Übersicht.
A4: Feiertag, Betriebsruhe (x)
A6: Mitarbeiter/in | B6: Abteilung | C6: =IF(ISNUMBER(C$7),CHOOSE(WEEKDAY(C$7),"So","Mo","Di","Mi","Do","Fr","Sa"),"") -> Fr | D6: =IF(ISNUMBER(D$7),CHOOSE(WEEKDAY(D$7),"So","Mo","Di","Mi","Do","Fr","Sa"),"") -> Sa | E6: =IF(ISNUMBER(E$7),CHOOSE(WEEKDAY(E$7),"So","Mo","Di","Mi","Do","Fr","Sa"),"") -> So | F6: =IF(ISNUMBER(F$7),CHOOSE(WEEKDAY(F$7),"So","Mo","Di","Mi","Do","Fr","Sa"),"") -> Mo | G6: =IF(ISNUMBER(G$7),CHOOSE(WEEKDAY(G$7),"So","Mo","Di","Mi","Do","Fr","Sa"),"") -> Di | H6: =IF(ISNUMBER(H$7),CHOOSE(WEEKDAY(H$7),"So","Mo","Di","Mi","Do","Fr","Sa"),"") -> Mi | I6: =IF(ISNUMBER(I$7),CHOOSE(WEEKDAY(I$7),"So","Mo","Di","Mi","Do","Fr","Sa"),"") -> Do | J6: =IF(ISNUMBER(J$7),CHOOSE(WEEKDAY(J$7),"So","Mo","Di","Mi","Do","Fr","Sa"),"") -> Fr | ... AG6: =IF(ISNUMBER(AG$7),CHOOSE(WEEKDAY(AG$7),"So","Mo","Di","Mi","Do","Fr","Sa"),"") -> So | AH6: Urlaub (Tage) | AI6: Krank (Tage)
C7: =IF(MONTH(DATE('Übersicht'!$B$3,1,1))=1,DATE('Übersicht'!$B$3,1,1),"") -> 46388 | D7: =IF(MONTH(DATE('Übersicht'!$B$3,1,2))=1,DATE('Übersicht'!$B$3,1,2),"") -> 46389 | E7: =IF(MONTH(DATE('Übersicht'!$B$3,1,3))=1,DATE('Übersicht'!$B$3,1,3),"") -> 46390 | F7: =IF(MONTH(DATE('Übersicht'!$B$3,1,4))=1,DATE('Übersicht'!$B$3,1,4),"") -> 46391 | G7: =IF(MONTH(DATE('Übersicht'!$B$3,1,5))=1,DATE('Übersicht'!$B$3,1,5),"") -> 46392 | H7: =IF(MONTH(DATE('Übersicht'!$B$3,1,6))=1,DATE('Übersicht'!$B$3,1,6),"") -> 46393 | I7: =IF(MONTH(DATE('Übersicht'!$B$3,1,7))=1,DATE('Übersicht'!$B$3,1,7),"") -> 46394 | J7: =IF(MONTH(DATE('Übersicht'!$B$3,1,8))=1,DATE('Übersicht'!$B$3,1,8),"") -> 46395 | K7: =IF(MONTH(DATE('Übersicht'!$B$3,1,9))=1,DATE('Übersicht'!$B$3,1,9),"") -> 46396 | L7: =IF(MONTH(DATE('Übersicht'!$B$3,1,10))=1,DATE('Übersicht'!$B$3,1,10),"") -> 46397 | M7: =IF(MONTH(DATE('Übersicht'!$B$3,1,11))=1,DATE('Übersicht'!$B$3,1,11),"") -> 46398 | N7: =IF(MONTH(DATE('Übersicht'!$B$3,1,12))=1,DATE('Übersicht'!$B$3,1,12),"") -> 46399 | O7: =IF(MONTH(DATE('Übersicht'!$B$3,1,13))=1,DATE('Übersicht'!$B$3,1,13),"") -> 46400 | P7: =IF(MONTH(DATE('Übersicht'!$B$3,1,14))=1,DATE('Übersicht'!$B$3,1,14),"") -> 46401 | Q7: =IF(MONTH(DATE('Übersicht'!$B$3,1,15))=1,DATE('Übersicht'!$B$3,1,15),"") -> 46402 | R7: =IF(MONTH(DATE('Übersicht'!$B$3,1,16))=1,DATE('Übersicht'!$B$3,1,16),"") -> 46403 | S7: =IF(MONTH(DATE('Übersicht'!$B$3,1,17))=1,DATE('Übersicht'!$B$3,1,17),"") -> 46404 | T7: =IF(MONTH(DATE('Übersicht'!$B$3,1,18))=1,DATE('Übersicht'!$B$3,1,18),"") -> 46405 | U7: =IF(MONTH(DATE('Übersicht'!$B$3,1,19))=1,DATE('Übersicht'!$B$3,1,19),"") -> 46406 | V7: =IF(MONTH(DATE('Übersicht'!$B$3,1,20))=1,DATE('Übersicht'!$B$3,1,20),"") -> 46407 | W7: =IF(MONTH(DATE('Übersicht'!$B$3,1,21))=1,DATE('Übersicht'!$B$3,1,21),"") -> 46408 | X7: =IF(MONTH(DATE('Übersicht'!$B$3,1,22))=1,DATE('Übersicht'!$B$3,1,22),"") -> 46409 | Y7: =IF(MONTH(DATE('Übersicht'!$B$3,1,23))=1,DATE('Übersicht'!$B$3,1,23),"") -> 46410 | Z7: =IF(MONTH(DATE('Übersicht'!$B$3,1,24))=1,DATE('Übersicht'!$B$3,1,24),"") -> 46411 | AA7: =IF(MONTH(DATE('Übersicht'!$B$3,1,25))=1,DATE('Übersicht'!$B$3,1,25),"") -> 46412 | AB7: =IF(MONTH(DATE('Übersicht'!$B$3,1,26))=1,DATE('Übersicht'!$B$3,1,26),"") -> 46413 | AC7: =IF(MONTH(DATE('Übersicht'!$B$3,1,27))=1,DATE('Übersicht'!$B$3,1,27),"") -> 46414 | AD7: =IF(MONTH(DATE('Übersicht'!$B$3,1,28))=1,DATE('Übersicht'!$B$3,1,28),"") -> 46415 | AE7: =IF(MONTH(DATE('Übersicht'!$B$3,1,29))=1,DATE('Übersicht'!$B$3,1,29),"") -> 46416 | AF7: =IF(MONTH(DATE('Übersicht'!$B$3,1,30))=1,DATE('Übersicht'!$B$3,1,30),"") -> 46417 | AG7: =IF(MONTH(DATE('Übersicht'!$B$3,1,31))=1,DATE('Übersicht'!$B$3,1,31),"") -> 46418
A8: =IF('Übersicht'!$A$8="","",'Übersicht'!$A$8) -> Anna Becker | B8: =IF('Übersicht'!$B$8="","",'Übersicht'!$B$8) -> Service | AH8: =COUNTIF(C8:AG8,"U")+COUNTIF(C8:AG8,"H")/2 -> 0 | AI8: =COUNTIF(C8:AG8,"K") -> 0
A9: =IF('Übersicht'!$A$9="","",'Übersicht'!$A$9) -> Jonas Klein | B9: =IF('Übersicht'!$B$9="","",'Übersicht'!$B$9) -> Service | AH9: =COUNTIF(C9:AG9,"U")+COUNTIF(C9:AG9,"H")/2 -> 0 | AI9: =COUNTIF(C9:AG9,"K") -> 0
A10: =IF('Übersicht'!$A$10="","",'Übersicht'!$A$10) -> Lea Schmidt | B10: =IF('Übersicht'!$B$10="","",'Übersicht'!$B$10) -> Küche | AH10: =COUNTIF(C10:AG10,"U")+COUNTIF(C10:AG10,"H")/2 -> 0 | AI10: =COUNTIF(C10:AG10,"K") -> 0
A11: =IF('Übersicht'!$A$11="","",'Übersicht'!$A$11) -> David Meyer | B11: =IF('Übersicht'!$B$11="","",'Übersicht'!$B$11) -> Küche | AH11: =COUNTIF(C11:AG11,"U")+COUNTIF(C11:AG11,"H")/2 -> 0 | AI11: =COUNTIF(C11:AG11,"K") -> 0
A12: =IF('Übersicht'!$A$12="","",'Übersicht'!$A$12) -> Sophie Wagner | B12: =IF('Übersicht'!$B$12="","",'Übersicht'!$B$12) -> Theke | AH12: =COUNTIF(C12:AG12,"U")+COUNTIF(C12:AG12,"H")/2 -> 0 | AI12: =COUNTIF(C12:AG12,"K") -> 0
A13: =IF('Übersicht'!$A$13="","",'Übersicht'!$A$13) -> Ben Fischer | B13: =IF('Übersicht'!$B$13="","",'Übersicht'!$B$13) -> Aushilfe | AH13: =COUNTIF(C13:AG13,"U")+COUNTIF(C13:AG13,"H")/2 -> 0 | AI13: =COUNTIF(C13:AG13,"K") -> 0
A14: =IF('Übersicht'!$A$14="","",'Übersicht'!$A$14) | B14: =IF('Übersicht'!$B$14="","",'Übersicht'!$B$14) | AH14: =COUNTIF(C14:AG14,"U")+COUNTIF(C14:AG14,"H")/2 -> 0 | AI14: =COUNTIF(C14:AG14,"K") -> 0
A15: =IF('Übersicht'!$A$15="","",'Übersicht'!$A$15) | B15: =IF('Übersicht'!$B$15="","",'Übersicht'!$B$15) | AH15: =COUNTIF(C15:AG15,"U")+COUNTIF(C15:AG15,"H")/2 -> 0 | AI15: =COUNTIF(C15:AG15,"K") -> 0
A16: =IF('Übersicht'!$A$16="","",'Übersicht'!$A$16) | B16: =IF('Übersicht'!$B$16="","",'Übersicht'!$B$16) | AH16: =COUNTIF(C16:AG16,"U")+COUNTIF(C16:AG16,"H")/2 -> 0 | AI16: =COUNTIF(C16:AG16,"K") -> 0
A17: =IF('Übersicht'!$A$17="","",'Übersicht'!$A$17) | B17: =IF('Übersicht'!$B$17="","",'Übersicht'!$B$17) | AH17: =COUNTIF(C17:AG17,"U")+COUNTIF(C17:AG17,"H")/2 -> 0 | AI17: =COUNTIF(C17:AG17,"K") -> 0
A18: =IF('Übersicht'!$A$18="","",'Übersicht'!$A$18) | B18: =IF('Übersicht'!$B$18="","",'Übersicht'!$B$18) | AH18: =COUNTIF(C18:AG18,"U")+COUNTIF(C18:AG18,"H")/2 -> 0 | AI18: =COUNTIF(C18:AG18,"K") -> 0
A19: =IF('Übersicht'!$A$19="","",'Übersicht'!$A$19) | B19: =IF('Übersicht'!$B$19="","",'Übersicht'!$B$19) | AH19: =COUNTIF(C19:AG19,"U")+COUNTIF(C19:AG19,"H")/2 -> 0 | AI19: =COUNTIF(C19:AG19,"K") -> 0
A20: Abwesend | C20: =COUNTIF(C8:C19,"U")+COUNTIF(C8:C19,"H")+COUNTIF(C8:C19,"K") -> 0 | D20: =COUNTIF(D8:D19,"U")+COUNTIF(D8:D19,"H")+COUNTIF(D8:D19,"K") -> 0 | E20: =COUNTIF(E8:E19,"U")+COUNTIF(E8:E19,"H")+COUNTIF(E8:E19,"K") -> 0 | F20: =COUNTIF(F8:F19,"U")+COUNTIF(F8:F19,"H")+COUNTIF(F8:F19,"K") -> 0 | G20: =COUNTIF(G8:G19,"U")+COUNTIF(G8:G19,"H")+COUNTIF(G8:G19,"K") -> 0 | H20: =COUNTIF(H8:H19,"U")+COUNTIF(H8:H19,"H")+COUNTIF(H8:H19,"K") -> 0 | I20: =COUNTIF(I8:I19,"U")+COUNTIF(I8:I19,"H")+COUNTIF(I8:I19,"K") -> 0 | J20: =COUNTIF(J8:J19,"U")+COUNTIF(J8:J19,"H")+COUNTIF(J8:J19,"K") -> 0 | ... AG20: =COUNTIF(AG8:AG19,"U")+COUNTIF(AG8:AG19,"H")+COUNTIF(AG8:AG19,"K") -> 0 | AH20: ='Übersicht'!$B$4 -> 2
A22: U nur an Arbeitstagen eintragen: Wochenenden sind grau, Feiertage markieren Sie oben mit x. Urlaub (Tage) zählt U als ganzen und H als halben Tag, die Summe geht in die Übersicht. Rot in der Zeile Abwesend: an diesem Tag fehlen mehr Personen als auf der Übersicht erlaubt.

Sheet Feb
A1: Urlaubsplaner Februar 2027
A2: Kürzel je Tag: U Urlaub, H halber Urlaubstag, K krank. Feiertage und Betriebsruhe in der gelben Zeile oben mit x markieren. Namen und Jahr stehen auf dem Blatt Übersicht.
A4: Feiertag, Betriebsruhe (x)
A6: Mitarbeiter/in | B6: Abteilung | C6: =IF(ISNUMBER(C$7),CHOOSE(WEEKDAY(C$7),"So","Mo","Di","Mi","Do","Fr","Sa"),"") -> Mo | D6: =IF(ISNUMBER(D$7),CHOOSE(WEEKDAY(D$7),"So","Mo","Di","Mi","Do","Fr","Sa"),"") -> Di | E6: =IF(ISNUMBER(E$7),CHOOSE(WEEKDAY(E$7),"So","Mo","Di","Mi","Do","Fr","Sa"),"") -> Mi | F6: =IF(ISNUMBER(F$7),CHOOSE(WEEKDAY(F$7),"So","Mo","Di","Mi","Do","Fr","Sa"),"") -> Do | G6: =IF(ISNUMBER(G$7),CHOOSE(WEEKDAY(G$7),"So","Mo","Di","Mi","Do","Fr","Sa"),"") -> Fr | H6: =IF(ISNUMBER(H$7),CHOOSE(WEEKDAY(H$7),"So","Mo","Di","Mi","Do","Fr","Sa"),"") -> Sa | I6: =IF(ISNUMBER(I$7),CHOOSE(WEEKDAY(I$7),"So","Mo","Di","Mi","Do","Fr","Sa"),"") -> So | J6: =IF(ISNUMBER(J$7),CHOOSE(WEEKDAY(J$7),"So","Mo","Di","Mi","Do","Fr","Sa"),"") -> Mo | ... AG6: =IF(ISNUMBER(AG$7),CHOOSE(WEEKDAY(AG$7),"So","Mo","Di","Mi","Do","Fr","Sa"),"") | AH6: Urlaub (Tage) | AI6: Krank (Tage)
C7: =IF(MONTH(DATE('Übersicht'!$B$3,2,1))=2,DATE('Übersicht'!$B$3,2,1),"") -> 46419 | D7: =IF(MONTH(DATE('Übersicht'!$B$3,2,2))=2,DATE('Übersicht'!$B$3,2,2),"") -> 46420 | E7: =IF(MONTH(DATE('Übersicht'!$B$3,2,3))=2,DATE('Übersicht'!$B$3,2,3),"") -> 46421 | F7: =IF(MONTH(DATE('Übersicht'!$B$3,2,4))=2,DATE('Übersicht'!$B$3,2,4),"") -> 46422 | G7: =IF(MONTH(DATE('Übersicht'!$B$3,2,5))=2,DATE('Übersicht'!$B$3,2,5),"") -> 46423 | H7: =IF(MONTH(DATE('Übersicht'!$B$3,2,6))=2,DATE('Übersicht'!$B$3,2,6),"") -> 46424 | I7: =IF(MONTH(DATE('Übersicht'!$B$3,2,7))=2,DATE('Übersicht'!$B$3,2,7),"") -> 46425 | J7: =IF(MONTH(DATE('Übersicht'!$B$3,2,8))=2,DATE('Übersicht'!$B$3,2,8),"") -> 46426 | K7: =IF(MONTH(DATE('Übersicht'!$B$3,2,9))=2,DATE('Übersicht'!$B$3,2,9),"") -> 46427 | L7: =IF(MONTH(DATE('Übersicht'!$B$3,2,10))=2,DATE('Übersicht'!$B$3,2,10),"") -> 46428 | M7: =IF(MONTH(DATE('Übersicht'!$B$3,2,11))=2,DATE('Übersicht'!$B$3,2,11),"") -> 46429 | N7: =IF(MONTH(DATE('Übersicht'!$B$3,2,12))=2,DATE('Übersicht'!$B$3,2,12),"") -> 46430 | O7: =IF(MONTH(DATE('Übersicht'!$B$3,2,13))=2,DATE('Übersicht'!$B$3,2,13),"") -> 46431 | P7: =IF(MONTH(DATE('Übersicht'!$B$3,2,14))=2,DATE('Übersicht'!$B$3,2,14),"") -> 46432 | Q7: =IF(MONTH(DATE('Übersicht'!$B$3,2,15))=2,DATE('Übersicht'!$B$3,2,15),"") -> 46433 | R7: =IF(MONTH(DATE('Übersicht'!$B$3,2,16))=2,DATE('Übersicht'!$B$3,2,16),"") -> 46434 | S7: =IF(MONTH(DATE('Übersicht'!$B$3,2,17))=2,DATE('Übersicht'!$B$3,2,17),"") -> 46435 | T7: =IF(MONTH(DATE('Übersicht'!$B$3,2,18))=2,DATE('Übersicht'!$B$3,2,18),"") -> 46436 | U7: =IF(MONTH(DATE('Übersicht'!$B$3,2,19))=2,DATE('Übersicht'!$B$3,2,19),"") -> 46437 | V7: =IF(MONTH(DATE('Übersicht'!$B$3,2,20))=2,DATE('Übersicht'!$B$3,2,20),"") -> 46438 | W7: =IF(MONTH(DATE('Übersicht'!$B$3,2,21))=2,DATE('Übersicht'!$B$3,2,21),"") -> 46439 | X7: =IF(MONTH(DATE('Übersicht'!$B$3,2,22))=2,DATE('Übersicht'!$B$3,2,22),"") -> 46440 | Y7: =IF(MONTH(DATE('Übersicht'!$B$3,2,23))=2,DATE('Übersicht'!$B$3,2,23),"") -> 46441 | Z7: =IF(MONTH(DATE('Übersicht'!$B$3,2,24))=2,DATE('Übersicht'!$B$3,2,24),"") -> 46442 | AA7: =IF(MONTH(DATE('Übersicht'!$B$3,2,25))=2,DATE('Übersicht'!$B$3,2,25),"") -> 46443 | AB7: =IF(MONTH(DATE('Übersicht'!$B$3,2,26))=2,DATE('Übersicht'!$B$3,2,26),"") -> 46444 | AC7: =IF(MONTH(DATE('Übersicht'!$B$3,2,27))=2,DATE('Übersicht'!$B$3,2,27),"") -> 46445 | AD7: =IF(MONTH(DATE('Übersicht'!$B$3,2,28))=2,DATE('Übersicht'!$B$3,2,28),"") -> 46446 | AE7: =IF(MONTH(DATE('Übersicht'!$B$3,2,29))=2,DATE('Übersicht'!$B$3,2,29),"") | AF7: =IF(MONTH(DATE('Übersicht'!$B$3,2,30))=2,DATE('Übersicht'!$B$3,2,30),"") | AG7: =IF(MONTH(DATE('Übersicht'!$B$3,2,31))=2,DATE('Übersicht'!$B$3,2,31),"")
A8: =IF('Übersicht'!$A$8="","",'Übersicht'!$A$8) -> Anna Becker | B8: =IF('Übersicht'!$B$8="","",'Übersicht'!$B$8) -> Service | AH8: =COUNTIF(C8:AG8,"U")+COUNTIF(C8:AG8,"H")/2 -> 0 | AI8: =COUNTIF(C8:AG8,"K") -> 0
A9: =IF('Übersicht'!$A$9="","",'Übersicht'!$A$9) -> Jonas Klein | B9: =IF('Übersicht'!$B$9="","",'Übersicht'!$B$9) -> Service | K9: K | L9: K | AH9: =COUNTIF(C9:AG9,"U")+COUNTIF(C9:AG9,"H")/2 -> 0 | AI9: =COUNTIF(C9:AG9,"K") -> 2
A10: =IF('Übersicht'!$A$10="","",'Übersicht'!$A$10) -> Lea Schmidt | B10: =IF('Übersicht'!$B$10="","",'Übersicht'!$B$10) -> Küche | AH10: =COUNTIF(C10:AG10,"U")+COUNTIF(C10:AG10,"H")/2 -> 0 | AI10: =COUNTIF(C10:AG10,"K") -> 0
A11: =IF('Übersicht'!$A$11="","",'Übersicht'!$A$11) -> David Meyer | B11: =IF('Übersicht'!$B$11="","",'Übersicht'!$B$11) -> Küche | AH11: =COUNTIF(C11:AG11,"U")+COUNTIF(C11:AG11,"H")/2 -> 0 | AI11: =COUNTIF(C11:AG11,"K") -> 0
A12: =IF('Übersicht'!$A$12="","",'Übersicht'!$A$12) -> Sophie Wagner | B12: =IF('Übersicht'!$B$12="","",'Übersicht'!$B$12) -> Theke | AH12: =COUNTIF(C12:AG12,"U")+COUNTIF(C12:AG12,"H")/2 -> 0 | AI12: =COUNTIF(C12:AG12,"K") -> 0
A13: =IF('Übersicht'!$A$13="","",'Übersicht'!$A$13) -> Ben Fischer | B13: =IF('Übersicht'!$B$13="","",'Übersicht'!$B$13) -> Aushilfe | AH13: =COUNTIF(C13:AG13,"U")+COUNTIF(C13:AG13,"H")/2 -> 0 | AI13: =COUNTIF(C13:AG13,"K") -> 0
A14: =IF('Übersicht'!$A$14="","",'Übersicht'!$A$14) | B14: =IF('Übersicht'!$B$14="","",'Übersicht'!$B$14) | AH14: =COUNTIF(C14:AG14,"U")+COUNTIF(C14:AG14,"H")/2 -> 0 | AI14: =COUNTIF(C14:AG14,"K") -> 0
A15: =IF('Übersicht'!$A$15="","",'Übersicht'!$A$15) | B15: =IF('Übersicht'!$B$15="","",'Übersicht'!$B$15) | AH15: =COUNTIF(C15:AG15,"U")+COUNTIF(C15:AG15,"H")/2 -> 0 | AI15: =COUNTIF(C15:AG15,"K") -> 0
A16: =IF('Übersicht'!$A$16="","",'Übersicht'!$A$16) | B16: =IF('Übersicht'!$B$16="","",'Übersicht'!$B$16) | AH16: =COUNTIF(C16:AG16,"U")+COUNTIF(C16:AG16,"H")/2 -> 0 | AI16: =COUNTIF(C16:AG16,"K") -> 0
A17: =IF('Übersicht'!$A$17="","",'Übersicht'!$A$17) | B17: =IF('Übersicht'!$B$17="","",'Übersicht'!$B$17) | AH17: =COUNTIF(C17:AG17,"U")+COUNTIF(C17:AG17,"H")/2 -> 0 | AI17: =COUNTIF(C17:AG17,"K") -> 0
A18: =IF('Übersicht'!$A$18="","",'Übersicht'!$A$18) | B18: =IF('Übersicht'!$B$18="","",'Übersicht'!$B$18) | AH18: =COUNTIF(C18:AG18,"U")+COUNTIF(C18:AG18,"H")/2 -> 0 | AI18: =COUNTIF(C18:AG18,"K") -> 0
A19: =IF('Übersicht'!$A$19="","",'Übersicht'!$A$19) | B19: =IF('Übersicht'!$B$19="","",'Übersicht'!$B$19) | AH19: =COUNTIF(C19:AG19,"U")+COUNTIF(C19:AG19,"H")/2 -> 0 | AI19: =COUNTIF(C19:AG19,"K") -> 0
A20: Abwesend | C20: =COUNTIF(C8:C19,"U")+COUNTIF(C8:C19,"H")+COUNTIF(C8:C19,"K") -> 0 | D20: =COUNTIF(D8:D19,"U")+COUNTIF(D8:D19,"H")+COUNTIF(D8:D19,"K") -> 0 | E20: =COUNTIF(E8:E19,"U")+COUNTIF(E8:E19,"H")+COUNTIF(E8:E19,"K") -> 0 | F20: =COUNTIF(F8:F19,"U")+COUNTIF(F8:F19,"H")+COUNTIF(F8:F19,"K") -> 0 | G20: =COUNTIF(G8:G19,"U")+COUNTIF(G8:G19,"H")+COUNTIF(G8:G19,"K") -> 0 | H20: =COUNTIF(H8:H19,"U")+COUNTIF(H8:H19,"H")+COUNTIF(H8:H19,"K") -> 0 | I20: =COUNTIF(I8:I19,"U")+COUNTIF(I8:I19,"H")+COUNTIF(I8:I19,"K") -> 0 | J20: =COUNTIF(J8:J19,"U")+COUNTIF(J8:J19,"H")+COUNTIF(J8:J19,"K") -> 0 | ... AG20: =COUNTIF(AG8:AG19,"U")+COUNTIF(AG8:AG19,"H")+COUNTIF(AG8:AG19,"K") -> 0 | AH20: ='Übersicht'!$B$4 -> 2
A22: U nur an Arbeitstagen eintragen: Wochenenden sind grau, Feiertage markieren Sie oben mit x. Urlaub (Tage) zählt U als ganzen und H als halben Tag, die Summe geht in die Übersicht. Rot in der Zeile Abwesend: an diesem Tag fehlen mehr Personen als auf der Übersicht erlaubt.

Sheet Mär
A1: Urlaubsplaner März 2027
A2: Kürzel je Tag: U Urlaub, H halber Urlaubstag, K krank. Feiertage und Betriebsruhe in der gelben Zeile oben mit x markieren. Namen und Jahr stehen auf dem Blatt Übersicht.
A4: Feiertag, Betriebsruhe (x)
A6: Mitarbeiter/in | B6: Abteilung | C6: =IF(ISNUMBER(C$7),CHOOSE(WEEKDAY(C$7),"So","Mo","Di","Mi","Do","Fr","Sa"),"") -> Mo | D6: =IF(ISNUMBER(D$7),CHOOSE(WEEKDAY(D$7),"So","Mo","Di","Mi","Do","Fr","Sa"),"") -> Di | E6: =IF(ISNUMBER(E$7),CHOOSE(WEEKDAY(E$7),"So","Mo","Di","Mi","Do","Fr","Sa"),"") -> Mi | F6: =IF(ISNUMBER(F$7),CHOOSE(WEEKDAY(F$7),"So","Mo","Di","Mi","Do","Fr","Sa"),"") -> Do | G6: =IF(ISNUMBER(G$7),CHOOSE(WEEKDAY(G$7),"So","Mo","Di","Mi","Do","Fr","Sa"),"") -> Fr | H6: =IF(ISNUMBER(H$7),CHOOSE(WEEKDAY(H$7),"So","Mo","Di","Mi","Do","Fr","Sa"),"") -> Sa | I6: =IF(ISNUMBER(I$7),CHOOSE(WEEKDAY(I$7),"So","Mo","Di","Mi","Do","Fr","Sa"),"") -> So | J6: =IF(ISNUMBER(J$7),CHOOSE(WEEKDAY(J$7),"So","Mo","Di","Mi","Do","Fr","Sa"),"") -> Mo | ... AG6: =IF(ISNUMBER(AG$7),CHOOSE(WEEKDAY(AG$7),"So","Mo","Di","Mi","Do","Fr","Sa"),"") -> Mi | AH6: Urlaub (Tage) | AI6: Krank (Tage)
C7: =IF(MONTH(DATE('Übersicht'!$B$3,3,1))=3,DATE('Übersicht'!$B$3,3,1),"") -> 46447 | D7: =IF(MONTH(DATE('Übersicht'!$B$3,3,2))=3,DATE('Übersicht'!$B$3,3,2),"") -> 46448 | E7: =IF(MONTH(DATE('Übersicht'!$B$3,3,3))=3,DATE('Übersicht'!$B$3,3,3),"") -> 46449 | F7: =IF(MONTH(DATE('Übersicht'!$B$3,3,4))=3,DATE('Übersicht'!$B$3,3,4),"") -> 46450 | G7: =IF(MONTH(DATE('Übersicht'!$B$3,3,5))=3,DATE('Übersicht'!$B$3,3,5),"") -> 46451 | H7: =IF(MONTH(DATE('Übersicht'!$B$3,3,6))=3,DATE('Übersicht'!$B$3,3,6),"") -> 46452 | I7: =IF(MONTH(DATE('Übersicht'!$B$3,3,7))=3,DATE('Übersicht'!$B$3,3,7),"") -> 46453 | J7: =IF(MONTH(DATE('Übersicht'!$B$3,3,8))=3,DATE('Übersicht'!$B$3,3,8),"") -> 46454 | K7: =IF(MONTH(DATE('Übersicht'!$B$3,3,9))=3,DATE('Übersicht'!$B$3,3,9),"") -> 46455 | L7: =IF(MONTH(DATE('Übersicht'!$B$3,3,10))=3,DATE('Übersicht'!$B$3,3,10),"") -> 46456 | M7: =IF(MONTH(DATE('Übersicht'!$B$3,3,11))=3,DATE('Übersicht'!$B$3,3,11),"") -> 46457 | N7: =IF(MONTH(DATE('Übersicht'!$B$3,3,12))=3,DATE('Übersicht'!$B$3,3,12),"") -> 46458 | O7: =IF(MONTH(DATE('Übersicht'!$B$3,3,13))=3,DATE('Übersicht'!$B$3,3,13),"") -> 46459 | P7: =IF(MONTH(DATE('Übersicht'!$B$3,3,14))=3,DATE('Übersicht'!$B$3,3,14),"") -> 46460 | Q7: =IF(MONTH(DATE('Übersicht'!$B$3,3,15))=3,DATE('Übersicht'!$B$3,3,15),"") -> 46461 | R7: =IF(MONTH(DATE('Übersicht'!$B$3,3,16))=3,DATE('Übersicht'!$B$3,3,16),"") -> 46462 | S7: =IF(MONTH(DATE('Übersicht'!$B$3,3,17))=3,DATE('Übersicht'!$B$3,3,17),"") -> 46463 | T7: =IF(MONTH(DATE('Übersicht'!$B$3,3,18))=3,DATE('Übersicht'!$B$3,3,18),"") -> 46464 | U7: =IF(MONTH(DATE('Übersicht'!$B$3,3,19))=3,DATE('Übersicht'!$B$3,3,19),"") -> 46465 | V7: =IF(MONTH(DATE('Übersicht'!$B$3,3,20))=3,DATE('Übersicht'!$B$3,3,20),"") -> 46466 | W7: =IF(MONTH(DATE('Übersicht'!$B$3,3,21))=3,DATE('Übersicht'!$B$3,3,21),"") -> 46467 | X7: =IF(MONTH(DATE('Übersicht'!$B$3,3,22))=3,DATE('Übersicht'!$B$3,3,22),"") -> 46468 | Y7: =IF(MONTH(DATE('Übersicht'!$B$3,3,23))=3,DATE('Übersicht'!$B$3,3,23),"") -> 46469 | Z7: =IF(MONTH(DATE('Übersicht'!$B$3,3,24))=3,DATE('Übersicht'!$B$3,3,24),"") -> 46470 | AA7: =IF(MONTH(DATE('Übersicht'!$B$3,3,25))=3,DATE('Übersicht'!$B$3,3,25),"") -> 46471 | AB7: =IF(MONTH(DATE('Übersicht'!$B$3,3,26))=3,DATE('Übersicht'!$B$3,3,26),"") -> 46472 | AC7: =IF(MONTH(DATE('Übersicht'!$B$3,3,27))=3,DATE('Übersicht'!$B$3,3,27),"") -> 46473 | AD7: =IF(MONTH(DATE('Übersicht'!$B$3,3,28))=3,DATE('Übersicht'!$B$3,3,28),"") -> 46474 | AE7: =IF(MONTH(DATE('Übersicht'!$B$3,3,29))=3,DATE('Übersicht'!$B$3,3,29),"") -> 46475 | AF7: =IF(MONTH(DATE('Übersicht'!$B$3,3,30))=3,DATE('Übersicht'!$B$3,3,30),"") -> 46476 | AG7: =IF(MONTH(DATE('Übersicht'!$B$3,3,31))=3,DATE('Übersicht'!$B$3,3,31),"") -> 46477
A8: =IF('Übersicht'!$A$8="","",'Übersicht'!$A$8) -> Anna Becker | B8: =IF('Übersicht'!$B$8="","",'Übersicht'!$B$8) -> Service | AH8: =COUNTIF(C8:AG8,"U")+COUNTIF(C8:AG8,"H")/2 -> 0 | AI8: =COUNTIF(C8:AG8,"K") -> 0
A9: =IF('Übersicht'!$A$9="","",'Übersicht'!$A$9) -> Jonas Klein | B9: =IF('Übersicht'!$B$9="","",'Übersicht'!$B$9) -> Service | AH9: =COUNTIF(C9:AG9,"U")+COUNTIF(C9:AG9,"H")/2 -> 0 | AI9: =COUNTIF(C9:AG9,"K") -> 0
A10: =IF('Übersicht'!$A$10="","",'Übersicht'!$A$10) -> Lea Schmidt | B10: =IF('Übersicht'!$B$10="","",'Übersicht'!$B$10) -> Küche | AH10: =COUNTIF(C10:AG10,"U")+COUNTIF(C10:AG10,"H")/2 -> 0 | AI10: =COUNTIF(C10:AG10,"K") -> 0
A11: =IF('Übersicht'!$A$11="","",'Übersicht'!$A$11) -> David Meyer | B11: =IF('Übersicht'!$B$11="","",'Übersicht'!$B$11) -> Küche | R11: K | S11: K | T11: K | AH11: =COUNTIF(C11:AG11,"U")+COUNTIF(C11:AG11,"H")/2 -> 0 | AI11: =COUNTIF(C11:AG11,"K") -> 3
A12: =IF('Übersicht'!$A$12="","",'Übersicht'!$A$12) -> Sophie Wagner | B12: =IF('Übersicht'!$B$12="","",'Übersicht'!$B$12) -> Theke | AH12: =COUNTIF(C12:AG12,"U")+COUNTIF(C12:AG12,"H")/2 -> 0 | AI12: =COUNTIF(C12:AG12,"K") -> 0
A13: =IF('Übersicht'!$A$13="","",'Übersicht'!$A$13) -> Ben Fischer | B13: =IF('Übersicht'!$B$13="","",'Übersicht'!$B$13) -> Aushilfe | AH13: =COUNTIF(C13:AG13,"U")+COUNTIF(C13:AG13,"H")/2 -> 0 | AI13: =COUNTIF(C13:AG13,"K") -> 0
A14: =IF('Übersicht'!$A$14="","",'Übersicht'!$A$14) | B14: =IF('Übersicht'!$B$14="","",'Übersicht'!$B$14) | AH14: =COUNTIF(C14:AG14,"U")+COUNTIF(C14:AG14,"H")/2 -> 0 | AI14: =COUNTIF(C14:AG14,"K") -> 0
A15: =IF('Übersicht'!$A$15="","",'Übersicht'!$A$15) | B15: =IF('Übersicht'!$B$15="","",'Übersicht'!$B$15) | AH15: =COUNTIF(C15:AG15,"U")+COUNTIF(C15:AG15,"H")/2 -> 0 | AI15: =COUNTIF(C15:AG15,"K") -> 0
A16: =IF('Übersicht'!$A$16="","",'Übersicht'!$A$16) | B16: =IF('Übersicht'!$B$16="","",'Übersicht'!$B$16) | AH16: =COUNTIF(C16:AG16,"U")+COUNTIF(C16:AG16,"H")/2 -> 0 | AI16: =COUNTIF(C16:AG16,"K") -> 0
A17: =IF('Übersicht'!$A$17="","",'Übersicht'!$A$17) | B17: =IF('Übersicht'!$B$17="","",'Übersicht'!$B$17) | AH17: =COUNTIF(C17:AG17,"U")+COUNTIF(C17:AG17,"H")/2 -> 0 | AI17: =COUNTIF(C17:AG17,"K") -> 0
A18: =IF('Übersicht'!$A$18="","",'Übersicht'!$A$18) | B18: =IF('Übersicht'!$B$18="","",'Übersicht'!$B$18) | AH18: =COUNTIF(C18:AG18,"U")+COUNTIF(C18:AG18,"H")/2 -> 0 | AI18: =COUNTIF(C18:AG18,"K") -> 0
A19: =IF('Übersicht'!$A$19="","",'Übersicht'!$A$19) | B19: =IF('Übersicht'!$B$19="","",'Übersicht'!$B$19) | AH19: =COUNTIF(C19:AG19,"U")+COUNTIF(C19:AG19,"H")/2 -> 0 | AI19: =COUNTIF(C19:AG19,"K") -> 0
A20: Abwesend | C20: =COUNTIF(C8:C19,"U")+COUNTIF(C8:C19,"H")+COUNTIF(C8:C19,"K") -> 0 | D20: =COUNTIF(D8:D19,"U")+COUNTIF(D8:D19,"H")+COUNTIF(D8:D19,"K") -> 0 | E20: =COUNTIF(E8:E19,"U")+COUNTIF(E8:E19,"H")+COUNTIF(E8:E19,"K") -> 0 | F20: =COUNTIF(F8:F19,"U")+COUNTIF(F8:F19,"H")+COUNTIF(F8:F19,"K") -> 0 | G20: =COUNTIF(G8:G19,"U")+COUNTIF(G8:G19,"H")+COUNTIF(G8:G19,"K") -> 0 | H20: =COUNTIF(H8:H19,"U")+COUNTIF(H8:H19,"H")+COUNTIF(H8:H19,"K") -> 0 | I20: =COUNTIF(I8:I19,"U")+COUNTIF(I8:I19,"H")+COUNTIF(I8:I19,"K") -> 0 | J20: =COUNTIF(J8:J19,"U")+COUNTIF(J8:J19,"H")+COUNTIF(J8:J19,"K") -> 0 | ... AG20: =COUNTIF(AG8:AG19,"U")+COUNTIF(AG8:AG19,"H")+COUNTIF(AG8:AG19,"K") -> 0 | AH20: ='Übersicht'!$B$4 -> 2
A22: U nur an Arbeitstagen eintragen: Wochenenden sind grau, Feiertage markieren Sie oben mit x. Urlaub (Tage) zählt U als ganzen und H als halben Tag, die Summe geht in die Übersicht. Rot in der Zeile Abwesend: an diesem Tag fehlen mehr Personen als auf der Übersicht erlaubt.

Sheet Apr
A1: Urlaubsplaner April 2027
A2: Kürzel je Tag: U Urlaub, H halber Urlaubstag, K krank. Feiertage und Betriebsruhe in der gelben Zeile oben mit x markieren. Namen und Jahr stehen auf dem Blatt Übersicht.
A4: Feiertag, Betriebsruhe (x)
A6: Mitarbeiter/in | B6: Abteilung | C6: =IF(ISNUMBER(C$7),CHOOSE(WEEKDAY(C$7),"So","Mo","Di","Mi","Do","Fr","Sa"),"") -> Do | D6: =IF(ISNUMBER(D$7),CHOOSE(WEEKDAY(D$7),"So","Mo","Di","Mi","Do","Fr","Sa"),"") -> Fr | E6: =IF(ISNUMBER(E$7),CHOOSE(WEEKDAY(E$7),"So","Mo","Di","Mi","Do","Fr","Sa"),"") -> Sa | F6: =IF(ISNUMBER(F$7),CHOOSE(WEEKDAY(F$7),"So","Mo","Di","Mi","Do","Fr","Sa"),"") -> So | G6: =IF(ISNUMBER(G$7),CHOOSE(WEEKDAY(G$7),"So","Mo","Di","Mi","Do","Fr","Sa"),"") -> Mo | H6: =IF(ISNUMBER(H$7),CHOOSE(WEEKDAY(H$7),"So","Mo","Di","Mi","Do","Fr","Sa"),"") -> Di | I6: =IF(ISNUMBER(I$7),CHOOSE(WEEKDAY(I$7),"So","Mo","Di","Mi","Do","Fr","Sa"),"") -> Mi | J6: =IF(ISNUMBER(J$7),CHOOSE(WEEKDAY(J$7),"So","Mo","Di","Mi","Do","Fr","Sa"),"") -> Do | ... AG6: =IF(ISNUMBER(AG$7),CHOOSE(WEEKDAY(AG$7),"So","Mo","Di","Mi","Do","Fr","Sa"),"") | AH6: Urlaub (Tage) | AI6: Krank (Tage)
C7: =IF(MONTH(DATE('Übersicht'!$B$3,4,1))=4,DATE('Übersicht'!$B$3,4,1),"") -> 46478 | D7: =IF(MONTH(DATE('Übersicht'!$B$3,4,2))=4,DATE('Übersicht'!$B$3,4,2),"") -> 46479 | E7: =IF(MONTH(DATE('Übersicht'!$B$3,4,3))=4,DATE('Übersicht'!$B$3,4,3),"") -> 46480 | F7: =IF(MONTH(DATE('Übersicht'!$B$3,4,4))=4,DATE('Übersicht'!$B$3,4,4),"") -> 46481 | G7: =IF(MONTH(DATE('Übersicht'!$B$3,4,5))=4,DATE('Übersicht'!$B$3,4,5),"") -> 46482 | H7: =IF(MONTH(DATE('Übersicht'!$B$3,4,6))=4,DATE('Übersicht'!$B$3,4,6),"") -> 46483 | I7: =IF(MONTH(DATE('Übersicht'!$B$3,4,7))=4,DATE('Übersicht'!$B$3,4,7),"") -> 46484 | J7: =IF(MONTH(DATE('Übersicht'!$B$3,4,8))=4,DATE('Übersicht'!$B$3,4,8),"") -> 46485 | K7: =IF(MONTH(DATE('Übersicht'!$B$3,4,9))=4,DATE('Übersicht'!$B$3,4,9),"") -> 46486 | L7: =IF(MONTH(DATE('Übersicht'!$B$3,4,10))=4,DATE('Übersicht'!$B$3,4,10),"") -> 46487 | M7: =IF(MONTH(DATE('Übersicht'!$B$3,4,11))=4,DATE('Übersicht'!$B$3,4,11),"") -> 46488 | N7: =IF(MONTH(DATE('Übersicht'!$B$3,4,12))=4,DATE('Übersicht'!$B$3,4,12),"") -> 46489 | O7: =IF(MONTH(DATE('Übersicht'!$B$3,4,13))=4,DATE('Übersicht'!$B$3,4,13),"") -> 46490 | P7: =IF(MONTH(DATE('Übersicht'!$B$3,4,14))=4,DATE('Übersicht'!$B$3,4,14),"") -> 46491 | Q7: =IF(MONTH(DATE('Übersicht'!$B$3,4,15))=4,DATE('Übersicht'!$B$3,4,15),"") -> 46492 | R7: =IF(MONTH(DATE('Übersicht'!$B$3,4,16))=4,DATE('Übersicht'!$B$3,4,16),"") -> 46493 | S7: =IF(MONTH(DATE('Übersicht'!$B$3,4,17))=4,DATE('Übersicht'!$B$3,4,17),"") -> 46494 | T7: =IF(MONTH(DATE('Übersicht'!$B$3,4,18))=4,DATE('Übersicht'!$B$3,4,18),"") -> 46495 | U7: =IF(MONTH(DATE('Übersicht'!$B$3,4,19))=4,DATE('Übersicht'!$B$3,4,19),"") -> 46496 | V7: =IF(MONTH(DATE('Übersicht'!$B$3,4,20))=4,DATE('Übersicht'!$B$3,4,20),"") -> 46497 | W7: =IF(MONTH(DATE('Übersicht'!$B$3,4,21))=4,DATE('Übersicht'!$B$3,4,21),"") -> 46498 | X7: =IF(MONTH(DATE('Übersicht'!$B$3,4,22))=4,DATE('Übersicht'!$B$3,4,22),"") -> 46499 | Y7: =IF(MONTH(DATE('Übersicht'!$B$3,4,23))=4,DATE('Übersicht'!$B$3,4,23),"") -> 46500 | Z7: =IF(MONTH(DATE('Übersicht'!$B$3,4,24))=4,DATE('Übersicht'!$B$3,4,24),"") -> 46501 | AA7: =IF(MONTH(DATE('Übersicht'!$B$3,4,25))=4,DATE('Übersicht'!$B$3,4,25),"") -> 46502 | AB7: =IF(MONTH(DATE('Übersicht'!$B$3,4,26))=4,DATE('Übersicht'!$B$3,4,26),"") -> 46503 | AC7: =IF(MONTH(DATE('Übersicht'!$B$3,4,27))=4,DATE('Übersicht'!$B$3,4,27),"") -> 46504 | AD7: =IF(MONTH(DATE('Übersicht'!$B$3,4,28))=4,DATE('Übersicht'!$B$3,4,28),"") -> 46505 | AE7: =IF(MONTH(DATE('Übersicht'!$B$3,4,29))=4,DATE('Übersicht'!$B$3,4,29),"") -> 46506 | AF7: =IF(MONTH(DATE('Übersicht'!$B$3,4,30))=4,DATE('Übersicht'!$B$3,4,30),"") -> 46507 | AG7: =IF(MONTH(DATE('Übersicht'!$B$3,4,31))=4,DATE('Übersicht'!$B$3,4,31),"")
A8: =IF('Übersicht'!$A$8="","",'Übersicht'!$A$8) -> Anna Becker | B8: =IF('Übersicht'!$B$8="","",'Übersicht'!$B$8) -> Service | H8: U | I8: U | J8: U | K8: U | AH8: =COUNTIF(C8:AG8,"U")+COUNTIF(C8:AG8,"H")/2 -> 4 | AI8: =COUNTIF(C8:AG8,"K") -> 0
A9: =IF('Übersicht'!$A$9="","",'Übersicht'!$A$9) -> Jonas Klein | B9: =IF('Übersicht'!$B$9="","",'Übersicht'!$B$9) -> Service | AH9: =COUNTIF(C9:AG9,"U")+COUNTIF(C9:AG9,"H")/2 -> 0 | AI9: =COUNTIF(C9:AG9,"K") -> 0
A10: =IF('Übersicht'!$A$10="","",'Übersicht'!$A$10) -> Lea Schmidt | B10: =IF('Übersicht'!$B$10="","",'Übersicht'!$B$10) -> Küche | AH10: =COUNTIF(C10:AG10,"U")+COUNTIF(C10:AG10,"H")/2 -> 0 | AI10: =COUNTIF(C10:AG10,"K") -> 0
A11: =IF('Übersicht'!$A$11="","",'Übersicht'!$A$11) -> David Meyer | B11: =IF('Übersicht'!$B$11="","",'Übersicht'!$B$11) -> Küche | AH11: =COUNTIF(C11:AG11,"U")+COUNTIF(C11:AG11,"H")/2 -> 0 | AI11: =COUNTIF(C11:AG11,"K") -> 0
A12: =IF('Übersicht'!$A$12="","",'Übersicht'!$A$12) -> Sophie Wagner | B12: =IF('Übersicht'!$B$12="","",'Übersicht'!$B$12) -> Theke | AH12: =COUNTIF(C12:AG12,"U")+COUNTIF(C12:AG12,"H")/2 -> 0 | AI12: =COUNTIF(C12:AG12,"K") -> 0
A13: =IF('Übersicht'!$A$13="","",'Übersicht'!$A$13) -> Ben Fischer | B13: =IF('Übersicht'!$B$13="","",'Übersicht'!$B$13) -> Aushilfe | AH13: =COUNTIF(C13:AG13,"U")+COUNTIF(C13:AG13,"H")/2 -> 0 | AI13: =COUNTIF(C13:AG13,"K") -> 0
A14: =IF('Übersicht'!$A$14="","",'Übersicht'!$A$14) | B14: =IF('Übersicht'!$B$14="","",'Übersicht'!$B$14) | AH14: =COUNTIF(C14:AG14,"U")+COUNTIF(C14:AG14,"H")/2 -> 0 | AI14: =COUNTIF(C14:AG14,"K") -> 0
A15: =IF('Übersicht'!$A$15="","",'Übersicht'!$A$15) | B15: =IF('Übersicht'!$B$15="","",'Übersicht'!$B$15) | AH15: =COUNTIF(C15:AG15,"U")+COUNTIF(C15:AG15,"H")/2 -> 0 | AI15: =COUNTIF(C15:AG15,"K") -> 0
A16: =IF('Übersicht'!$A$16="","",'Übersicht'!$A$16) | B16: =IF('Übersicht'!$B$16="","",'Übersicht'!$B$16) | AH16: =COUNTIF(C16:AG16,"U")+COUNTIF(C16:AG16,"H")/2 -> 0 | AI16: =COUNTIF(C16:AG16,"K") -> 0
A17: =IF('Übersicht'!$A$17="","",'Übersicht'!$A$17) | B17: =IF('Übersicht'!$B$17="","",'Übersicht'!$B$17) | AH17: =COUNTIF(C17:AG17,"U")+COUNTIF(C17:AG17,"H")/2 -> 0 | AI17: =COUNTIF(C17:AG17,"K") -> 0
A18: =IF('Übersicht'!$A$18="","",'Übersicht'!$A$18) | B18: =IF('Übersicht'!$B$18="","",'Übersicht'!$B$18) | AH18: =COUNTIF(C18:AG18,"U")+COUNTIF(C18:AG18,"H")/2 -> 0 | AI18: =COUNTIF(C18:AG18,"K") -> 0
A19: =IF('Übersicht'!$A$19="","",'Übersicht'!$A$19) | B19: =IF('Übersicht'!$B$19="","",'Übersicht'!$B$19) | AH19: =COUNTIF(C19:AG19,"U")+COUNTIF(C19:AG19,"H")/2 -> 0 | AI19: =COUNTIF(C19:AG19,"K") -> 0
A20: Abwesend | C20: =COUNTIF(C8:C19,"U")+COUNTIF(C8:C19,"H")+COUNTIF(C8:C19,"K") -> 0 | D20: =COUNTIF(D8:D19,"U")+COUNTIF(D8:D19,"H")+COUNTIF(D8:D19,"K") -> 0 | E20: =COUNTIF(E8:E19,"U")+COUNTIF(E8:E19,"H")+COUNTIF(E8:E19,"K") -> 0 | F20: =COUNTIF(F8:F19,"U")+COUNTIF(F8:F19,"H")+COUNTIF(F8:F19,"K") -> 0 | G20: =COUNTIF(G8:G19,"U")+COUNTIF(G8:G19,"H")+COUNTIF(G8:G19,"K") -> 0 | H20: =COUNTIF(H8:H19,"U")+COUNTIF(H8:H19,"H")+COUNTIF(H8:H19,"K") -> 1 | I20: =COUNTIF(I8:I19,"U")+COUNTIF(I8:I19,"H")+COUNTIF(I8:I19,"K") -> 1 | J20: =COUNTIF(J8:J19,"U")+COUNTIF(J8:J19,"H")+COUNTIF(J8:J19,"K") -> 1 | ... AG20: =COUNTIF(AG8:AG19,"U")+COUNTIF(AG8:AG19,"H")+COUNTIF(AG8:AG19,"K") -> 0 | AH20: ='Übersicht'!$B$4 -> 2
A22: U nur an Arbeitstagen eintragen: Wochenenden sind grau, Feiertage markieren Sie oben mit x. Urlaub (Tage) zählt U als ganzen und H als halben Tag, die Summe geht in die Übersicht. Rot in der Zeile Abwesend: an diesem Tag fehlen mehr Personen als auf der Übersicht erlaubt.

Sheet Mai
A1: Urlaubsplaner Mai 2027
A2: Kürzel je Tag: U Urlaub, H halber Urlaubstag, K krank. Feiertage und Betriebsruhe in der gelben Zeile oben mit x markieren. Namen und Jahr stehen auf dem Blatt Übersicht.
A4: Feiertag, Betriebsruhe (x)
A6: Mitarbeiter/in | B6: Abteilung | C6: =IF(ISNUMBER(C$7),CHOOSE(WEEKDAY(C$7),"So","Mo","Di","Mi","Do","Fr","Sa"),"") -> Sa | D6: =IF(ISNUMBER(D$7),CHOOSE(WEEKDAY(D$7),"So","Mo","Di","Mi","Do","Fr","Sa"),"") -> So | E6: =IF(ISNUMBER(E$7),CHOOSE(WEEKDAY(E$7),"So","Mo","Di","Mi","Do","Fr","Sa"),"") -> Mo | F6: =IF(ISNUMBER(F$7),CHOOSE(WEEKDAY(F$7),"So","Mo","Di","Mi","Do","Fr","Sa"),"") -> Di | G6: =IF(ISNUMBER(G$7),CHOOSE(WEEKDAY(G$7),"So","Mo","Di","Mi","Do","Fr","Sa"),"") -> Mi | H6: =IF(ISNUMBER(H$7),CHOOSE(WEEKDAY(H$7),"So","Mo","Di","Mi","Do","Fr","Sa"),"") -> Do | I6: =IF(ISNUMBER(I$7),CHOOSE(WEEKDAY(I$7),"So","Mo","Di","Mi","Do","Fr","Sa"),"") -> Fr | J6: =IF(ISNUMBER(J$7),CHOOSE(WEEKDAY(J$7),"So","Mo","Di","Mi","Do","Fr","Sa"),"") -> Sa | ... AG6: =IF(ISNUMBER(AG$7),CHOOSE(WEEKDAY(AG$7),"So","Mo","Di","Mi","Do","Fr","Sa"),"") -> Mo | AH6: Urlaub (Tage) | AI6: Krank (Tage)
C7: =IF(MONTH(DATE('Übersicht'!$B$3,5,1))=5,DATE('Übersicht'!$B$3,5,1),"") -> 46508 | D7: =IF(MONTH(DATE('Übersicht'!$B$3,5,2))=5,DATE('Übersicht'!$B$3,5,2),"") -> 46509 | E7: =IF(MONTH(DATE('Übersicht'!$B$3,5,3))=5,DATE('Übersicht'!$B$3,5,3),"") -> 46510 | F7: =IF(MONTH(DATE('Übersicht'!$B$3,5,4))=5,DATE('Übersicht'!$B$3,5,4),"") -> 46511 | G7: =IF(MONTH(DATE('Übersicht'!$B$3,5,5))=5,DATE('Übersicht'!$B$3,5,5),"") -> 46512 | H7: =IF(MONTH(DATE('Übersicht'!$B$3,5,6))=5,DATE('Übersicht'!$B$3,5,6),"") -> 46513 | I7: =IF(MONTH(DATE('Übersicht'!$B$3,5,7))=5,DATE('Übersicht'!$B$3,5,7),"") -> 46514 | J7: =IF(MONTH(DATE('Übersicht'!$B$3,5,8))=5,DATE('Übersicht'!$B$3,5,8),"") -> 46515 | K7: =IF(MONTH(DATE('Übersicht'!$B$3,5,9))=5,DATE('Übersicht'!$B$3,5,9),"") -> 46516 | L7: =IF(MONTH(DATE('Übersicht'!$B$3,5,10))=5,DATE('Übersicht'!$B$3,5,10),"") -> 46517 | M7: =IF(MONTH(DATE('Übersicht'!$B$3,5,11))=5,DATE('Übersicht'!$B$3,5,11),"") -> 46518 | N7: =IF(MONTH(DATE('Übersicht'!$B$3,5,12))=5,DATE('Übersicht'!$B$3,5,12),"") -> 46519 | O7: =IF(MONTH(DATE('Übersicht'!$B$3,5,13))=5,DATE('Übersicht'!$B$3,5,13),"") -> 46520 | P7: =IF(MONTH(DATE('Übersicht'!$B$3,5,14))=5,DATE('Übersicht'!$B$3,5,14),"") -> 46521 | Q7: =IF(MONTH(DATE('Übersicht'!$B$3,5,15))=5,DATE('Übersicht'!$B$3,5,15),"") -> 46522 | R7: =IF(MONTH(DATE('Übersicht'!$B$3,5,16))=5,DATE('Übersicht'!$B$3,5,16),"") -> 46523 | S7: =IF(MONTH(DATE('Übersicht'!$B$3,5,17))=5,DATE('Übersicht'!$B$3,5,17),"") -> 46524 | T7: =IF(MONTH(DATE('Übersicht'!$B$3,5,18))=5,DATE('Übersicht'!$B$3,5,18),"") -> 46525 | U7: =IF(MONTH(DATE('Übersicht'!$B$3,5,19))=5,DATE('Übersicht'!$B$3,5,19),"") -> 46526 | V7: =IF(MONTH(DATE('Übersicht'!$B$3,5,20))=5,DATE('Übersicht'!$B$3,5,20),"") -> 46527 | W7: =IF(MONTH(DATE('Übersicht'!$B$3,5,21))=5,DATE('Übersicht'!$B$3,5,21),"") -> 46528 | X7: =IF(MONTH(DATE('Übersicht'!$B$3,5,22))=5,DATE('Übersicht'!$B$3,5,22),"") -> 46529 | Y7: =IF(MONTH(DATE('Übersicht'!$B$3,5,23))=5,DATE('Übersicht'!$B$3,5,23),"") -> 46530 | Z7: =IF(MONTH(DATE('Übersicht'!$B$3,5,24))=5,DATE('Übersicht'!$B$3,5,24),"") -> 46531 | AA7: =IF(MONTH(DATE('Übersicht'!$B$3,5,25))=5,DATE('Übersicht'!$B$3,5,25),"") -> 46532 | AB7: =IF(MONTH(DATE('Übersicht'!$B$3,5,26))=5,DATE('Übersicht'!$B$3,5,26),"") -> 46533 | AC7: =IF(MONTH(DATE('Übersicht'!$B$3,5,27))=5,DATE('Übersicht'!$B$3,5,27),"") -> 46534 | AD7: =IF(MONTH(DATE('Übersicht'!$B$3,5,28))=5,DATE('Übersicht'!$B$3,5,28),"") -> 46535 | AE7: =IF(MONTH(DATE('Übersicht'!$B$3,5,29))=5,DATE('Übersicht'!$B$3,5,29),"") -> 46536 | AF7: =IF(MONTH(DATE('Übersicht'!$B$3,5,30))=5,DATE('Übersicht'!$B$3,5,30),"") -> 46537 | AG7: =IF(MONTH(DATE('Übersicht'!$B$3,5,31))=5,DATE('Übersicht'!$B$3,5,31),"") -> 46538
A8: =IF('Übersicht'!$A$8="","",'Übersicht'!$A$8) -> Anna Becker | B8: =IF('Übersicht'!$B$8="","",'Übersicht'!$B$8) -> Service | AH8: =COUNTIF(C8:AG8,"U")+COUNTIF(C8:AG8,"H")/2 -> 0 | AI8: =COUNTIF(C8:AG8,"K") -> 0
A9: =IF('Übersicht'!$A$9="","",'Übersicht'!$A$9) -> Jonas Klein | B9: =IF('Übersicht'!$B$9="","",'Übersicht'!$B$9) -> Service | T9: U | U9: U | V9: U | W9: U | AH9: =COUNTIF(C9:AG9,"U")+COUNTIF(C9:AG9,"H")/2 -> 4 | AI9: =COUNTIF(C9:AG9,"K") -> 0
A10: =IF('Übersicht'!$A$10="","",'Übersicht'!$A$10) -> Lea Schmidt | B10: =IF('Übersicht'!$B$10="","",'Übersicht'!$B$10) -> Küche | AH10: =COUNTIF(C10:AG10,"U")+COUNTIF(C10:AG10,"H")/2 -> 0 | AI10: =COUNTIF(C10:AG10,"K") -> 0
A11: =IF('Übersicht'!$A$11="","",'Übersicht'!$A$11) -> David Meyer | B11: =IF('Übersicht'!$B$11="","",'Übersicht'!$B$11) -> Küche | AH11: =COUNTIF(C11:AG11,"U")+COUNTIF(C11:AG11,"H")/2 -> 0 | AI11: =COUNTIF(C11:AG11,"K") -> 0
A12: =IF('Übersicht'!$A$12="","",'Übersicht'!$A$12) -> Sophie Wagner | B12: =IF('Übersicht'!$B$12="","",'Übersicht'!$B$12) -> Theke | AH12: =COUNTIF(C12:AG12,"U")+COUNTIF(C12:AG12,"H")/2 -> 0 | AI12: =COUNTIF(C12:AG12,"K") -> 0
A13: =IF('Übersicht'!$A$13="","",'Übersicht'!$A$13) -> Ben Fischer | B13: =IF('Übersicht'!$B$13="","",'Übersicht'!$B$13) -> Aushilfe | AH13: =COUNTIF(C13:AG13,"U")+COUNTIF(C13:AG13,"H")/2 -> 0 | AI13: =COUNTIF(C13:AG13,"K") -> 0
A14: =IF('Übersicht'!$A$14="","",'Übersicht'!$A$14) | B14: =IF('Übersicht'!$B$14="","",'Übersicht'!$B$14) | AH14: =COUNTIF(C14:AG14,"U")+COUNTIF(C14:AG14,"H")/2 -> 0 | AI14: =COUNTIF(C14:AG14,"K") -> 0
A15: =IF('Übersicht'!$A$15="","",'Übersicht'!$A$15) | B15: =IF('Übersicht'!$B$15="","",'Übersicht'!$B$15) | AH15: =COUNTIF(C15:AG15,"U")+COUNTIF(C15:AG15,"H")/2 -> 0 | AI15: =COUNTIF(C15:AG15,"K") -> 0
A16: =IF('Übersicht'!$A$16="","",'Übersicht'!$A$16) | B16: =IF('Übersicht'!$B$16="","",'Übersicht'!$B$16) | AH16: =COUNTIF(C16:AG16,"U")+COUNTIF(C16:AG16,"H")/2 -> 0 | AI16: =COUNTIF(C16:AG16,"K") -> 0
A17: =IF('Übersicht'!$A$17="","",'Übersicht'!$A$17) | B17: =IF('Übersicht'!$B$17="","",'Übersicht'!$B$17) | AH17: =COUNTIF(C17:AG17,"U")+COUNTIF(C17:AG17,"H")/2 -> 0 | AI17: =COUNTIF(C17:AG17,"K") -> 0
A18: =IF('Übersicht'!$A$18="","",'Übersicht'!$A$18) | B18: =IF('Übersicht'!$B$18="","",'Übersicht'!$B$18) | AH18: =COUNTIF(C18:AG18,"U")+COUNTIF(C18:AG18,"H")/2 -> 0 | AI18: =COUNTIF(C18:AG18,"K") -> 0
A19: =IF('Übersicht'!$A$19="","",'Übersicht'!$A$19) | B19: =IF('Übersicht'!$B$19="","",'Übersicht'!$B$19) | AH19: =COUNTIF(C19:AG19,"U")+COUNTIF(C19:AG19,"H")/2 -> 0 | AI19: =COUNTIF(C19:AG19,"K") -> 0
A20: Abwesend | C20: =COUNTIF(C8:C19,"U")+COUNTIF(C8:C19,"H")+COUNTIF(C8:C19,"K") -> 0 | D20: =COUNTIF(D8:D19,"U")+COUNTIF(D8:D19,"H")+COUNTIF(D8:D19,"K") -> 0 | E20: =COUNTIF(E8:E19,"U")+COUNTIF(E8:E19,"H")+COUNTIF(E8:E19,"K") -> 0 | F20: =COUNTIF(F8:F19,"U")+COUNTIF(F8:F19,"H")+COUNTIF(F8:F19,"K") -> 0 | G20: =COUNTIF(G8:G19,"U")+COUNTIF(G8:G19,"H")+COUNTIF(G8:G19,"K") -> 0 | H20: =COUNTIF(H8:H19,"U")+COUNTIF(H8:H19,"H")+COUNTIF(H8:H19,"K") -> 0 | I20: =COUNTIF(I8:I19,"U")+COUNTIF(I8:I19,"H")+COUNTIF(I8:I19,"K") -> 0 | J20: =COUNTIF(J8:J19,"U")+COUNTIF(J8:J19,"H")+COUNTIF(J8:J19,"K") -> 0 | ... AG20: =COUNTIF(AG8:AG19,"U")+COUNTIF(AG8:AG19,"H")+COUNTIF(AG8:AG19,"K") -> 0 | AH20: ='Übersicht'!$B$4 -> 2
A22: U nur an Arbeitstagen eintragen: Wochenenden sind grau, Feiertage markieren Sie oben mit x. Urlaub (Tage) zählt U als ganzen und H als halben Tag, die Summe geht in die Übersicht. Rot in der Zeile Abwesend: an diesem Tag fehlen mehr Personen als auf der Übersicht erlaubt.

Sheet Jun
A1: Urlaubsplaner Juni 2027
A2: Kürzel je Tag: U Urlaub, H halber Urlaubstag, K krank. Feiertage und Betriebsruhe in der gelben Zeile oben mit x markieren. Namen und Jahr stehen auf dem Blatt Übersicht.
A4: Feiertag, Betriebsruhe (x)
A6: Mitarbeiter/in | B6: Abteilung | C6: =IF(ISNUMBER(C$7),CHOOSE(WEEKDAY(C$7),"So","Mo","Di","Mi","Do","Fr","Sa"),"") -> Di | D6: =IF(ISNUMBER(D$7),CHOOSE(WEEKDAY(D$7),"So","Mo","Di","Mi","Do","Fr","Sa"),"") -> Mi | E6: =IF(ISNUMBER(E$7),CHOOSE(WEEKDAY(E$7),"So","Mo","Di","Mi","Do","Fr","Sa"),"") -> Do | F6: =IF(ISNUMBER(F$7),CHOOSE(WEEKDAY(F$7),"So","Mo","Di","Mi","Do","Fr","Sa"),"") -> Fr | G6: =IF(ISNUMBER(G$7),CHOOSE(WEEKDAY(G$7),"So","Mo","Di","Mi","Do","Fr","Sa"),"") -> Sa | H6: =IF(ISNUMBER(H$7),CHOOSE(WEEKDAY(H$7),"So","Mo","Di","Mi","Do","Fr","Sa"),"") -> So | I6: =IF(ISNUMBER(I$7),CHOOSE(WEEKDAY(I$7),"So","Mo","Di","Mi","Do","Fr","Sa"),"") -> Mo | J6: =IF(ISNUMBER(J$7),CHOOSE(WEEKDAY(J$7),"So","Mo","Di","Mi","Do","Fr","Sa"),"") -> Di | ... AG6: =IF(ISNUMBER(AG$7),CHOOSE(WEEKDAY(AG$7),"So","Mo","Di","Mi","Do","Fr","Sa"),"") | AH6: Urlaub (Tage) | AI6: Krank (Tage)
C7: =IF(MONTH(DATE('Übersicht'!$B$3,6,1))=6,DATE('Übersicht'!$B$3,6,1),"") -> 46539 | D7: =IF(MONTH(DATE('Übersicht'!$B$3,6,2))=6,DATE('Übersicht'!$B$3,6,2),"") -> 46540 | E7: =IF(MONTH(DATE('Übersicht'!$B$3,6,3))=6,DATE('Übersicht'!$B$3,6,3),"") -> 46541 | F7: =IF(MONTH(DATE('Übersicht'!$B$3,6,4))=6,DATE('Übersicht'!$B$3,6,4),"") -> 46542 | G7: =IF(MONTH(DATE('Übersicht'!$B$3,6,5))=6,DATE('Übersicht'!$B$3,6,5),"") -> 46543 | H7: =IF(MONTH(DATE('Übersicht'!$B$3,6,6))=6,DATE('Übersicht'!$B$3,6,6),"") -> 46544 | I7: =IF(MONTH(DATE('Übersicht'!$B$3,6,7))=6,DATE('Übersicht'!$B$3,6,7),"") -> 46545 | J7: =IF(MONTH(DATE('Übersicht'!$B$3,6,8))=6,DATE('Übersicht'!$B$3,6,8),"") -> 46546 | K7: =IF(MONTH(DATE('Übersicht'!$B$3,6,9))=6,DATE('Übersicht'!$B$3,6,9),"") -> 46547 | L7: =IF(MONTH(DATE('Übersicht'!$B$3,6,10))=6,DATE('Übersicht'!$B$3,6,10),"") -> 46548 | M7: =IF(MONTH(DATE('Übersicht'!$B$3,6,11))=6,DATE('Übersicht'!$B$3,6,11),"") -> 46549 | N7: =IF(MONTH(DATE('Übersicht'!$B$3,6,12))=6,DATE('Übersicht'!$B$3,6,12),"") -> 46550 | O7: =IF(MONTH(DATE('Übersicht'!$B$3,6,13))=6,DATE('Übersicht'!$B$3,6,13),"") -> 46551 | P7: =IF(MONTH(DATE('Übersicht'!$B$3,6,14))=6,DATE('Übersicht'!$B$3,6,14),"") -> 46552 | Q7: =IF(MONTH(DATE('Übersicht'!$B$3,6,15))=6,DATE('Übersicht'!$B$3,6,15),"") -> 46553 | R7: =IF(MONTH(DATE('Übersicht'!$B$3,6,16))=6,DATE('Übersicht'!$B$3,6,16),"") -> 46554 | S7: =IF(MONTH(DATE('Übersicht'!$B$3,6,17))=6,DATE('Übersicht'!$B$3,6,17),"") -> 46555 | T7: =IF(MONTH(DATE('Übersicht'!$B$3,6,18))=6,DATE('Übersicht'!$B$3,6,18),"") -> 46556 | U7: =IF(MONTH(DATE('Übersicht'!$B$3,6,19))=6,DATE('Übersicht'!$B$3,6,19),"") -> 46557 | V7: =IF(MONTH(DATE('Übersicht'!$B$3,6,20))=6,DATE('Übersicht'!$B$3,6,20),"") -> 46558 | W7: =IF(MONTH(DATE('Übersicht'!$B$3,6,21))=6,DATE('Übersicht'!$B$3,6,21),"") -> 46559 | X7: =IF(MONTH(DATE('Übersicht'!$B$3,6,22))=6,DATE('Übersicht'!$B$3,6,22),"") -> 46560 | Y7: =IF(MONTH(DATE('Übersicht'!$B$3,6,23))=6,DATE('Übersicht'!$B$3,6,23),"") -> 46561 | Z7: =IF(MONTH(DATE('Übersicht'!$B$3,6,24))=6,DATE('Übersicht'!$B$3,6,24),"") -> 46562 | AA7: =IF(MONTH(DATE('Übersicht'!$B$3,6,25))=6,DATE('Übersicht'!$B$3,6,25),"") -> 46563 | AB7: =IF(MONTH(DATE('Übersicht'!$B$3,6,26))=6,DATE('Übersicht'!$B$3,6,26),"") -> 46564 | AC7: =IF(MONTH(DATE('Übersicht'!$B$3,6,27))=6,DATE('Übersicht'!$B$3,6,27),"") -> 46565 | AD7: =IF(MONTH(DATE('Übersicht'!$B$3,6,28))=6,DATE('Übersicht'!$B$3,6,28),"") -> 46566 | AE7: =IF(MONTH(DATE('Übersicht'!$B$3,6,29))=6,DATE('Übersicht'!$B$3,6,29),"") -> 46567 | AF7: =IF(MONTH(DATE('Übersicht'!$B$3,6,30))=6,DATE('Übersicht'!$B$3,6,30),"") -> 46568 | AG7: =IF(MONTH(DATE('Übersicht'!$B$3,6,31))=6,DATE('Übersicht'!$B$3,6,31),"")
A8: =IF('Übersicht'!$A$8="","",'Übersicht'!$A$8) -> Anna Becker | B8: =IF('Übersicht'!$B$8="","",'Übersicht'!$B$8) -> Service | AH8: =COUNTIF(C8:AG8,"U")+COUNTIF(C8:AG8,"H")/2 -> 0 | AI8: =COUNTIF(C8:AG8,"K") -> 0
A9: =IF('Übersicht'!$A$9="","",'Übersicht'!$A$9) -> Jonas Klein | B9: =IF('Übersicht'!$B$9="","",'Übersicht'!$B$9) -> Service | AH9: =COUNTIF(C9:AG9,"U")+COUNTIF(C9:AG9,"H")/2 -> 0 | AI9: =COUNTIF(C9:AG9,"K") -> 0
A10: =IF('Übersicht'!$A$10="","",'Übersicht'!$A$10) -> Lea Schmidt | B10: =IF('Übersicht'!$B$10="","",'Übersicht'!$B$10) -> Küche | AH10: =COUNTIF(C10:AG10,"U")+COUNTIF(C10:AG10,"H")/2 -> 0 | AI10: =COUNTIF(C10:AG10,"K") -> 0
A11: =IF('Übersicht'!$A$11="","",'Übersicht'!$A$11) -> David Meyer | B11: =IF('Übersicht'!$B$11="","",'Übersicht'!$B$11) -> Küche | C11: U | D11: U | E11: U | F11: U | I11: U | J11: U | K11: U | L11: U | M11: U | AH11: =COUNTIF(C11:AG11,"U")+COUNTIF(C11:AG11,"H")/2 -> 9 | AI11: =COUNTIF(C11:AG11,"K") -> 0
A12: =IF('Übersicht'!$A$12="","",'Übersicht'!$A$12) -> Sophie Wagner | B12: =IF('Übersicht'!$B$12="","",'Übersicht'!$B$12) -> Theke | AH12: =COUNTIF(C12:AG12,"U")+COUNTIF(C12:AG12,"H")/2 -> 0 | AI12: =COUNTIF(C12:AG12,"K") -> 0
A13: =IF('Übersicht'!$A$13="","",'Übersicht'!$A$13) -> Ben Fischer | B13: =IF('Übersicht'!$B$13="","",'Übersicht'!$B$13) -> Aushilfe | AH13: =COUNTIF(C13:AG13,"U")+COUNTIF(C13:AG13,"H")/2 -> 0 | AI13: =COUNTIF(C13:AG13,"K") -> 0
A14: =IF('Übersicht'!$A$14="","",'Übersicht'!$A$14) | B14: =IF('Übersicht'!$B$14="","",'Übersicht'!$B$14) | AH14: =COUNTIF(C14:AG14,"U")+COUNTIF(C14:AG14,"H")/2 -> 0 | AI14: =COUNTIF(C14:AG14,"K") -> 0
A15: =IF('Übersicht'!$A$15="","",'Übersicht'!$A$15) | B15: =IF('Übersicht'!$B$15="","",'Übersicht'!$B$15) | AH15: =COUNTIF(C15:AG15,"U")+COUNTIF(C15:AG15,"H")/2 -> 0 | AI15: =COUNTIF(C15:AG15,"K") -> 0
A16: =IF('Übersicht'!$A$16="","",'Übersicht'!$A$16) | B16: =IF('Übersicht'!$B$16="","",'Übersicht'!$B$16) | AH16: =COUNTIF(C16:AG16,"U")+COUNTIF(C16:AG16,"H")/2 -> 0 | AI16: =COUNTIF(C16:AG16,"K") -> 0
A17: =IF('Übersicht'!$A$17="","",'Übersicht'!$A$17) | B17: =IF('Übersicht'!$B$17="","",'Übersicht'!$B$17) | AH17: =COUNTIF(C17:AG17,"U")+COUNTIF(C17:AG17,"H")/2 -> 0 | AI17: =COUNTIF(C17:AG17,"K") -> 0
A18: =IF('Übersicht'!$A$18="","",'Übersicht'!$A$18) | B18: =IF('Übersicht'!$B$18="","",'Übersicht'!$B$18) | AH18: =COUNTIF(C18:AG18,"U")+COUNTIF(C18:AG18,"H")/2 -> 0 | AI18: =COUNTIF(C18:AG18,"K") -> 0
A19: =IF('Übersicht'!$A$19="","",'Übersicht'!$A$19) | B19: =IF('Übersicht'!$B$19="","",'Übersicht'!$B$19) | AH19: =COUNTIF(C19:AG19,"U")+COUNTIF(C19:AG19,"H")/2 -> 0 | AI19: =COUNTIF(C19:AG19,"K") -> 0
A20: Abwesend | C20: =COUNTIF(C8:C19,"U")+COUNTIF(C8:C19,"H")+COUNTIF(C8:C19,"K") -> 1 | D20: =COUNTIF(D8:D19,"U")+COUNTIF(D8:D19,"H")+COUNTIF(D8:D19,"K") -> 1 | E20: =COUNTIF(E8:E19,"U")+COUNTIF(E8:E19,"H")+COUNTIF(E8:E19,"K") -> 1 | F20: =COUNTIF(F8:F19,"U")+COUNTIF(F8:F19,"H")+COUNTIF(F8:F19,"K") -> 1 | G20: =COUNTIF(G8:G19,"U")+COUNTIF(G8:G19,"H")+COUNTIF(G8:G19,"K") -> 0 | H20: =COUNTIF(H8:H19,"U")+COUNTIF(H8:H19,"H")+COUNTIF(H8:H19,"K") -> 0 | I20: =COUNTIF(I8:I19,"U")+COUNTIF(I8:I19,"H")+COUNTIF(I8:I19,"K") -> 1 | J20: =COUNTIF(J8:J19,"U")+COUNTIF(J8:J19,"H")+COUNTIF(J8:J19,"K") -> 1 | ... AG20: =COUNTIF(AG8:AG19,"U")+COUNTIF(AG8:AG19,"H")+COUNTIF(AG8:AG19,"K") -> 0 | AH20: ='Übersicht'!$B$4 -> 2
A22: U nur an Arbeitstagen eintragen: Wochenenden sind grau, Feiertage markieren Sie oben mit x. Urlaub (Tage) zählt U als ganzen und H als halben Tag, die Summe geht in die Übersicht. Rot in der Zeile Abwesend: an diesem Tag fehlen mehr Personen als auf der Übersicht erlaubt.

Sheet Jul
A1: Urlaubsplaner Juli 2027
A2: Kürzel je Tag: U Urlaub, H halber Urlaubstag, K krank. Feiertage und Betriebsruhe in der gelben Zeile oben mit x markieren. Namen und Jahr stehen auf dem Blatt Übersicht.
A4: Feiertag, Betriebsruhe (x)
A6: Mitarbeiter/in | B6: Abteilung | C6: =IF(ISNUMBER(C$7),CHOOSE(WEEKDAY(C$7),"So","Mo","Di","Mi","Do","Fr","Sa"),"") -> Do | D6: =IF(ISNUMBER(D$7),CHOOSE(WEEKDAY(D$7),"So","Mo","Di","Mi","Do","Fr","Sa"),"") -> Fr | E6: =IF(ISNUMBER(E$7),CHOOSE(WEEKDAY(E$7),"So","Mo","Di","Mi","Do","Fr","Sa"),"") -> Sa | F6: =IF(ISNUMBER(F$7),CHOOSE(WEEKDAY(F$7),"So","Mo","Di","Mi","Do","Fr","Sa"),"") -> So | G6: =IF(ISNUMBER(G$7),CHOOSE(WEEKDAY(G$7),"So","Mo","Di","Mi","Do","Fr","Sa"),"") -> Mo | H6: =IF(ISNUMBER(H$7),CHOOSE(WEEKDAY(H$7),"So","Mo","Di","Mi","Do","Fr","Sa"),"") -> Di | I6: =IF(ISNUMBER(I$7),CHOOSE(WEEKDAY(I$7),"So","Mo","Di","Mi","Do","Fr","Sa"),"") -> Mi | J6: =IF(ISNUMBER(J$7),CHOOSE(WEEKDAY(J$7),"So","Mo","Di","Mi","Do","Fr","Sa"),"") -> Do | ... AG6: =IF(ISNUMBER(AG$7),CHOOSE(WEEKDAY(AG$7),"So","Mo","Di","Mi","Do","Fr","Sa"),"") -> Sa | AH6: Urlaub (Tage) | AI6: Krank (Tage)
C7: =IF(MONTH(DATE('Übersicht'!$B$3,7,1))=7,DATE('Übersicht'!$B$3,7,1),"") -> 46569 | D7: =IF(MONTH(DATE('Übersicht'!$B$3,7,2))=7,DATE('Übersicht'!$B$3,7,2),"") -> 46570 | E7: =IF(MONTH(DATE('Übersicht'!$B$3,7,3))=7,DATE('Übersicht'!$B$3,7,3),"") -> 46571 | F7: =IF(MONTH(DATE('Übersicht'!$B$3,7,4))=7,DATE('Übersicht'!$B$3,7,4),"") -> 46572 | G7: =IF(MONTH(DATE('Übersicht'!$B$3,7,5))=7,DATE('Übersicht'!$B$3,7,5),"") -> 46573 | H7: =IF(MONTH(DATE('Übersicht'!$B$3,7,6))=7,DATE('Übersicht'!$B$3,7,6),"") -> 46574 | I7: =IF(MONTH(DATE('Übersicht'!$B$3,7,7))=7,DATE('Übersicht'!$B$3,7,7),"") -> 46575 | J7: =IF(MONTH(DATE('Übersicht'!$B$3,7,8))=7,DATE('Übersicht'!$B$3,7,8),"") -> 46576 | K7: =IF(MONTH(DATE('Übersicht'!$B$3,7,9))=7,DATE('Übersicht'!$B$3,7,9),"") -> 46577 | L7: =IF(MONTH(DATE('Übersicht'!$B$3,7,10))=7,DATE('Übersicht'!$B$3,7,10),"") -> 46578 | M7: =IF(MONTH(DATE('Übersicht'!$B$3,7,11))=7,DATE('Übersicht'!$B$3,7,11),"") -> 46579 | N7: =IF(MONTH(DATE('Übersicht'!$B$3,7,12))=7,DATE('Übersicht'!$B$3,7,12),"") -> 46580 | O7: =IF(MONTH(DATE('Übersicht'!$B$3,7,13))=7,DATE('Übersicht'!$B$3,7,13),"") -> 46581 | P7: =IF(MONTH(DATE('Übersicht'!$B$3,7,14))=7,DATE('Übersicht'!$B$3,7,14),"") -> 46582 | Q7: =IF(MONTH(DATE('Übersicht'!$B$3,7,15))=7,DATE('Übersicht'!$B$3,7,15),"") -> 46583 | R7: =IF(MONTH(DATE('Übersicht'!$B$3,7,16))=7,DATE('Übersicht'!$B$3,7,16),"") -> 46584 | S7: =IF(MONTH(DATE('Übersicht'!$B$3,7,17))=7,DATE('Übersicht'!$B$3,7,17),"") -> 46585 | T7: =IF(MONTH(DATE('Übersicht'!$B$3,7,18))=7,DATE('Übersicht'!$B$3,7,18),"") -> 46586 | U7: =IF(MONTH(DATE('Übersicht'!$B$3,7,19))=7,DATE('Übersicht'!$B$3,7,19),"") -> 46587 | V7: =IF(MONTH(DATE('Übersicht'!$B$3,7,20))=7,DATE('Übersicht'!$B$3,7,20),"") -> 46588 | W7: =IF(MONTH(DATE('Übersicht'!$B$3,7,21))=7,DATE('Übersicht'!$B$3,7,21),"") -> 46589 | X7: =IF(MONTH(DATE('Übersicht'!$B$3,7,22))=7,DATE('Übersicht'!$B$3,7,22),"") -> 46590 | Y7: =IF(MONTH(DATE('Übersicht'!$B$3,7,23))=7,DATE('Übersicht'!$B$3,7,23),"") -> 46591 | Z7: =IF(MONTH(DATE('Übersicht'!$B$3,7,24))=7,DATE('Übersicht'!$B$3,7,24),"") -> 46592 | AA7: =IF(MONTH(DATE('Übersicht'!$B$3,7,25))=7,DATE('Übersicht'!$B$3,7,25),"") -> 46593 | AB7: =IF(MONTH(DATE('Übersicht'!$B$3,7,26))=7,DATE('Übersicht'!$B$3,7,26),"") -> 46594 | AC7: =IF(MONTH(DATE('Übersicht'!$B$3,7,27))=7,DATE('Übersicht'!$B$3,7,27),"") -> 46595 | AD7: =IF(MONTH(DATE('Übersicht'!$B$3,7,28))=7,DATE('Übersicht'!$B$3,7,28),"") -> 46596 | AE7: =IF(MONTH(DATE('Übersicht'!$B$3,7,29))=7,DATE('Übersicht'!$B$3,7,29),"") -> 46597 | AF7: =IF(MONTH(DATE('Übersicht'!$B$3,7,30))=7,DATE('Übersicht'!$B$3,7,30),"") -> 46598 | AG7: =IF(MONTH(DATE('Übersicht'!$B$3,7,31))=7,DATE('Übersicht'!$B$3,7,31),"") -> 46599
A8: =IF('Übersicht'!$A$8="","",'Übersicht'!$A$8) -> Anna Becker | B8: =IF('Übersicht'!$B$8="","",'Übersicht'!$B$8) -> Service | AH8: =COUNTIF(C8:AG8,"U")+COUNTIF(C8:AG8,"H")/2 -> 0 | AI8: =COUNTIF(C8:AG8,"K") -> 0
A9: =IF('Übersicht'!$A$9="","",'Übersicht'!$A$9) -> Jonas Klein | B9: =IF('Übersicht'!$B$9="","",'Übersicht'!$B$9) -> Service | AH9: =COUNTIF(C9:AG9,"U")+COUNTIF(C9:AG9,"H")/2 -> 0 | AI9: =COUNTIF(C9:AG9,"K") -> 0
A10: =IF('Übersicht'!$A$10="","",'Übersicht'!$A$10) -> Lea Schmidt | B10: =IF('Übersicht'!$B$10="","",'Übersicht'!$B$10) -> Küche | O10: U | P10: U | Q10: U | R10: U | U10: U | V10: U | W10: U | X10: U | Y10: U | AB10: U | AC10: U | AD10: U | AE10: U | AF10: U | AH10: =COUNTIF(C10:AG10,"U")+COUNTIF(C10:AG10,"H")/2 -> 14 | AI10: =COUNTIF(C10:AG10,"K") -> 0
A11: =IF('Übersicht'!$A$11="","",'Übersicht'!$A$11) -> David Meyer | B11: =IF('Übersicht'!$B$11="","",'Übersicht'!$B$11) -> Küche | AH11: =COUNTIF(C11:AG11,"U")+COUNTIF(C11:AG11,"H")/2 -> 0 | AI11: =COUNTIF(C11:AG11,"K") -> 0
A12: =IF('Übersicht'!$A$12="","",'Übersicht'!$A$12) -> Sophie Wagner | B12: =IF('Übersicht'!$B$12="","",'Übersicht'!$B$12) -> Theke | AH12: =COUNTIF(C12:AG12,"U")+COUNTIF(C12:AG12,"H")/2 -> 0 | AI12: =COUNTIF(C12:AG12,"K") -> 0
A13: =IF('Übersicht'!$A$13="","",'Übersicht'!$A$13) -> Ben Fischer | B13: =IF('Übersicht'!$B$13="","",'Übersicht'!$B$13) -> Aushilfe | AC13: U | AD13: U | AE13: U | AF13: U | AH13: =COUNTIF(C13:AG13,"U")+COUNTIF(C13:AG13,"H")/2 -> 4 | AI13: =COUNTIF(C13:AG13,"K") -> 0
A14: =IF('Übersicht'!$A$14="","",'Übersicht'!$A$14) | B14: =IF('Übersicht'!$B$14="","",'Übersicht'!$B$14) | AH14: =COUNTIF(C14:AG14,"U")+COUNTIF(C14:AG14,"H")/2 -> 0 | AI14: =COUNTIF(C14:AG14,"K") -> 0
A15: =IF('Übersicht'!$A$15="","",'Übersicht'!$A$15) | B15: =IF('Übersicht'!$B$15="","",'Übersicht'!$B$15) | AH15: =COUNTIF(C15:AG15,"U")+COUNTIF(C15:AG15,"H")/2 -> 0 | AI15: =COUNTIF(C15:AG15,"K") -> 0
A16: =IF('Übersicht'!$A$16="","",'Übersicht'!$A$16) | B16: =IF('Übersicht'!$B$16="","",'Übersicht'!$B$16) | AH16: =COUNTIF(C16:AG16,"U")+COUNTIF(C16:AG16,"H")/2 -> 0 | AI16: =COUNTIF(C16:AG16,"K") -> 0
A17: =IF('Übersicht'!$A$17="","",'Übersicht'!$A$17) | B17: =IF('Übersicht'!$B$17="","",'Übersicht'!$B$17) | AH17: =COUNTIF(C17:AG17,"U")+COUNTIF(C17:AG17,"H")/2 -> 0 | AI17: =COUNTIF(C17:AG17,"K") -> 0
A18: =IF('Übersicht'!$A$18="","",'Übersicht'!$A$18) | B18: =IF('Übersicht'!$B$18="","",'Übersicht'!$B$18) | AH18: =COUNTIF(C18:AG18,"U")+COUNTIF(C18:AG18,"H")/2 -> 0 | AI18: =COUNTIF(C18:AG18,"K") -> 0
A19: =IF('Übersicht'!$A$19="","",'Übersicht'!$A$19) | B19: =IF('Übersicht'!$B$19="","",'Übersicht'!$B$19) | AH19: =COUNTIF(C19:AG19,"U")+COUNTIF(C19:AG19,"H")/2 -> 0 | AI19: =COUNTIF(C19:AG19,"K") -> 0
A20: Abwesend | C20: =COUNTIF(C8:C19,"U")+COUNTIF(C8:C19,"H")+COUNTIF(C8:C19,"K") -> 0 | D20: =COUNTIF(D8:D19,"U")+COUNTIF(D8:D19,"H")+COUNTIF(D8:D19,"K") -> 0 | E20: =COUNTIF(E8:E19,"U")+COUNTIF(E8:E19,"H")+COUNTIF(E8:E19,"K") -> 0 | F20: =COUNTIF(F8:F19,"U")+COUNTIF(F8:F19,"H")+COUNTIF(F8:F19,"K") -> 0 | G20: =COUNTIF(G8:G19,"U")+COUNTIF(G8:G19,"H")+COUNTIF(G8:G19,"K") -> 0 | H20: =COUNTIF(H8:H19,"U")+COUNTIF(H8:H19,"H")+COUNTIF(H8:H19,"K") -> 0 | I20: =COUNTIF(I8:I19,"U")+COUNTIF(I8:I19,"H")+COUNTIF(I8:I19,"K") -> 0 | J20: =COUNTIF(J8:J19,"U")+COUNTIF(J8:J19,"H")+COUNTIF(J8:J19,"K") -> 0 | ... AG20: =COUNTIF(AG8:AG19,"U")+COUNTIF(AG8:AG19,"H")+COUNTIF(AG8:AG19,"K") -> 0 | AH20: ='Übersicht'!$B$4 -> 2
A22: U nur an Arbeitstagen eintragen: Wochenenden sind grau, Feiertage markieren Sie oben mit x. Urlaub (Tage) zählt U als ganzen und H als halben Tag, die Summe geht in die Übersicht. Rot in der Zeile Abwesend: an diesem Tag fehlen mehr Personen als auf der Übersicht erlaubt.

Sheet Aug
A1: Urlaubsplaner August 2027
A2: Kürzel je Tag: U Urlaub, H halber Urlaubstag, K krank. Feiertage und Betriebsruhe in der gelben Zeile oben mit x markieren. Namen und Jahr stehen auf dem Blatt Übersicht.
A4: Feiertag, Betriebsruhe (x)
A6: Mitarbeiter/in | B6: Abteilung | C6: =IF(ISNUMBER(C$7),CHOOSE(WEEKDAY(C$7),"So","Mo","Di","Mi","Do","Fr","Sa"),"") -> So | D6: =IF(ISNUMBER(D$7),CHOOSE(WEEKDAY(D$7),"So","Mo","Di","Mi","Do","Fr","Sa"),"") -> Mo | E6: =IF(ISNUMBER(E$7),CHOOSE(WEEKDAY(E$7),"So","Mo","Di","Mi","Do","Fr","Sa"),"") -> Di | F6: =IF(ISNUMBER(F$7),CHOOSE(WEEKDAY(F$7),"So","Mo","Di","Mi","Do","Fr","Sa"),"") -> Mi | G6: =IF(ISNUMBER(G$7),CHOOSE(WEEKDAY(G$7),"So","Mo","Di","Mi","Do","Fr","Sa"),"") -> Do | H6: =IF(ISNUMBER(H$7),CHOOSE(WEEKDAY(H$7),"So","Mo","Di","Mi","Do","Fr","Sa"),"") -> Fr | I6: =IF(ISNUMBER(I$7),CHOOSE(WEEKDAY(I$7),"So","Mo","Di","Mi","Do","Fr","Sa"),"") -> Sa | J6: =IF(ISNUMBER(J$7),CHOOSE(WEEKDAY(J$7),"So","Mo","Di","Mi","Do","Fr","Sa"),"") -> So | ... AG6: =IF(ISNUMBER(AG$7),CHOOSE(WEEKDAY(AG$7),"So","Mo","Di","Mi","Do","Fr","Sa"),"") -> Di | AH6: Urlaub (Tage) | AI6: Krank (Tage)
C7: =IF(MONTH(DATE('Übersicht'!$B$3,8,1))=8,DATE('Übersicht'!$B$3,8,1),"") -> 46600 | D7: =IF(MONTH(DATE('Übersicht'!$B$3,8,2))=8,DATE('Übersicht'!$B$3,8,2),"") -> 46601 | E7: =IF(MONTH(DATE('Übersicht'!$B$3,8,3))=8,DATE('Übersicht'!$B$3,8,3),"") -> 46602 | F7: =IF(MONTH(DATE('Übersicht'!$B$3,8,4))=8,DATE('Übersicht'!$B$3,8,4),"") -> 46603 | G7: =IF(MONTH(DATE('Übersicht'!$B$3,8,5))=8,DATE('Übersicht'!$B$3,8,5),"") -> 46604 | H7: =IF(MONTH(DATE('Übersicht'!$B$3,8,6))=8,DATE('Übersicht'!$B$3,8,6),"") -> 46605 | I7: =IF(MONTH(DATE('Übersicht'!$B$3,8,7))=8,DATE('Übersicht'!$B$3,8,7),"") -> 46606 | J7: =IF(MONTH(DATE('Übersicht'!$B$3,8,8))=8,DATE('Übersicht'!$B$3,8,8),"") -> 46607 | K7: =IF(MONTH(DATE('Übersicht'!$B$3,8,9))=8,DATE('Übersicht'!$B$3,8,9),"") -> 46608 | L7: =IF(MONTH(DATE('Übersicht'!$B$3,8,10))=8,DATE('Übersicht'!$B$3,8,10),"") -> 46609 | M7: =IF(MONTH(DATE('Übersicht'!$B$3,8,11))=8,DATE('Übersicht'!$B$3,8,11),"") -> 46610 | N7: =IF(MONTH(DATE('Übersicht'!$B$3,8,12))=8,DATE('Übersicht'!$B$3,8,12),"") -> 46611 | O7: =IF(MONTH(DATE('Übersicht'!$B$3,8,13))=8,DATE('Übersicht'!$B$3,8,13),"") -> 46612 | P7: =IF(MONTH(DATE('Übersicht'!$B$3,8,14))=8,DATE('Übersicht'!$B$3,8,14),"") -> 46613 | Q7: =IF(MONTH(DATE('Übersicht'!$B$3,8,15))=8,DATE('Übersicht'!$B$3,8,15),"") -> 46614 | R7: =IF(MONTH(DATE('Übersicht'!$B$3,8,16))=8,DATE('Übersicht'!$B$3,8,16),"") -> 46615 | S7: =IF(MONTH(DATE('Übersicht'!$B$3,8,17))=8,DATE('Übersicht'!$B$3,8,17),"") -> 46616 | T7: =IF(MONTH(DATE('Übersicht'!$B$3,8,18))=8,DATE('Übersicht'!$B$3,8,18),"") -> 46617 | U7: =IF(MONTH(DATE('Übersicht'!$B$3,8,19))=8,DATE('Übersicht'!$B$3,8,19),"") -> 46618 | V7: =IF(MONTH(DATE('Übersicht'!$B$3,8,20))=8,DATE('Übersicht'!$B$3,8,20),"") -> 46619 | W7: =IF(MONTH(DATE('Übersicht'!$B$3,8,21))=8,DATE('Übersicht'!$B$3,8,21),"") -> 46620 | X7: =IF(MONTH(DATE('Übersicht'!$B$3,8,22))=8,DATE('Übersicht'!$B$3,8,22),"") -> 46621 | Y7: =IF(MONTH(DATE('Übersicht'!$B$3,8,23))=8,DATE('Übersicht'!$B$3,8,23),"") -> 46622 | Z7: =IF(MONTH(DATE('Übersicht'!$B$3,8,24))=8,DATE('Übersicht'!$B$3,8,24),"") -> 46623 | AA7: =IF(MONTH(DATE('Übersicht'!$B$3,8,25))=8,DATE('Übersicht'!$B$3,8,25),"") -> 46624 | AB7: =IF(MONTH(DATE('Übersicht'!$B$3,8,26))=8,DATE('Übersicht'!$B$3,8,26),"") -> 46625 | AC7: =IF(MONTH(DATE('Übersicht'!$B$3,8,27))=8,DATE('Übersicht'!$B$3,8,27),"") -> 46626 | AD7: =IF(MONTH(DATE('Übersicht'!$B$3,8,28))=8,DATE('Übersicht'!$B$3,8,28),"") -> 46627 | AE7: =IF(MONTH(DATE('Übersicht'!$B$3,8,29))=8,DATE('Übersicht'!$B$3,8,29),"") -> 46628 | AF7: =IF(MONTH(DATE('Übersicht'!$B$3,8,30))=8,DATE('Übersicht'!$B$3,8,30),"") -> 46629 | AG7: =IF(MONTH(DATE('Übersicht'!$B$3,8,31))=8,DATE('Übersicht'!$B$3,8,31),"") -> 46630
A8: =IF('Übersicht'!$A$8="","",'Übersicht'!$A$8) -> Anna Becker | B8: =IF('Übersicht'!$B$8="","",'Übersicht'!$B$8) -> Service | E8: U | F8: U | G8: U | H8: U | K8: U | L8: U | M8: U | N8: U | O8: U | AH8: =COUNTIF(C8:AG8,"U")+COUNTIF(C8:AG8,"H")/2 -> 9 | AI8: =COUNTIF(C8:AG8,"K") -> 0
A9: =IF('Übersicht'!$A$9="","",'Übersicht'!$A$9) -> Jonas Klein | B9: =IF('Übersicht'!$B$9="","",'Übersicht'!$B$9) -> Service | L9: U | M9: U | N9: U | O9: U | R9: U | S9: U | T9: U | U9: U | V9: U | AH9: =COUNTIF(C9:AG9,"U")+COUNTIF(C9:AG9,"H")/2 -> 9 | AI9: =COUNTIF(C9:AG9,"K") -> 0
A10: =IF('Übersicht'!$A$10="","",'Übersicht'!$A$10) -> Lea Schmidt | B10: =IF('Übersicht'!$B$10="","",'Übersicht'!$B$10) -> Küche | AH10: =COUNTIF(C10:AG10,"U")+COUNTIF(C10:AG10,"H")/2 -> 0 | AI10: =COUNTIF(C10:AG10,"K") -> 0
A11: =IF('Übersicht'!$A$11="","",'Übersicht'!$A$11) -> David Meyer | B11: =IF('Übersicht'!$B$11="","",'Übersicht'!$B$11) -> Küche | L11: U | M11: U | N11: U | O11: U | AH11: =COUNTIF(C11:AG11,"U")+COUNTIF(C11:AG11,"H")/2 -> 4 | AI11: =COUNTIF(C11:AG11,"K") -> 0
A12: =IF('Übersicht'!$A$12="","",'Übersicht'!$A$12) -> Sophie Wagner | B12: =IF('Übersicht'!$B$12="","",'Übersicht'!$B$12) -> Theke | AH12: =COUNTIF(C12:AG12,"U")+COUNTIF(C12:AG12,"H")/2 -> 0 | AI12: =COUNTIF(C12:AG12,"K") -> 0
A13: =IF('Übersicht'!$A$13="","",'Übersicht'!$A$13) -> Ben Fischer | B13: =IF('Übersicht'!$B$13="","",'Übersicht'!$B$13) -> Aushilfe | AH13: =COUNTIF(C13:AG13,"U")+COUNTIF(C13:AG13,"H")/2 -> 0 | AI13: =COUNTIF(C13:AG13,"K") -> 0
A14: =IF('Übersicht'!$A$14="","",'Übersicht'!$A$14) | B14: =IF('Übersicht'!$B$14="","",'Übersicht'!$B$14) | AH14: =COUNTIF(C14:AG14,"U")+COUNTIF(C14:AG14,"H")/2 -> 0 | AI14: =COUNTIF(C14:AG14,"K") -> 0
A15: =IF('Übersicht'!$A$15="","",'Übersicht'!$A$15) | B15: =IF('Übersicht'!$B$15="","",'Übersicht'!$B$15) | AH15: =COUNTIF(C15:AG15,"U")+COUNTIF(C15:AG15,"H")/2 -> 0 | AI15: =COUNTIF(C15:AG15,"K") -> 0
A16: =IF('Übersicht'!$A$16="","",'Übersicht'!$A$16) | B16: =IF('Übersicht'!$B$16="","",'Übersicht'!$B$16) | AH16: =COUNTIF(C16:AG16,"U")+COUNTIF(C16:AG16,"H")/2 -> 0 | AI16: =COUNTIF(C16:AG16,"K") -> 0
A17: =IF('Übersicht'!$A$17="","",'Übersicht'!$A$17) | B17: =IF('Übersicht'!$B$17="","",'Übersicht'!$B$17) | AH17: =COUNTIF(C17:AG17,"U")+COUNTIF(C17:AG17,"H")/2 -> 0 | AI17: =COUNTIF(C17:AG17,"K") -> 0
A18: =IF('Übersicht'!$A$18="","",'Übersicht'!$A$18) | B18: =IF('Übersicht'!$B$18="","",'Übersicht'!$B$18) | AH18: =COUNTIF(C18:AG18,"U")+COUNTIF(C18:AG18,"H")/2 -> 0 | AI18: =COUNTIF(C18:AG18,"K") -> 0
A19: =IF('Übersicht'!$A$19="","",'Übersicht'!$A$19) | B19: =IF('Übersicht'!$B$19="","",'Übersicht'!$B$19) | AH19: =COUNTIF(C19:AG19,"U")+COUNTIF(C19:AG19,"H")/2 -> 0 | AI19: =COUNTIF(C19:AG19,"K") -> 0
A20: Abwesend | C20: =COUNTIF(C8:C19,"U")+COUNTIF(C8:C19,"H")+COUNTIF(C8:C19,"K") -> 0 | D20: =COUNTIF(D8:D19,"U")+COUNTIF(D8:D19,"H")+COUNTIF(D8:D19,"K") -> 0 | E20: =COUNTIF(E8:E19,"U")+COUNTIF(E8:E19,"H")+COUNTIF(E8:E19,"K") -> 1 | F20: =COUNTIF(F8:F19,"U")+COUNTIF(F8:F19,"H")+COUNTIF(F8:F19,"K") -> 1 | G20: =COUNTIF(G8:G19,"U")+COUNTIF(G8:G19,"H")+COUNTIF(G8:G19,"K") -> 1 | H20: =COUNTIF(H8:H19,"U")+COUNTIF(H8:H19,"H")+COUNTIF(H8:H19,"K") -> 1 | I20: =COUNTIF(I8:I19,"U")+COUNTIF(I8:I19,"H")+COUNTIF(I8:I19,"K") -> 0 | J20: =COUNTIF(J8:J19,"U")+COUNTIF(J8:J19,"H")+COUNTIF(J8:J19,"K") -> 0 | ... AG20: =COUNTIF(AG8:AG19,"U")+COUNTIF(AG8:AG19,"H")+COUNTIF(AG8:AG19,"K") -> 0 | AH20: ='Übersicht'!$B$4 -> 2
A22: U nur an Arbeitstagen eintragen: Wochenenden sind grau, Feiertage markieren Sie oben mit x. Urlaub (Tage) zählt U als ganzen und H als halben Tag, die Summe geht in die Übersicht. Rot in der Zeile Abwesend: an diesem Tag fehlen mehr Personen als auf der Übersicht erlaubt.

Sheet Sep
A1: Urlaubsplaner September 2027
A2: Kürzel je Tag: U Urlaub, H halber Urlaubstag, K krank. Feiertage und Betriebsruhe in der gelben Zeile oben mit x markieren. Namen und Jahr stehen auf dem Blatt Übersicht.
A4: Feiertag, Betriebsruhe (x)
A6: Mitarbeiter/in | B6: Abteilung | C6: =IF(ISNUMBER(C$7),CHOOSE(WEEKDAY(C$7),"So","Mo","Di","Mi","Do","Fr","Sa"),"") -> Mi | D6: =IF(ISNUMBER(D$7),CHOOSE(WEEKDAY(D$7),"So","Mo","Di","Mi","Do","Fr","Sa"),"") -> Do | E6: =IF(ISNUMBER(E$7),CHOOSE(WEEKDAY(E$7),"So","Mo","Di","Mi","Do","Fr","Sa"),"") -> Fr | F6: =IF(ISNUMBER(F$7),CHOOSE(WEEKDAY(F$7),"So","Mo","Di","Mi","Do","Fr","Sa"),"") -> Sa | G6: =IF(ISNUMBER(G$7),CHOOSE(WEEKDAY(G$7),"So","Mo","Di","Mi","Do","Fr","Sa"),"") -> So | H6: =IF(ISNUMBER(H$7),CHOOSE(WEEKDAY(H$7),"So","Mo","Di","Mi","Do","Fr","Sa"),"") -> Mo | I6: =IF(ISNUMBER(I$7),CHOOSE(WEEKDAY(I$7),"So","Mo","Di","Mi","Do","Fr","Sa"),"") -> Di | J6: =IF(ISNUMBER(J$7),CHOOSE(WEEKDAY(J$7),"So","Mo","Di","Mi","Do","Fr","Sa"),"") -> Mi | ... AG6: =IF(ISNUMBER(AG$7),CHOOSE(WEEKDAY(AG$7),"So","Mo","Di","Mi","Do","Fr","Sa"),"") | AH6: Urlaub (Tage) | AI6: Krank (Tage)
C7: =IF(MONTH(DATE('Übersicht'!$B$3,9,1))=9,DATE('Übersicht'!$B$3,9,1),"") -> 46631 | D7: =IF(MONTH(DATE('Übersicht'!$B$3,9,2))=9,DATE('Übersicht'!$B$3,9,2),"") -> 46632 | E7: =IF(MONTH(DATE('Übersicht'!$B$3,9,3))=9,DATE('Übersicht'!$B$3,9,3),"") -> 46633 | F7: =IF(MONTH(DATE('Übersicht'!$B$3,9,4))=9,DATE('Übersicht'!$B$3,9,4),"") -> 46634 | G7: =IF(MONTH(DATE('Übersicht'!$B$3,9,5))=9,DATE('Übersicht'!$B$3,9,5),"") -> 46635 | H7: =IF(MONTH(DATE('Übersicht'!$B$3,9,6))=9,DATE('Übersicht'!$B$3,9,6),"") -> 46636 | I7: =IF(MONTH(DATE('Übersicht'!$B$3,9,7))=9,DATE('Übersicht'!$B$3,9,7),"") -> 46637 | J7: =IF(MONTH(DATE('Übersicht'!$B$3,9,8))=9,DATE('Übersicht'!$B$3,9,8),"") -> 46638 | K7: =IF(MONTH(DATE('Übersicht'!$B$3,9,9))=9,DATE('Übersicht'!$B$3,9,9),"") -> 46639 | L7: =IF(MONTH(DATE('Übersicht'!$B$3,9,10))=9,DATE('Übersicht'!$B$3,9,10),"") -> 46640 | M7: =IF(MONTH(DATE('Übersicht'!$B$3,9,11))=9,DATE('Übersicht'!$B$3,9,11),"") -> 46641 | N7: =IF(MONTH(DATE('Übersicht'!$B$3,9,12))=9,DATE('Übersicht'!$B$3,9,12),"") -> 46642 | O7: =IF(MONTH(DATE('Übersicht'!$B$3,9,13))=9,DATE('Übersicht'!$B$3,9,13),"") -> 46643 | P7: =IF(MONTH(DATE('Übersicht'!$B$3,9,14))=9,DATE('Übersicht'!$B$3,9,14),"") -> 46644 | Q7: =IF(MONTH(DATE('Übersicht'!$B$3,9,15))=9,DATE('Übersicht'!$B$3,9,15),"") -> 46645 | R7: =IF(MONTH(DATE('Übersicht'!$B$3,9,16))=9,DATE('Übersicht'!$B$3,9,16),"") -> 46646 | S7: =IF(MONTH(DATE('Übersicht'!$B$3,9,17))=9,DATE('Übersicht'!$B$3,9,17),"") -> 46647 | T7: =IF(MONTH(DATE('Übersicht'!$B$3,9,18))=9,DATE('Übersicht'!$B$3,9,18),"") -> 46648 | U7: =IF(MONTH(DATE('Übersicht'!$B$3,9,19))=9,DATE('Übersicht'!$B$3,9,19),"") -> 46649 | V7: =IF(MONTH(DATE('Übersicht'!$B$3,9,20))=9,DATE('Übersicht'!$B$3,9,20),"") -> 46650 | W7: =IF(MONTH(DATE('Übersicht'!$B$3,9,21))=9,DATE('Übersicht'!$B$3,9,21),"") -> 46651 | X7: =IF(MONTH(DATE('Übersicht'!$B$3,9,22))=9,DATE('Übersicht'!$B$3,9,22),"") -> 46652 | Y7: =IF(MONTH(DATE('Übersicht'!$B$3,9,23))=9,DATE('Übersicht'!$B$3,9,23),"") -> 46653 | Z7: =IF(MONTH(DATE('Übersicht'!$B$3,9,24))=9,DATE('Übersicht'!$B$3,9,24),"") -> 46654 | AA7: =IF(MONTH(DATE('Übersicht'!$B$3,9,25))=9,DATE('Übersicht'!$B$3,9,25),"") -> 46655 | AB7: =IF(MONTH(DATE('Übersicht'!$B$3,9,26))=9,DATE('Übersicht'!$B$3,9,26),"") -> 46656 | AC7: =IF(MONTH(DATE('Übersicht'!$B$3,9,27))=9,DATE('Übersicht'!$B$3,9,27),"") -> 46657 | AD7: =IF(MONTH(DATE('Übersicht'!$B$3,9,28))=9,DATE('Übersicht'!$B$3,9,28),"") -> 46658 | AE7: =IF(MONTH(DATE('Übersicht'!$B$3,9,29))=9,DATE('Übersicht'!$B$3,9,29),"") -> 46659 | AF7: =IF(MONTH(DATE('Übersicht'!$B$3,9,30))=9,DATE('Übersicht'!$B$3,9,30),"") -> 46660 | AG7: =IF(MONTH(DATE('Übersicht'!$B$3,9,31))=9,DATE('Übersicht'!$B$3,9,31),"")
A8: =IF('Übersicht'!$A$8="","",'Übersicht'!$A$8) -> Anna Becker | B8: =IF('Übersicht'!$B$8="","",'Übersicht'!$B$8) -> Service | AH8: =COUNTIF(C8:AG8,"U")+COUNTIF(C8:AG8,"H")/2 -> 0 | AI8: =COUNTIF(C8:AG8,"K") -> 0
A9: =IF('Übersicht'!$A$9="","",'Übersicht'!$A$9) -> Jonas Klein | B9: =IF('Übersicht'!$B$9="","",'Übersicht'!$B$9) -> Service | AH9: =COUNTIF(C9:AG9,"U")+COUNTIF(C9:AG9,"H")/2 -> 0 | AI9: =COUNTIF(C9:AG9,"K") -> 0
A10: =IF('Übersicht'!$A$10="","",'Übersicht'!$A$10) -> Lea Schmidt | B10: =IF('Übersicht'!$B$10="","",'Übersicht'!$B$10) -> Küche | AH10: =COUNTIF(C10:AG10,"U")+COUNTIF(C10:AG10,"H")/2 -> 0 | AI10: =COUNTIF(C10:AG10,"K") -> 0
A11: =IF('Übersicht'!$A$11="","",'Übersicht'!$A$11) -> David Meyer | B11: =IF('Übersicht'!$B$11="","",'Übersicht'!$B$11) -> Küche | AH11: =COUNTIF(C11:AG11,"U")+COUNTIF(C11:AG11,"H")/2 -> 0 | AI11: =COUNTIF(C11:AG11,"K") -> 0
A12: =IF('Übersicht'!$A$12="","",'Übersicht'!$A$12) -> Sophie Wagner | B12: =IF('Übersicht'!$B$12="","",'Übersicht'!$B$12) -> Theke | I12: U | J12: U | K12: U | L12: U | O12: U | P12: U | Q12: U | R12: U | S12: U | AH12: =COUNTIF(C12:AG12,"U")+COUNTIF(C12:AG12,"H")/2 -> 9 | AI12: =COUNTIF(C12:AG12,"K") -> 0
A13: =IF('Übersicht'!$A$13="","",'Übersicht'!$A$13) -> Ben Fischer | B13: =IF('Übersicht'!$B$13="","",'Übersicht'!$B$13) -> Aushilfe | AH13: =COUNTIF(C13:AG13,"U")+COUNTIF(C13:AG13,"H")/2 -> 0 | AI13: =COUNTIF(C13:AG13,"K") -> 0
A14: =IF('Übersicht'!$A$14="","",'Übersicht'!$A$14) | B14: =IF('Übersicht'!$B$14="","",'Übersicht'!$B$14) | AH14: =COUNTIF(C14:AG14,"U")+COUNTIF(C14:AG14,"H")/2 -> 0 | AI14: =COUNTIF(C14:AG14,"K") -> 0
A15: =IF('Übersicht'!$A$15="","",'Übersicht'!$A$15) | B15: =IF('Übersicht'!$B$15="","",'Übersicht'!$B$15) | AH15: =COUNTIF(C15:AG15,"U")+COUNTIF(C15:AG15,"H")/2 -> 0 | AI15: =COUNTIF(C15:AG15,"K") -> 0
A16: =IF('Übersicht'!$A$16="","",'Übersicht'!$A$16) | B16: =IF('Übersicht'!$B$16="","",'Übersicht'!$B$16) | AH16: =COUNTIF(C16:AG16,"U")+COUNTIF(C16:AG16,"H")/2 -> 0 | AI16: =COUNTIF(C16:AG16,"K") -> 0
A17: =IF('Übersicht'!$A$17="","",'Übersicht'!$A$17) | B17: =IF('Übersicht'!$B$17="","",'Übersicht'!$B$17) | AH17: =COUNTIF(C17:AG17,"U")+COUNTIF(C17:AG17,"H")/2 -> 0 | AI17: =COUNTIF(C17:AG17,"K") -> 0
A18: =IF('Übersicht'!$A$18="","",'Übersicht'!$A$18) | B18: =IF('Übersicht'!$B$18="","",'Übersicht'!$B$18) | AH18: =COUNTIF(C18:AG18,"U")+COUNTIF(C18:AG18,"H")/2 -> 0 | AI18: =COUNTIF(C18:AG18,"K") -> 0
A19: =IF('Übersicht'!$A$19="","",'Übersicht'!$A$19) | B19: =IF('Übersicht'!$B$19="","",'Übersicht'!$B$19) | AH19: =COUNTIF(C19:AG19,"U")+COUNTIF(C19:AG19,"H")/2 -> 0 | AI19: =COUNTIF(C19:AG19,"K") -> 0
A20: Abwesend | C20: =COUNTIF(C8:C19,"U")+COUNTIF(C8:C19,"H")+COUNTIF(C8:C19,"K") -> 0 | D20: =COUNTIF(D8:D19,"U")+COUNTIF(D8:D19,"H")+COUNTIF(D8:D19,"K") -> 0 | E20: =COUNTIF(E8:E19,"U")+COUNTIF(E8:E19,"H")+COUNTIF(E8:E19,"K") -> 0 | F20: =COUNTIF(F8:F19,"U")+COUNTIF(F8:F19,"H")+COUNTIF(F8:F19,"K") -> 0 | G20: =COUNTIF(G8:G19,"U")+COUNTIF(G8:G19,"H")+COUNTIF(G8:G19,"K") -> 0 | H20: =COUNTIF(H8:H19,"U")+COUNTIF(H8:H19,"H")+COUNTIF(H8:H19,"K") -> 0 | I20: =COUNTIF(I8:I19,"U")+COUNTIF(I8:I19,"H")+COUNTIF(I8:I19,"K") -> 1 | J20: =COUNTIF(J8:J19,"U")+COUNTIF(J8:J19,"H")+COUNTIF(J8:J19,"K") -> 1 | ... AG20: =COUNTIF(AG8:AG19,"U")+COUNTIF(AG8:AG19,"H")+COUNTIF(AG8:AG19,"K") -> 0 | AH20: ='Übersicht'!$B$4 -> 2
A22: U nur an Arbeitstagen eintragen: Wochenenden sind grau, Feiertage markieren Sie oben mit x. Urlaub (Tage) zählt U als ganzen und H als halben Tag, die Summe geht in die Übersicht. Rot in der Zeile Abwesend: an diesem Tag fehlen mehr Personen als auf der Übersicht erlaubt.

Sheet Okt
A1: Urlaubsplaner Oktober 2027
A2: Kürzel je Tag: U Urlaub, H halber Urlaubstag, K krank. Feiertage und Betriebsruhe in der gelben Zeile oben mit x markieren. Namen und Jahr stehen auf dem Blatt Übersicht.
A4: Feiertag, Betriebsruhe (x)
A6: Mitarbeiter/in | B6: Abteilung | C6: =IF(ISNUMBER(C$7),CHOOSE(WEEKDAY(C$7),"So","Mo","Di","Mi","Do","Fr","Sa"),"") -> Fr | D6: =IF(ISNUMBER(D$7),CHOOSE(WEEKDAY(D$7),"So","Mo","Di","Mi","Do","Fr","Sa"),"") -> Sa | E6: =IF(ISNUMBER(E$7),CHOOSE(WEEKDAY(E$7),"So","Mo","Di","Mi","Do","Fr","Sa"),"") -> So | F6: =IF(ISNUMBER(F$7),CHOOSE(WEEKDAY(F$7),"So","Mo","Di","Mi","Do","Fr","Sa"),"") -> Mo | G6: =IF(ISNUMBER(G$7),CHOOSE(WEEKDAY(G$7),"So","Mo","Di","Mi","Do","Fr","Sa"),"") -> Di | H6: =IF(ISNUMBER(H$7),CHOOSE(WEEKDAY(H$7),"So","Mo","Di","Mi","Do","Fr","Sa"),"") -> Mi | I6: =IF(ISNUMBER(I$7),CHOOSE(WEEKDAY(I$7),"So","Mo","Di","Mi","Do","Fr","Sa"),"") -> Do | J6: =IF(ISNUMBER(J$7),CHOOSE(WEEKDAY(J$7),"So","Mo","Di","Mi","Do","Fr","Sa"),"") -> Fr | ... AG6: =IF(ISNUMBER(AG$7),CHOOSE(WEEKDAY(AG$7),"So","Mo","Di","Mi","Do","Fr","Sa"),"") -> So | AH6: Urlaub (Tage) | AI6: Krank (Tage)
C7: =IF(MONTH(DATE('Übersicht'!$B$3,10,1))=10,DATE('Übersicht'!$B$3,10,1),"") -> 46661 | D7: =IF(MONTH(DATE('Übersicht'!$B$3,10,2))=10,DATE('Übersicht'!$B$3,10,2),"") -> 46662 | E7: =IF(MONTH(DATE('Übersicht'!$B$3,10,3))=10,DATE('Übersicht'!$B$3,10,3),"") -> 46663 | F7: =IF(MONTH(DATE('Übersicht'!$B$3,10,4))=10,DATE('Übersicht'!$B$3,10,4),"") -> 46664 | G7: =IF(MONTH(DATE('Übersicht'!$B$3,10,5))=10,DATE('Übersicht'!$B$3,10,5),"") -> 46665 | H7: =IF(MONTH(DATE('Übersicht'!$B$3,10,6))=10,DATE('Übersicht'!$B$3,10,6),"") -> 46666 | I7: =IF(MONTH(DATE('Übersicht'!$B$3,10,7))=10,DATE('Übersicht'!$B$3,10,7),"") -> 46667 | J7: =IF(MONTH(DATE('Übersicht'!$B$3,10,8))=10,DATE('Übersicht'!$B$3,10,8),"") -> 46668 | K7: =IF(MONTH(DATE('Übersicht'!$B$3,10,9))=10,DATE('Übersicht'!$B$3,10,9),"") -> 46669 | L7: =IF(MONTH(DATE('Übersicht'!$B$3,10,10))=10,DATE('Übersicht'!$B$3,10,10),"") -> 46670 | M7: =IF(MONTH(DATE('Übersicht'!$B$3,10,11))=10,DATE('Übersicht'!$B$3,10,11),"") -> 46671 | N7: =IF(MONTH(DATE('Übersicht'!$B$3,10,12))=10,DATE('Übersicht'!$B$3,10,12),"") -> 46672 | O7: =IF(MONTH(DATE('Übersicht'!$B$3,10,13))=10,DATE('Übersicht'!$B$3,10,13),"") -> 46673 | P7: =IF(MONTH(DATE('Übersicht'!$B$3,10,14))=10,DATE('Übersicht'!$B$3,10,14),"") -> 46674 | Q7: =IF(MONTH(DATE('Übersicht'!$B$3,10,15))=10,DATE('Übersicht'!$B$3,10,15),"") -> 46675 | R7: =IF(MONTH(DATE('Übersicht'!$B$3,10,16))=10,DATE('Übersicht'!$B$3,10,16),"") -> 46676 | S7: =IF(MONTH(DATE('Übersicht'!$B$3,10,17))=10,DATE('Übersicht'!$B$3,10,17),"") -> 46677 | T7: =IF(MONTH(DATE('Übersicht'!$B$3,10,18))=10,DATE('Übersicht'!$B$3,10,18),"") -> 46678 | U7: =IF(MONTH(DATE('Übersicht'!$B$3,10,19))=10,DATE('Übersicht'!$B$3,10,19),"") -> 46679 | V7: =IF(MONTH(DATE('Übersicht'!$B$3,10,20))=10,DATE('Übersicht'!$B$3,10,20),"") -> 46680 | W7: =IF(MONTH(DATE('Übersicht'!$B$3,10,21))=10,DATE('Übersicht'!$B$3,10,21),"") -> 46681 | X7: =IF(MONTH(DATE('Übersicht'!$B$3,10,22))=10,DATE('Übersicht'!$B$3,10,22),"") -> 46682 | Y7: =IF(MONTH(DATE('Übersicht'!$B$3,10,23))=10,DATE('Übersicht'!$B$3,10,23),"") -> 46683 | Z7: =IF(MONTH(DATE('Übersicht'!$B$3,10,24))=10,DATE('Übersicht'!$B$3,10,24),"") -> 46684 | AA7: =IF(MONTH(DATE('Übersicht'!$B$3,10,25))=10,DATE('Übersicht'!$B$3,10,25),"") -> 46685 | AB7: =IF(MONTH(DATE('Übersicht'!$B$3,10,26))=10,DATE('Übersicht'!$B$3,10,26),"") -> 46686 | AC7: =IF(MONTH(DATE('Übersicht'!$B$3,10,27))=10,DATE('Übersicht'!$B$3,10,27),"") -> 46687 | AD7: =IF(MONTH(DATE('Übersicht'!$B$3,10,28))=10,DATE('Übersicht'!$B$3,10,28),"") -> 46688 | AE7: =IF(MONTH(DATE('Übersicht'!$B$3,10,29))=10,DATE('Übersicht'!$B$3,10,29),"") -> 46689 | AF7: =IF(MONTH(DATE('Übersicht'!$B$3,10,30))=10,DATE('Übersicht'!$B$3,10,30),"") -> 46690 | AG7: =IF(MONTH(DATE('Übersicht'!$B$3,10,31))=10,DATE('Übersicht'!$B$3,10,31),"") -> 46691
A8: =IF('Übersicht'!$A$8="","",'Übersicht'!$A$8) -> Anna Becker | B8: =IF('Übersicht'!$B$8="","",'Übersicht'!$B$8) -> Service | AH8: =COUNTIF(C8:AG8,"U")+COUNTIF(C8:AG8,"H")/2 -> 0 | AI8: =COUNTIF(C8:AG8,"K") -> 0
A9: =IF('Übersicht'!$A$9="","",'Übersicht'!$A$9) -> Jonas Klein | B9: =IF('Übersicht'!$B$9="","",'Übersicht'!$B$9) -> Service | AH9: =COUNTIF(C9:AG9,"U")+COUNTIF(C9:AG9,"H")/2 -> 0 | AI9: =COUNTIF(C9:AG9,"K") -> 0
A10: =IF('Übersicht'!$A$10="","",'Übersicht'!$A$10) -> Lea Schmidt | B10: =IF('Übersicht'!$B$10="","",'Übersicht'!$B$10) -> Küche | AB10: U | AC10: U | AD10: U | AE10: U | AH10: =COUNTIF(C10:AG10,"U")+COUNTIF(C10:AG10,"H")/2 -> 4 | AI10: =COUNTIF(C10:AG10,"K") -> 0
A11: =IF('Übersicht'!$A$11="","",'Übersicht'!$A$11) -> David Meyer | B11: =IF('Übersicht'!$B$11="","",'Übersicht'!$B$11) -> Küche | AH11: =COUNTIF(C11:AG11,"U")+COUNTIF(C11:AG11,"H")/2 -> 0 | AI11: =COUNTIF(C11:AG11,"K") -> 0
A12: =IF('Übersicht'!$A$12="","",'Übersicht'!$A$12) -> Sophie Wagner | B12: =IF('Übersicht'!$B$12="","",'Übersicht'!$B$12) -> Theke | AH12: =COUNTIF(C12:AG12,"U")+COUNTIF(C12:AG12,"H")/2 -> 0 | AI12: =COUNTIF(C12:AG12,"K") -> 0
A13: =IF('Übersicht'!$A$13="","",'Übersicht'!$A$13) -> Ben Fischer | B13: =IF('Übersicht'!$B$13="","",'Übersicht'!$B$13) -> Aushilfe | AH13: =COUNTIF(C13:AG13,"U")+COUNTIF(C13:AG13,"H")/2 -> 0 | AI13: =COUNTIF(C13:AG13,"K") -> 0
A14: =IF('Übersicht'!$A$14="","",'Übersicht'!$A$14) | B14: =IF('Übersicht'!$B$14="","",'Übersicht'!$B$14) | AH14: =COUNTIF(C14:AG14,"U")+COUNTIF(C14:AG14,"H")/2 -> 0 | AI14: =COUNTIF(C14:AG14,"K") -> 0
A15: =IF('Übersicht'!$A$15="","",'Übersicht'!$A$15) | B15: =IF('Übersicht'!$B$15="","",'Übersicht'!$B$15) | AH15: =COUNTIF(C15:AG15,"U")+COUNTIF(C15:AG15,"H")/2 -> 0 | AI15: =COUNTIF(C15:AG15,"K") -> 0
A16: =IF('Übersicht'!$A$16="","",'Übersicht'!$A$16) | B16: =IF('Übersicht'!$B$16="","",'Übersicht'!$B$16) | AH16: =COUNTIF(C16:AG16,"U")+COUNTIF(C16:AG16,"H")/2 -> 0 | AI16: =COUNTIF(C16:AG16,"K") -> 0
A17: =IF('Übersicht'!$A$17="","",'Übersicht'!$A$17) | B17: =IF('Übersicht'!$B$17="","",'Übersicht'!$B$17) | AH17: =COUNTIF(C17:AG17,"U")+COUNTIF(C17:AG17,"H")/2 -> 0 | AI17: =COUNTIF(C17:AG17,"K") -> 0
A18: =IF('Übersicht'!$A$18="","",'Übersicht'!$A$18) | B18: =IF('Übersicht'!$B$18="","",'Übersicht'!$B$18) | AH18: =COUNTIF(C18:AG18,"U")+COUNTIF(C18:AG18,"H")/2 -> 0 | AI18: =COUNTIF(C18:AG18,"K") -> 0
A19: =IF('Übersicht'!$A$19="","",'Übersicht'!$A$19) | B19: =IF('Übersicht'!$B$19="","",'Übersicht'!$B$19) | AH19: =COUNTIF(C19:AG19,"U")+COUNTIF(C19:AG19,"H")/2 -> 0 | AI19: =COUNTIF(C19:AG19,"K") -> 0
A20: Abwesend | C20: =COUNTIF(C8:C19,"U")+COUNTIF(C8:C19,"H")+COUNTIF(C8:C19,"K") -> 0 | D20: =COUNTIF(D8:D19,"U")+COUNTIF(D8:D19,"H")+COUNTIF(D8:D19,"K") -> 0 | E20: =COUNTIF(E8:E19,"U")+COUNTIF(E8:E19,"H")+COUNTIF(E8:E19,"K") -> 0 | F20: =COUNTIF(F8:F19,"U")+COUNTIF(F8:F19,"H")+COUNTIF(F8:F19,"K") -> 0 | G20: =COUNTIF(G8:G19,"U")+COUNTIF(G8:G19,"H")+COUNTIF(G8:G19,"K") -> 0 | H20: =COUNTIF(H8:H19,"U")+COUNTIF(H8:H19,"H")+COUNTIF(H8:H19,"K") -> 0 | I20: =COUNTIF(I8:I19,"U")+COUNTIF(I8:I19,"H")+COUNTIF(I8:I19,"K") -> 0 | J20: =COUNTIF(J8:J19,"U")+COUNTIF(J8:J19,"H")+COUNTIF(J8:J19,"K") -> 0 | ... AG20: =COUNTIF(AG8:AG19,"U")+COUNTIF(AG8:AG19,"H")+COUNTIF(AG8:AG19,"K") -> 0 | AH20: ='Übersicht'!$B$4 -> 2
A22: U nur an Arbeitstagen eintragen: Wochenenden sind grau, Feiertage markieren Sie oben mit x. Urlaub (Tage) zählt U als ganzen und H als halben Tag, die Summe geht in die Übersicht. Rot in der Zeile Abwesend: an diesem Tag fehlen mehr Personen als auf der Übersicht erlaubt.

Sheet Nov
A1: Urlaubsplaner November 2027
A2: Kürzel je Tag: U Urlaub, H halber Urlaubstag, K krank. Feiertage und Betriebsruhe in der gelben Zeile oben mit x markieren. Namen und Jahr stehen auf dem Blatt Übersicht.
A4: Feiertag, Betriebsruhe (x)
A6: Mitarbeiter/in | B6: Abteilung | C6: =IF(ISNUMBER(C$7),CHOOSE(WEEKDAY(C$7),"So","Mo","Di","Mi","Do","Fr","Sa"),"") -> Mo | D6: =IF(ISNUMBER(D$7),CHOOSE(WEEKDAY(D$7),"So","Mo","Di","Mi","Do","Fr","Sa"),"") -> Di | E6: =IF(ISNUMBER(E$7),CHOOSE(WEEKDAY(E$7),"So","Mo","Di","Mi","Do","Fr","Sa"),"") -> Mi | F6: =IF(ISNUMBER(F$7),CHOOSE(WEEKDAY(F$7),"So","Mo","Di","Mi","Do","Fr","Sa"),"") -> Do | G6: =IF(ISNUMBER(G$7),CHOOSE(WEEKDAY(G$7),"So","Mo","Di","Mi","Do","Fr","Sa"),"") -> Fr | H6: =IF(ISNUMBER(H$7),CHOOSE(WEEKDAY(H$7),"So","Mo","Di","Mi","Do","Fr","Sa"),"") -> Sa | I6: =IF(ISNUMBER(I$7),CHOOSE(WEEKDAY(I$7),"So","Mo","Di","Mi","Do","Fr","Sa"),"") -> So | J6: =IF(ISNUMBER(J$7),CHOOSE(WEEKDAY(J$7),"So","Mo","Di","Mi","Do","Fr","Sa"),"") -> Mo | ... AG6: =IF(ISNUMBER(AG$7),CHOOSE(WEEKDAY(AG$7),"So","Mo","Di","Mi","Do","Fr","Sa"),"") | AH6: Urlaub (Tage) | AI6: Krank (Tage)
C7: =IF(MONTH(DATE('Übersicht'!$B$3,11,1))=11,DATE('Übersicht'!$B$3,11,1),"") -> 46692 | D7: =IF(MONTH(DATE('Übersicht'!$B$3,11,2))=11,DATE('Übersicht'!$B$3,11,2),"") -> 46693 | E7: =IF(MONTH(DATE('Übersicht'!$B$3,11,3))=11,DATE('Übersicht'!$B$3,11,3),"") -> 46694 | F7: =IF(MONTH(DATE('Übersicht'!$B$3,11,4))=11,DATE('Übersicht'!$B$3,11,4),"") -> 46695 | G7: =IF(MONTH(DATE('Übersicht'!$B$3,11,5))=11,DATE('Übersicht'!$B$3,11,5),"") -> 46696 | H7: =IF(MONTH(DATE('Übersicht'!$B$3,11,6))=11,DATE('Übersicht'!$B$3,11,6),"") -> 46697 | I7: =IF(MONTH(DATE('Übersicht'!$B$3,11,7))=11,DATE('Übersicht'!$B$3,11,7),"") -> 46698 | J7: =IF(MONTH(DATE('Übersicht'!$B$3,11,8))=11,DATE('Übersicht'!$B$3,11,8),"") -> 46699 | K7: =IF(MONTH(DATE('Übersicht'!$B$3,11,9))=11,DATE('Übersicht'!$B$3,11,9),"") -> 46700 | L7: =IF(MONTH(DATE('Übersicht'!$B$3,11,10))=11,DATE('Übersicht'!$B$3,11,10),"") -> 46701 | M7: =IF(MONTH(DATE('Übersicht'!$B$3,11,11))=11,DATE('Übersicht'!$B$3,11,11),"") -> 46702 | N7: =IF(MONTH(DATE('Übersicht'!$B$3,11,12))=11,DATE('Übersicht'!$B$3,11,12),"") -> 46703 | O7: =IF(MONTH(DATE('Übersicht'!$B$3,11,13))=11,DATE('Übersicht'!$B$3,11,13),"") -> 46704 | P7: =IF(MONTH(DATE('Übersicht'!$B$3,11,14))=11,DATE('Übersicht'!$B$3,11,14),"") -> 46705 | Q7: =IF(MONTH(DATE('Übersicht'!$B$3,11,15))=11,DATE('Übersicht'!$B$3,11,15),"") -> 46706 | R7: =IF(MONTH(DATE('Übersicht'!$B$3,11,16))=11,DATE('Übersicht'!$B$3,11,16),"") -> 46707 | S7: =IF(MONTH(DATE('Übersicht'!$B$3,11,17))=11,DATE('Übersicht'!$B$3,11,17),"") -> 46708 | T7: =IF(MONTH(DATE('Übersicht'!$B$3,11,18))=11,DATE('Übersicht'!$B$3,11,18),"") -> 46709 | U7: =IF(MONTH(DATE('Übersicht'!$B$3,11,19))=11,DATE('Übersicht'!$B$3,11,19),"") -> 46710 | V7: =IF(MONTH(DATE('Übersicht'!$B$3,11,20))=11,DATE('Übersicht'!$B$3,11,20),"") -> 46711 | W7: =IF(MONTH(DATE('Übersicht'!$B$3,11,21))=11,DATE('Übersicht'!$B$3,11,21),"") -> 46712 | X7: =IF(MONTH(DATE('Übersicht'!$B$3,11,22))=11,DATE('Übersicht'!$B$3,11,22),"") -> 46713 | Y7: =IF(MONTH(DATE('Übersicht'!$B$3,11,23))=11,DATE('Übersicht'!$B$3,11,23),"") -> 46714 | Z7: =IF(MONTH(DATE('Übersicht'!$B$3,11,24))=11,DATE('Übersicht'!$B$3,11,24),"") -> 46715 | AA7: =IF(MONTH(DATE('Übersicht'!$B$3,11,25))=11,DATE('Übersicht'!$B$3,11,25),"") -> 46716 | AB7: =IF(MONTH(DATE('Übersicht'!$B$3,11,26))=11,DATE('Übersicht'!$B$3,11,26),"") -> 46717 | AC7: =IF(MONTH(DATE('Übersicht'!$B$3,11,27))=11,DATE('Übersicht'!$B$3,11,27),"") -> 46718 | AD7: =IF(MONTH(DATE('Übersicht'!$B$3,11,28))=11,DATE('Übersicht'!$B$3,11,28),"") -> 46719 | AE7: =IF(MONTH(DATE('Übersicht'!$B$3,11,29))=11,DATE('Übersicht'!$B$3,11,29),"") -> 46720 | AF7: =IF(MONTH(DATE('Übersicht'!$B$3,11,30))=11,DATE('Übersicht'!$B$3,11,30),"") -> 46721 | AG7: =IF(MONTH(DATE('Übersicht'!$B$3,11,31))=11,DATE('Übersicht'!$B$3,11,31),"")
A8: =IF('Übersicht'!$A$8="","",'Übersicht'!$A$8) -> Anna Becker | B8: =IF('Übersicht'!$B$8="","",'Übersicht'!$B$8) -> Service | AH8: =COUNTIF(C8:AG8,"U")+COUNTIF(C8:AG8,"H")/2 -> 0 | AI8: =COUNTIF(C8:AG8,"K") -> 0
A9: =IF('Übersicht'!$A$9="","",'Übersicht'!$A$9) -> Jonas Klein | B9: =IF('Übersicht'!$B$9="","",'Übersicht'!$B$9) -> Service | AH9: =COUNTIF(C9:AG9,"U")+COUNTIF(C9:AG9,"H")/2 -> 0 | AI9: =COUNTIF(C9:AG9,"K") -> 0
A10: =IF('Übersicht'!$A$10="","",'Übersicht'!$A$10) -> Lea Schmidt | B10: =IF('Übersicht'!$B$10="","",'Übersicht'!$B$10) -> Küche | AH10: =COUNTIF(C10:AG10,"U")+COUNTIF(C10:AG10,"H")/2 -> 0 | AI10: =COUNTIF(C10:AG10,"K") -> 0
A11: =IF('Übersicht'!$A$11="","",'Übersicht'!$A$11) -> David Meyer | B11: =IF('Übersicht'!$B$11="","",'Übersicht'!$B$11) -> Küche | AH11: =COUNTIF(C11:AG11,"U")+COUNTIF(C11:AG11,"H")/2 -> 0 | AI11: =COUNTIF(C11:AG11,"K") -> 0
A12: =IF('Übersicht'!$A$12="","",'Übersicht'!$A$12) -> Sophie Wagner | B12: =IF('Übersicht'!$B$12="","",'Übersicht'!$B$12) -> Theke | AH12: =COUNTIF(C12:AG12,"U")+COUNTIF(C12:AG12,"H")/2 -> 0 | AI12: =COUNTIF(C12:AG12,"K") -> 0
A13: =IF('Übersicht'!$A$13="","",'Übersicht'!$A$13) -> Ben Fischer | B13: =IF('Übersicht'!$B$13="","",'Übersicht'!$B$13) -> Aushilfe | AH13: =COUNTIF(C13:AG13,"U")+COUNTIF(C13:AG13,"H")/2 -> 0 | AI13: =COUNTIF(C13:AG13,"K") -> 0
A14: =IF('Übersicht'!$A$14="","",'Übersicht'!$A$14) | B14: =IF('Übersicht'!$B$14="","",'Übersicht'!$B$14) | AH14: =COUNTIF(C14:AG14,"U")+COUNTIF(C14:AG14,"H")/2 -> 0 | AI14: =COUNTIF(C14:AG14,"K") -> 0
A15: =IF('Übersicht'!$A$15="","",'Übersicht'!$A$15) | B15: =IF('Übersicht'!$B$15="","",'Übersicht'!$B$15) | AH15: =COUNTIF(C15:AG15,"U")+COUNTIF(C15:AG15,"H")/2 -> 0 | AI15: =COUNTIF(C15:AG15,"K") -> 0
A16: =IF('Übersicht'!$A$16="","",'Übersicht'!$A$16) | B16: =IF('Übersicht'!$B$16="","",'Übersicht'!$B$16) | AH16: =COUNTIF(C16:AG16,"U")+COUNTIF(C16:AG16,"H")/2 -> 0 | AI16: =COUNTIF(C16:AG16,"K") -> 0
A17: =IF('Übersicht'!$A$17="","",'Übersicht'!$A$17) | B17: =IF('Übersicht'!$B$17="","",'Übersicht'!$B$17) | AH17: =COUNTIF(C17:AG17,"U")+COUNTIF(C17:AG17,"H")/2 -> 0 | AI17: =COUNTIF(C17:AG17,"K") -> 0
A18: =IF('Übersicht'!$A$18="","",'Übersicht'!$A$18) | B18: =IF('Übersicht'!$B$18="","",'Übersicht'!$B$18) | AH18: =COUNTIF(C18:AG18,"U")+COUNTIF(C18:AG18,"H")/2 -> 0 | AI18: =COUNTIF(C18:AG18,"K") -> 0
A19: =IF('Übersicht'!$A$19="","",'Übersicht'!$A$19) | B19: =IF('Übersicht'!$B$19="","",'Übersicht'!$B$19) | AH19: =COUNTIF(C19:AG19,"U")+COUNTIF(C19:AG19,"H")/2 -> 0 | AI19: =COUNTIF(C19:AG19,"K") -> 0
A20: Abwesend | C20: =COUNTIF(C8:C19,"U")+COUNTIF(C8:C19,"H")+COUNTIF(C8:C19,"K") -> 0 | D20: =COUNTIF(D8:D19,"U")+COUNTIF(D8:D19,"H")+COUNTIF(D8:D19,"K") -> 0 | E20: =COUNTIF(E8:E19,"U")+COUNTIF(E8:E19,"H")+COUNTIF(E8:E19,"K") -> 0 | F20: =COUNTIF(F8:F19,"U")+COUNTIF(F8:F19,"H")+COUNTIF(F8:F19,"K") -> 0 | G20: =COUNTIF(G8:G19,"U")+COUNTIF(G8:G19,"H")+COUNTIF(G8:G19,"K") -> 0 | H20: =COUNTIF(H8:H19,"U")+COUNTIF(H8:H19,"H")+COUNTIF(H8:H19,"K") -> 0 | I20: =COUNTIF(I8:I19,"U")+COUNTIF(I8:I19,"H")+COUNTIF(I8:I19,"K") -> 0 | J20: =COUNTIF(J8:J19,"U")+COUNTIF(J8:J19,"H")+COUNTIF(J8:J19,"K") -> 0 | ... AG20: =COUNTIF(AG8:AG19,"U")+COUNTIF(AG8:AG19,"H")+COUNTIF(AG8:AG19,"K") -> 0 | AH20: ='Übersicht'!$B$4 -> 2
A22: U nur an Arbeitstagen eintragen: Wochenenden sind grau, Feiertage markieren Sie oben mit x. Urlaub (Tage) zählt U als ganzen und H als halben Tag, die Summe geht in die Übersicht. Rot in der Zeile Abwesend: an diesem Tag fehlen mehr Personen als auf der Übersicht erlaubt.

Sheet Dez
A1: Urlaubsplaner Dezember 2027
A2: Kürzel je Tag: U Urlaub, H halber Urlaubstag, K krank. Feiertage und Betriebsruhe in der gelben Zeile oben mit x markieren. Namen und Jahr stehen auf dem Blatt Übersicht.
A4: Feiertag, Betriebsruhe (x)
A6: Mitarbeiter/in | B6: Abteilung | C6: =IF(ISNUMBER(C$7),CHOOSE(WEEKDAY(C$7),"So","Mo","Di","Mi","Do","Fr","Sa"),"") -> Mi | D6: =IF(ISNUMBER(D$7),CHOOSE(WEEKDAY(D$7),"So","Mo","Di","Mi","Do","Fr","Sa"),"") -> Do | E6: =IF(ISNUMBER(E$7),CHOOSE(WEEKDAY(E$7),"So","Mo","Di","Mi","Do","Fr","Sa"),"") -> Fr | F6: =IF(ISNUMBER(F$7),CHOOSE(WEEKDAY(F$7),"So","Mo","Di","Mi","Do","Fr","Sa"),"") -> Sa | G6: =IF(ISNUMBER(G$7),CHOOSE(WEEKDAY(G$7),"So","Mo","Di","Mi","Do","Fr","Sa"),"") -> So | H6: =IF(ISNUMBER(H$7),CHOOSE(WEEKDAY(H$7),"So","Mo","Di","Mi","Do","Fr","Sa"),"") -> Mo | I6: =IF(ISNUMBER(I$7),CHOOSE(WEEKDAY(I$7),"So","Mo","Di","Mi","Do","Fr","Sa"),"") -> Di | J6: =IF(ISNUMBER(J$7),CHOOSE(WEEKDAY(J$7),"So","Mo","Di","Mi","Do","Fr","Sa"),"") -> Mi | ... AG6: =IF(ISNUMBER(AG$7),CHOOSE(WEEKDAY(AG$7),"So","Mo","Di","Mi","Do","Fr","Sa"),"") -> Fr | AH6: Urlaub (Tage) | AI6: Krank (Tage)
C7: =IF(MONTH(DATE('Übersicht'!$B$3,12,1))=12,DATE('Übersicht'!$B$3,12,1),"") -> 46722 | D7: =IF(MONTH(DATE('Übersicht'!$B$3,12,2))=12,DATE('Übersicht'!$B$3,12,2),"") -> 46723 | E7: =IF(MONTH(DATE('Übersicht'!$B$3,12,3))=12,DATE('Übersicht'!$B$3,12,3),"") -> 46724 | F7: =IF(MONTH(DATE('Übersicht'!$B$3,12,4))=12,DATE('Übersicht'!$B$3,12,4),"") -> 46725 | G7: =IF(MONTH(DATE('Übersicht'!$B$3,12,5))=12,DATE('Übersicht'!$B$3,12,5),"") -> 46726 | H7: =IF(MONTH(DATE('Übersicht'!$B$3,12,6))=12,DATE('Übersicht'!$B$3,12,6),"") -> 46727 | I7: =IF(MONTH(DATE('Übersicht'!$B$3,12,7))=12,DATE('Übersicht'!$B$3,12,7),"") -> 46728 | J7: =IF(MONTH(DATE('Übersicht'!$B$3,12,8))=12,DATE('Übersicht'!$B$3,12,8),"") -> 46729 | K7: =IF(MONTH(DATE('Übersicht'!$B$3,12,9))=12,DATE('Übersicht'!$B$3,12,9),"") -> 46730 | L7: =IF(MONTH(DATE('Übersicht'!$B$3,12,10))=12,DATE('Übersicht'!$B$3,12,10),"") -> 46731 | M7: =IF(MONTH(DATE('Übersicht'!$B$3,12,11))=12,DATE('Übersicht'!$B$3,12,11),"") -> 46732 | N7: =IF(MONTH(DATE('Übersicht'!$B$3,12,12))=12,DATE('Übersicht'!$B$3,12,12),"") -> 46733 | O7: =IF(MONTH(DATE('Übersicht'!$B$3,12,13))=12,DATE('Übersicht'!$B$3,12,13),"") -> 46734 | P7: =IF(MONTH(DATE('Übersicht'!$B$3,12,14))=12,DATE('Übersicht'!$B$3,12,14),"") -> 46735 | Q7: =IF(MONTH(DATE('Übersicht'!$B$3,12,15))=12,DATE('Übersicht'!$B$3,12,15),"") -> 46736 | R7: =IF(MONTH(DATE('Übersicht'!$B$3,12,16))=12,DATE('Übersicht'!$B$3,12,16),"") -> 46737 | S7: =IF(MONTH(DATE('Übersicht'!$B$3,12,17))=12,DATE('Übersicht'!$B$3,12,17),"") -> 46738 | T7: =IF(MONTH(DATE('Übersicht'!$B$3,12,18))=12,DATE('Übersicht'!$B$3,12,18),"") -> 46739 | U7: =IF(MONTH(DATE('Übersicht'!$B$3,12,19))=12,DATE('Übersicht'!$B$3,12,19),"") -> 46740 | V7: =IF(MONTH(DATE('Übersicht'!$B$3,12,20))=12,DATE('Übersicht'!$B$3,12,20),"") -> 46741 | W7: =IF(MONTH(DATE('Übersicht'!$B$3,12,21))=12,DATE('Übersicht'!$B$3,12,21),"") -> 46742 | X7: =IF(MONTH(DATE('Übersicht'!$B$3,12,22))=12,DATE('Übersicht'!$B$3,12,22),"") -> 46743 | Y7: =IF(MONTH(DATE('Übersicht'!$B$3,12,23))=12,DATE('Übersicht'!$B$3,12,23),"") -> 46744 | Z7: =IF(MONTH(DATE('Übersicht'!$B$3,12,24))=12,DATE('Übersicht'!$B$3,12,24),"") -> 46745 | AA7: =IF(MONTH(DATE('Übersicht'!$B$3,12,25))=12,DATE('Übersicht'!$B$3,12,25),"") -> 46746 | AB7: =IF(MONTH(DATE('Übersicht'!$B$3,12,26))=12,DATE('Übersicht'!$B$3,12,26),"") -> 46747 | AC7: =IF(MONTH(DATE('Übersicht'!$B$3,12,27))=12,DATE('Übersicht'!$B$3,12,27),"") -> 46748 | AD7: =IF(MONTH(DATE('Übersicht'!$B$3,12,28))=12,DATE('Übersicht'!$B$3,12,28),"") -> 46749 | AE7: =IF(MONTH(DATE('Übersicht'!$B$3,12,29))=12,DATE('Übersicht'!$B$3,12,29),"") -> 46750 | AF7: =IF(MONTH(DATE('Übersicht'!$B$3,12,30))=12,DATE('Übersicht'!$B$3,12,30),"") -> 46751 | AG7: =IF(MONTH(DATE('Übersicht'!$B$3,12,31))=12,DATE('Übersicht'!$B$3,12,31),"") -> 46752
A8: =IF('Übersicht'!$A$8="","",'Übersicht'!$A$8) -> Anna Becker | B8: =IF('Übersicht'!$B$8="","",'Übersicht'!$B$8) -> Service | W8: U | X8: U | Y8: U | AH8: =COUNTIF(C8:AG8,"U")+COUNTIF(C8:AG8,"H")/2 -> 3 | AI8: =COUNTIF(C8:AG8,"K") -> 0
A9: =IF('Übersicht'!$A$9="","",'Übersicht'!$A$9) -> Jonas Klein | B9: =IF('Übersicht'!$B$9="","",'Übersicht'!$B$9) -> Service | AH9: =COUNTIF(C9:AG9,"U")+COUNTIF(C9:AG9,"H")/2 -> 0 | AI9: =COUNTIF(C9:AG9,"K") -> 0
A10: =IF('Übersicht'!$A$10="","",'Übersicht'!$A$10) -> Lea Schmidt | B10: =IF('Übersicht'!$B$10="","",'Übersicht'!$B$10) -> Küche | AD10: U | AE10: U | AF10: U | AH10: =COUNTIF(C10:AG10,"U")+COUNTIF(C10:AG10,"H")/2 -> 3 | AI10: =COUNTIF(C10:AG10,"K") -> 0
A11: =IF('Übersicht'!$A$11="","",'Übersicht'!$A$11) -> David Meyer | B11: =IF('Übersicht'!$B$11="","",'Übersicht'!$B$11) -> Küche | AH11: =COUNTIF(C11:AG11,"U")+COUNTIF(C11:AG11,"H")/2 -> 0 | AI11: =COUNTIF(C11:AG11,"K") -> 0
A12: =IF('Übersicht'!$A$12="","",'Übersicht'!$A$12) -> Sophie Wagner | B12: =IF('Übersicht'!$B$12="","",'Übersicht'!$B$12) -> Theke | Z12: H | AH12: =COUNTIF(C12:AG12,"U")+COUNTIF(C12:AG12,"H")/2 -> 0.5 | AI12: =COUNTIF(C12:AG12,"K") -> 0
A13: =IF('Übersicht'!$A$13="","",'Übersicht'!$A$13) -> Ben Fischer | B13: =IF('Übersicht'!$B$13="","",'Übersicht'!$B$13) -> Aushilfe | AH13: =COUNTIF(C13:AG13,"U")+COUNTIF(C13:AG13,"H")/2 -> 0 | AI13: =COUNTIF(C13:AG13,"K") -> 0
A14: =IF('Übersicht'!$A$14="","",'Übersicht'!$A$14) | B14: =IF('Übersicht'!$B$14="","",'Übersicht'!$B$14) | AH14: =COUNTIF(C14:AG14,"U")+COUNTIF(C14:AG14,"H")/2 -> 0 | AI14: =COUNTIF(C14:AG14,"K") -> 0
A15: =IF('Übersicht'!$A$15="","",'Übersicht'!$A$15) | B15: =IF('Übersicht'!$B$15="","",'Übersicht'!$B$15) | AH15: =COUNTIF(C15:AG15,"U")+COUNTIF(C15:AG15,"H")/2 -> 0 | AI15: =COUNTIF(C15:AG15,"K") -> 0
A16: =IF('Übersicht'!$A$16="","",'Übersicht'!$A$16) | B16: =IF('Übersicht'!$B$16="","",'Übersicht'!$B$16) | AH16: =COUNTIF(C16:AG16,"U")+COUNTIF(C16:AG16,"H")/2 -> 0 | AI16: =COUNTIF(C16:AG16,"K") -> 0
A17: =IF('Übersicht'!$A$17="","",'Übersicht'!$A$17) | B17: =IF('Übersicht'!$B$17="","",'Übersicht'!$B$17) | AH17: =COUNTIF(C17:AG17,"U")+COUNTIF(C17:AG17,"H")/2 -> 0 | AI17: =COUNTIF(C17:AG17,"K") -> 0
A18: =IF('Übersicht'!$A$18="","",'Übersicht'!$A$18) | B18: =IF('Übersicht'!$B$18="","",'Übersicht'!$B$18) | AH18: =COUNTIF(C18:AG18,"U")+COUNTIF(C18:AG18,"H")/2 -> 0 | AI18: =COUNTIF(C18:AG18,"K") -> 0
A19: =IF('Übersicht'!$A$19="","",'Übersicht'!$A$19) | B19: =IF('Übersicht'!$B$19="","",'Übersicht'!$B$19) | AH19: =COUNTIF(C19:AG19,"U")+COUNTIF(C19:AG19,"H")/2 -> 0 | AI19: =COUNTIF(C19:AG19,"K") -> 0
A20: Abwesend | C20: =COUNTIF(C8:C19,"U")+COUNTIF(C8:C19,"H")+COUNTIF(C8:C19,"K") -> 0 | D20: =COUNTIF(D8:D19,"U")+COUNTIF(D8:D19,"H")+COUNTIF(D8:D19,"K") -> 0 | E20: =COUNTIF(E8:E19,"U")+COUNTIF(E8:E19,"H")+COUNTIF(E8:E19,"K") -> 0 | F20: =COUNTIF(F8:F19,"U")+COUNTIF(F8:F19,"H")+COUNTIF(F8:F19,"K") -> 0 | G20: =COUNTIF(G8:G19,"U")+COUNTIF(G8:G19,"H")+COUNTIF(G8:G19,"K") -> 0 | H20: =COUNTIF(H8:H19,"U")+COUNTIF(H8:H19,"H")+COUNTIF(H8:H19,"K") -> 0 | I20: =COUNTIF(I8:I19,"U")+COUNTIF(I8:I19,"H")+COUNTIF(I8:I19,"K") -> 0 | J20: =COUNTIF(J8:J19,"U")+COUNTIF(J8:J19,"H")+COUNTIF(J8:J19,"K") -> 0 | ... AG20: =COUNTIF(AG8:AG19,"U")+COUNTIF(AG8:AG19,"H")+COUNTIF(AG8:AG19,"K") -> 0 | AH20: ='Übersicht'!$B$4 -> 2
A22: U nur an Arbeitstagen eintragen: Wochenenden sind grau, Feiertage markieren Sie oben mit x. Urlaub (Tage) zählt U als ganzen und H als halben Tag, die Summe geht in die Übersicht. Rot in der Zeile Abwesend: an diesem Tag fehlen mehr Personen als auf der Übersicht erlaubt.
